{"text_format":"1","workbook":"xlsx","n_sheets":16,"sheets":["Présentation","Sommaire","Méthodologie","Définitions","Cadrage","Finance","Chômage","Formation","Logement","Santé générale","Accès aux soins","Offre de soins","Hospitalisations","Mortalité","Admissions en ALD","Inscriptions en ALD"],"not_rendered":{"charts":0,"images":3,"macros":1,"external_links":0,"defined_names":2,"comments":0,"pivot_tables":0},"unopened":[],"bounds":{"document_bytes":16777216,"sheet_cells":100000,"rows_first":2000,"rows_last":500,"rows_between":2000,"halvings":0,"cell_chars":16384,"cell_head_chars":4096},"cells_cut":0,"cells_raw":0,"read":"whole","date_system":"1900"}

{"sheet":"Présentation","index":0,"n_rows":27,"n_cols":3,"rows_kept":27,"cut":false,"hidden":false,"merged":[[25,1,25,2],[26,1,26,2],[19,1,19,2],[20,1,20,2],[22,1,22,2],[0,2,0,3],[23,1,23,2],[24,1,24,2],[12,1,12,2],[13,1,13,2],[14,1,14,2],[16,1,16,2],[17,1,17,2],[18,1,18,2],[11,1,11,2],[15,1,15,2]]}
[]
[]
[null,null,"Indicateur Santé Social"]
[null,null,"à La Réunion"]
[]
[]
[]
[]
[]
[]
[]
[null,"Dans le cadre du groupe de travail \"Indicateurs Santé-Social\", l'ORS Océan Indien a été chargé de poursuivre l'actualisation des indicateurs Santé-Social à l'échelon communal et régional et par micro-région, dont la 1ère diffusion sous ce format a eu lieu en septembre 2011."]
[]
[null,"OBJECTIF"]
[]
[null,"Ce travail a pour objectif de mettre à disposition un fichier de données  rassemblant les indicateurs Santé-Social sur différentes thématiques (Cadrage, Finance, Chômage, Formation et Santé) à l'échelon des communal, régional et par micro-régions."]
[]
[]
[null,"PRESENTATION DU DOCUMENT"]
[]
[null,"Le fichier de données est organisé autour de 6 grandes thématiques."]
[]
[null,"Un onglet \"Sommaire\" reprenant la liste des indicateurs : thématique, descriptif de l'indicateur, dernière année disponible, source"]
[]
[null,"Un onglet \"Méthodologie\" recense les producteurs de données et décrit les principales sources utilisées et les méthodes de calculs des indicateurs (taux bruts, taux standardisés,…)."]
[]
[null,"Un onglet \"Définitions\" reprend les principales définitions des indicateurs et concepts présentés dans ce document."]

{"sheet":"Sommaire","index":1,"n_rows":265,"n_cols":6,"rows_kept":265,"cut":false,"hidden":false,"merged":[[0,2,0,4],[2,0,2,4],[194,7,194,8]]}
[]
[]
[]
[]
[]
[]
[]
[]
[]
[]
[]
[]
[]
[]
[]
[]
[]
[]
[]
[]
[]
[]
[]
[]
[]
[]
[]
[]
[]
[]
[]
[null,"THEMATIQUE","DESCRIPTIF DE L'INDICATEUR","ANNEE/PERIODE","SOURCES","LIEN"]
[null,"01. Cadrage","Population totale",2016,"Insee, Recencement de la population","https://www.insee.fr/fr/information/2008354"]
[null,"01. Cadrage","Population 0-14 ans",2016,"Insee, Recencement de la population","https://www.insee.fr/fr/information/2008355"]
[null,"01. Cadrage","Population 15-29 ans",2016,"Insee, Recencement de la population","https://www.insee.fr/fr/information/2008356"]
[null,"01. Cadrage","Population 30-44 ans",2016,"Insee, Recencement de la population","https://www.insee.fr/fr/information/2008357"]
[null,"01. Cadrage","Population 45-59 ans",2016,"Insee, Recencement de la population","https://www.insee.fr/fr/information/2008358"]
[null,"01. Cadrage","Population 60-74 ans",2016,"Insee, Recencement de la population","https://www.insee.fr/fr/information/2008359"]
[null,"01. Cadrage","Population 75 ans ou plus",2016,"Insee, Recencement de la population","https://www.insee.fr/fr/information/2008360"]
[null,"01. Cadrage","Population Hommes",2016,"Insee, Recencement de la population","https://www.insee.fr/fr/information/2008361"]
[null,"01. Cadrage","Population Hommes 0-14 ans",2016,"Insee, Recencement de la population","https://www.insee.fr/fr/information/2008362"]
[null,"01. Cadrage","Population Hommes 15-29 ans",2016,"Insee, Recencement de la population","https://www.insee.fr/fr/information/2008363"]
[null,"01. Cadrage","Population Hommes 30-44 ans",2016,"Insee, Recencement de la population","https://www.insee.fr/fr/information/2008364"]
[null,"01. Cadrage","Population Hommes 45-59 ans",2016,"Insee, Recencement de la population","https://www.insee.fr/fr/information/2008365"]
[null,"01. Cadrage","Population Hommes 60-74 ans",2016,"Insee, Recencement de la population","https://www.insee.fr/fr/information/2008366"]
[null,"01. Cadrage","Population Hommes 75 ans ou plus",2016,"Insee, Recencement de la population","https://www.insee.fr/fr/information/2008367"]
[null,"01. Cadrage","Population Femmes",2016,"Insee, Recencement de la population","https://www.insee.fr/fr/information/2008368"]
[null,"01. Cadrage","Population Femmes 0-14 ans",2016,"Insee, Recencement de la population","https://www.insee.fr/fr/information/2008369"]
[null,"01. Cadrage","Population Femmes 15-29 ans",2016,"Insee, Recencement de la population","https://www.insee.fr/fr/information/2008370"]
[null,"01. Cadrage","Population Femmes 30-44 ans",2016,"Insee, Recencement de la population","https://www.insee.fr/fr/information/2008371"]
[null,"01. Cadrage","Population Femmes 45-59 ans",2016,"Insee, Recencement de la population","https://www.insee.fr/fr/information/2008372"]
[null,"01. Cadrage","Population Femmes 60-74 ans",2016,"Insee, Recencement de la population","https://www.insee.fr/fr/information/2008373"]
[null,"01. Cadrage","Population Femmes 75 ans ou plus",2016,"Insee, Recencement de la population","https://www.insee.fr/fr/information/2008374"]
[null,"01. Cadrage","Nombre de naissances domiciliées",2018,"INSEE, Etat-Civil"]
[null,"01. Cadrage","Nombre de décès domiciliés",2018,"INSEE, Etat-Civil"]
[null,"02. Précarité Financière","Nombre de bénéficiaires de l'APA à domicile au 1er janvier",2019,"Conseil Départemental de La Réunion"]
[null,"02. Précarité Financière","Nombre de bénéficiaires de l'APA en établissement au 1er janvier",2019,"Conseil Départemental de La Réunion"]
[null,"02. Précarité Financière","Nombre de bénéficiaires de l'APA en famille d'accueil au 1er janvier",2019,"Conseil Départemental de La Réunion"]
[null,"02. Précarité Financière","Nombre de bénéficiaires de l'APA au 1er janvier",2019,"Conseil Départemental de La Réunion"]
[null,"02. Précarité Financière","Part de bénéficiaires de l'APA au 1er janvier pour 100 habitants de 60 ans et plus",2019,"Conseil Départemental de La Réunion, Insee"]
[null,"02. Précarité Financière","Nombre d'allocataires d'au moins un minimum social (RSA socle et/ou RSO et/ou AAH et/ou complément AAH sans AAH) au 1er janvier",2019,"CAF Réunion","http://www.caf.fr/partenaires/caf-de-la-reunion/partenaires-locaux/les-statistiques-etudes-et-publications-de-la-caf-de-la-reunion"]
[null,"02. Précarité Financière","Part d'allocataires d'au moins un minimum social (RSA socle et/ou RSO et/ou AAH et/ou complément AAH sans AAH) au 1er janvier pour 100 ménages",2019,"CAF Réunion, Insee"]
[null,"02. Précarité Financière","Nombre de personnes couvertes par au moins un minimum social (RSA socle et/ou RSO et/ou AAH et/ou complément AAH sans AAH) au 1er janvier",2019,"CAF Réunion","http://www.caf.fr/partenaires/caf-de-la-reunion/partenaires-locaux/les-statistiques-etudes-et-publications-de-la-caf-de-la-reunion"]
[null,"02. Précarité Financière","Taux de personnes couvertes par au moins un minimum social (RSA socle et/ou RSO et/ou AAH et/ou complément AAH sans AAH) au 1er janvier pour 100 habitants",2019,"CAF Réunion, Insee"]
[null,"02. Précarité Financière","Nombre d'allocataires du RSA (socle et/ou activité) au 1er janvier",2019,"CAF Réunion","http://www.caf.fr/partenaires/caf-de-la-reunion/partenaires-locaux/les-statistiques-etudes-et-publications-de-la-caf-de-la-reunion"]
[null,"02. Précarité Financière","Part d'allocataires du RSA (socle et/ou activité) au 1er janvier pour 100 habitants de 25 à 59 ans",2019,"CAF Réunion, Insee"]
[null,"02. Précarité Financière","Nombre de personnes couvertes par le RSA (socle et/ou activité) au 1er janvier",2019,"CAF Réunion","http://www.caf.fr/partenaires/caf-de-la-reunion/partenaires-locaux/les-statistiques-etudes-et-publications-de-la-caf-de-la-reunion"]
[null,"02. Précarité Financière","Part de personnes couvertes par le RSA (socle et/ou activité) au 1er janvier pour 100 habitants",2019,"CAF Réunion, Insee"]
[null,"02. Précarité Financière","Nombre d'allocataires du RSO au 1er janvier",2019,"CAF Réunion","http://www.caf.fr/partenaires/caf-de-la-reunion/partenaires-locaux/les-statistiques-etudes-et-publications-de-la-caf-de-la-reunion"]
[null,"02. Précarité Financière","Part d'allocataires du RSO au 1er janvier pour 100 habitants de 55 ans et plus",2019,"CAF Réunion, Insee"]
[null,"02. Précarité Financière","Nombre de personnes couvertes par le RSO au 1er janvier",2019,"CAF Réunion","http://www.caf.fr/partenaires/caf-de-la-reunion/partenaires-locaux/les-statistiques-etudes-et-publications-de-la-caf-de-la-reunion"]
[null,"02. Précarité Financière","Part de personnes couvertes par le RSO au 1er janvier pour 100 habitants de 55 ans et plus",2019,"CAF Réunion, Insee"]
[null,"02. Précarité Financière","Nombre d'allocataires de l'AAH au 1er janvier",2019,"CAF Réunion","http://www.caf.fr/partenaires/caf-de-la-reunion/partenaires-locaux/les-statistiques-etudes-et-publications-de-la-caf-de-la-reunion"]
[null,"02. Précarité Financière","Part d'allocataires de l'AAH au 1er janvier pour 100 habitants de 20 à 59 ans",2019,"CAF Réunion, Insee"]
[null,"02. Précarité Financière","Nombre de personnes couvertes par l'AAH au 1er janvier",2019,"CAF Réunion","http://www.caf.fr/partenaires/caf-de-la-reunion/partenaires-locaux/les-statistiques-etudes-et-publications-de-la-caf-de-la-reunion"]
[null,"02. Précarité Financière","Part de personnes couvertes par l'AAH au 1er janvier pour 100 habitants de 20 à 59 ans",2019,"CAF Réunion, Insee"]
[null,"02. Précarité Financière","Nombre de bénéficiaires du minimum vieillesse (régime général et régime agricole) au 1er janvier",2019,"CGSS de La Réunion"]
[null,"02. Précarité Financière","Part de bénéficiaires du minimum vieillesse (régime général et régime agricole) au 1er janvier pour 100 habitants de 60 ans et plus",2019,"CGSS de La Réunion, Insee"]
[null,"03. Chômage et Emploi","Demandeurs d’emploi inscrits en fin de mois à Pôle emploi de catégories A et B au 1er janvier",2019,"Pôle emploi - STMT, Données brutes","https://statistiques.pole-emploi.org/stmt/defm?ff=A,B&fh=2&fi=04&lb=0&nk=0&pp=201812&ss=1"]
[null,"03. Chômage et Emploi","Demandeurs d’emploi en fin de mois de catégories AB de moins de 25 ans au 1er janvier",2019,"Pôle emploi - STMT, Données brutes","https://statistiques.pole-emploi.org/stmt/defm?ff=A,B&fh=2&fi=04&lb=0&nk=0&pp=201812&ss=2"]
[null,"03. Chômage et Emploi","Demandeurs d’emploi en fin de mois de catégories AB de 25 à 49 ans au 1er janvier",2019,"Pôle emploi - STMT, Données brutes","https://statistiques.pole-emploi.org/stmt/defm?ff=A,B&fh=2&fi=04&lb=0&nk=0&pp=201812&ss=3"]
[null,"03. Chômage et Emploi","Demandeurs d’emploi en fin de mois de catégories AB de 50 ans ou plus au 1er janvier",2019,"Pôle emploi - STMT, Données brutes","https://statistiques.pole-emploi.org/stmt/defm?ff=A,B&fh=2&fi=04&lb=0&nk=0&pp=201812&ss=4"]
[null,"03. Chômage et Emploi","Demandeurs d’emploi en fin de mois de catégories AB hommes au 1er janvier",2019,"Pôle emploi - STMT, Données brutes","https://statistiques.pole-emploi.org/stmt/defm?ff=A,B&fh=2&fi=04&lb=0&nk=0&pp=201812&ss=5"]
[null,"03. Chômage et Emploi","Demandeurs d’emploi en fin de mois de catégories AB hommes de 15 à 24 ans au 1er janvier",2019,"Pôle emploi - STMT, Données brutes","https://statistiques.pole-emploi.org/stmt/defm?ff=A,B&fh=2&fi=04&lb=0&nk=0&pp=201812&ss=6"]
[null,"03. Chômage et Emploi","Demandeurs d’emploi en fin de mois de catégories AB hommes de 25 à 49 ans au 1er janvier",2019,"Pôle emploi - STMT, Données brutes","https://statistiques.pole-emploi.org/stmt/defm?ff=A,B&fh=2&fi=04&lb=0&nk=0&pp=201812&ss=7"]
[null,"03. Chômage et Emploi","Demandeurs d’emploi en fin de mois de catégories AB hommes de 50 ans ou plus au 1er janvier",2019,"Pôle emploi - STMT, Données brutes","https://statistiques.pole-emploi.org/stmt/defm?ff=A,B&fh=2&fi=04&lb=0&nk=0&pp=201812&ss=8"]
[null,"03. Chômage et Emploi","Demandeurs d’emploi en fin de mois de catégories AB femmes au 1er janvier",2019,"Pôle emploi - STMT, Données brutes","https://statistiques.pole-emploi.org/stmt/defm?ff=A,B&fh=2&fi=04&lb=0&nk=0&pp=201812&ss=9"]
[null,"03. Chômage et Emploi","Demandeurs d’emploi en fin de mois de catégories AB femmes de 15 à 24 ans au 1er janvier",2019,"Pôle emploi - STMT, Données brutes","https://statistiques.pole-emploi.org/stmt/defm?ff=A,B&fh=2&fi=04&lb=0&nk=0&pp=201812&ss=10"]
[null,"03. Chômage et Emploi","Demandeurs d’emploi en fin de mois de catégories AB femmes de 25 à 49 ans au 1er janvier",2019,"Pôle emploi - STMT, Données brutes","https://statistiques.pole-emploi.org/stmt/defm?ff=A,B&fh=2&fi=04&lb=0&nk=0&pp=201812&ss=11"]
[null,"03. Chômage et Emploi","Demandeurs d’emploi en fin de mois de catégories AB femmes de 50 ans ou plus au 1er janvier",2019,"Pôle emploi - STMT, Données brutes","https://statistiques.pole-emploi.org/stmt/defm?ff=A,B&fh=2&fi=04&lb=0&nk=0&pp=201812&ss=12"]
[null,"04. Formation et Scolarité","Nombre d'enfants bénéficiaires de l'Allocation de Rentrée Scolaire (ARS) au 1er janvier",2019,"CAF Réunion","http://www.caf.fr/partenaires/caf-de-la-reunion/partenaires-locaux/les-statistiques-etudes-et-publications-de-la-caf-de-la-reunion"]
[null,"04. Formation et Scolarité","Effectif des 15 ans ou plus non scolarisés ne possédant aucun diplôme ou au plus BEPC, brevet des collèges, DNB",2016,"Insee, Recencement de la population","https://www.insee.fr/fr/information/2008354"]
[null,"04. Formation et Scolarité","Part des 15 ans ou plus non scolarisés ne possédant aucun diplôme ou au plus BEPC, brevet des collèges, DNB",2016,"Insee, Recencement de la population","https://www.insee.fr/fr/information/2008355"]
[null,"04. Formation et Scolarité","Effectif des 15-34 ans non scolarisés ne possédant aucun diplôme ou au plus BEPC, brevet des collèges, DNB",2016,"Insee, Recencement de la population","https://www.insee.fr/fr/statistiques/4171399?sommaire=4171407"]
[null,"04. Formation et Scolarité","Part des 15-34 ans non scolarisés ne possédant aucun diplôme ou au plus BEPC, brevet des collèges, DNB",2016,"Insee, Recencement de la population","https://www.insee.fr/fr/information/2008357"]
[null,"05. Logement","Nombre d'allocataires d'aides au logement (ALS et ALF) au 1er janvier",2018,"CAF Réunion","http://www.caf.fr/partenaires/caf-de-la-reunion/partenaires-locaux/les-statistiques-etudes-et-publications-de-la-caf-de-la-reunion"]
[null,"05. Logement","Part d'allocataires d'aides au logement (ALS et ALF) au 1er janvier pour 100 ménages",2018,"CAF Réunion, Insee","http://www.caf.fr/partenaires/caf-de-la-reunion/partenaires-locaux/les-statistiques-etudes-et-publications-de-la-caf-de-la-reunion"]
[null,"05. Logement","Nombre de logements sociaux au 1er janvier",2018,"ARMOS-oi","https://www.armos-oi.re/rapport.php"]
[null,"05. Logement","Nombre de logements sociaux au 1er janvier pour 100 habitations principales",2018,"ARMOS-oi"]
[null,"05. Logement","Nombre de demandeurs actifs de logements sociaux au 1er janvier",2019,"DEAL"]
[null,"05. Logement","Part de ménages demandeurs de logements sociaux au 1er janvier pour 100 ménages",2019,"DEAL"]
[null,"05. Logement","Part de demandeurs de logements sociaux au 1er janvier pour 100 logements sociaux existants",2019,"DEAL"]
[null,"06. Santé générale","Nombre de naissances chez des mères mineures",2018,"INSEE, Etat-civil"]
[null,"06. Santé générale","Nombre de naissances chez des mères mineures pour 100 naissances vivantes",2018,"INSEE, Etat-civil"]
[null,"06. Santé générale","Nombre de décès d'enfants de moins de un an",2018,"INSEE, Etat-civil"]
[null,"06. Santé générale","Taux de mortalité infantile pour 1 000 naissances vivantes",2018,"INSEE, Etat-civil"]
[null,"07. Accès aux soins","Nombre de bénéficiaires de la PUMA au 1er janvier",2019,"CGSS de La Réunion"]
[null,"07. Accès aux soins","Nombre d'hommes bénéficiaires de la PUMA au 1er janvier",2019,"CGSS de La Réunion"]
[null,"07. Accès aux soins","Nombre de femmes bénéficiaires de la PUMA au 1er janvier",2019,"CGSS de La Réunion"]
[null,"07. Accès aux soins","Part de bénéficiaires de la PUMA pour 100 habitants",2019,"CGSS de La Réunion"]
[null,"07. Accès aux soins","Nombre de bénéficiaires de la CMU complémentaire au 1er janvier",2019,"CGSS de La Réunion"]
[null,"07. Accès aux soins","Nombre d'hommes bénéficiaires de la CMU complémentaire au 1er janvier",2019,"CGSS de La Réunion"]
[null,"07. Accès aux soins","Nombre de femmes bénéficiaires de la CMU complémentaire au 1er janvier",2019,"CGSS de La Réunion"]
[null,"07. Accès aux soins","Part de bénéficiaires de la CMU complémentaire au 1er janvier pour 100 habitants",2019,"CGSS de La Réunion - Insee, RP 2016"]
[null,"08. Offre de soins","Nombre de médecins généralistes libéraux au 1er janvier",2018,"ARS OI, RPPS"]
[null,"08. Offre de soins","Densité de médecins généralistes libéraux au 1er janvier pour 100 000 habitants",2018,"ARS OI, RPPS - Insee, RP 2016"]
[null,"08. Offre de soins","Nombre de médecins spécialistes libéraux au 1er janvier ",2018,"ARS OI, RPPS"]
[null,"08. Offre de soins","Densité de médecins spécialistes libéraux au 1er janvier pour 100 000 habitants",2018,"ARS OI, RPPS - Insee, RP 2016"]
[null,"08. Offre de soins","Nombre de médecins libéraux au 1er janvier ",2018,"ARS OI, RPPS"]
[null,"08. Offre de soins","Densité de médecins libéraux au 1er janvier pour 100 000 habitants",2018,"ARS OI, RPPS - Insee, RP 2016"]
[null,"08. Offre de soins","Nombre de chirurgiens-dentistes libéraux au 1er janvier ",2018,"ARS OI, RPPS"]
[null,"08. Offre de soins","Densité de chirurgiens-dentistes libéraux au 1er janvier pour 100 000 habitants",2018,"ARS OI, RPPS - Insee, RP 2016"]
[null,"08. Offre de soins","Nombre d'infirmiers libéraux au 1er janvier ",2016,"ADELI, ARS OI, RPPS"]
[null,"08. Offre de soins","Densité d'infirmiers libéraux au 1er janvier pour 100 000 habitants",2016,"ADELI, ARS OI, INSEE,RPPS (Recensement 2015)"]
[null,"08. Offre de soins","Nombre de masseurs-kinésithérapeutes libéraux au 1er janvier ",2018,"ADELI, ARS OI, RPPS"]
[null,"08. Offre de soins","Densité de masseurs-kinésithérapeutes libéraux au 1er janvier pour 100 000 habitants",2018,"ADELI, ARS OI, INSEE,RPPS (Recensement 2015)"]
[null,"08. Offre de soins","Nombre d'orthophonistes au 1er janvier ",2018,"ADELI, ARS OI, RPPS"]
[null,"08. Offre de soins","Densité d'orthophonistes au 1er janvier pour 100 000 habitants",2018,"ADELI, ARS OI, INSEE,RPPS (Recensement 2015)"]
[null,"08. Offre de soins","Nombre de psychologues au 1er janvier ",2018,"ADELI, ARS OI, RPPS"]
[null,"08. Offre de soins","Densité de psychologues au 1er janvier pour 100 000 habitants",2018,"ADELI, ARS OI, INSEE,RPPS (Recensement 2015)"]
[null,"09. Hospitalisation","Nombre de séjours hospitaliers (hospitalisation complète) chez les femmes ",2018,"PMSI"]
[null,"09. Hospitalisation","Nombre de séjours hospitaliers (hospitalisation complète) chez les hommes ",2018,"PMSI"]
[null,"09. Hospitalisation","Nombre de séjours hospitaliers (hospitalisation complète) ",2018,"PMSI"]
[null,"09. Hospitalisation","Nombre de séjours hospitaliers (hospitalisation complète) pour maladies cardiovasculaires chez les femmes ",2018,"PMSI"]
[null,"09. Hospitalisation","Nombre de séjours hospitaliers (hospitalisation complète) pour maladies cardiovasculaires chez les hommes ",2018,"PMSI"]
[null,"09. Hospitalisation","Nombre de séjours hospitaliers (hospitalisation complète) pour maladies cardiovasculaires ",2018,"PMSI"]
[null,"09. Hospitalisation","Nombre de séjours hospitaliers (hospitalisation complète) pour diabète chez les femmes ",2018,"PMSI"]
[null,"09. Hospitalisation","Nombre de séjours hospitaliers (hospitalisation complète) pour diabète chez les hommes ",2018,"PMSI"]
[null,"09. Hospitalisation","Nombre de séjours hospitaliers (hospitalisation complète) pour diabète ",2018,"PMSI"]
[null,"09. Hospitalisation","Nombre de séjours hospitaliers (hospitalisation complète) pour tumeur chez les femmes ",2018,"PMSI"]
[null,"09. Hospitalisation","Nombre de séjours hospitaliers (hospitalisation complète) pour tumeur chez les hommes ",2018,"PMSI"]
[null,"09. Hospitalisation","Nombre de séjours hospitaliers (hospitalisation complète) pour tumeur ",2018,"PMSI"]
[null,"09. Hospitalisation","Nombre de séjours hospitaliers (hospitalisation complète) chez les femmes de moins de 15 ans ",2018,"PMSI"]
[null,"09. Hospitalisation","Nombre de séjours hospitaliers (hospitalisation complète) chez les hommes de moins de 15 ans ",2018,"PMSI"]
[null,"09. Hospitalisation","Nombre de séjours hospitaliers (hospitalisation complète) chez les moins de 15 ans ",2018,"PMSI"]
[null,"09. Hospitalisation","Nombre de séjours hospitaliers (hospitalisation complète) chez les femmes de 15-44 ans ",2018,"PMSI"]
[null,"09. Hospitalisation","Nombre de séjours hospitaliers (hospitalisation complète) chez les hommes de 15-44 ans ",2018,"PMSI"]
[null,"09. Hospitalisation","Nombre de séjours hospitaliers (hospitalisation complète) chez les 15-44 ans ",2018,"PMSI"]
[null,"09. Hospitalisation","Nombre de séjours hospitaliers (hospitalisation complète) chez les femmes de 45-74 ans ",2018,"PMSI"]
[null,"09. Hospitalisation","Nombre de séjours hospitaliers (hospitalisation complète) chez les hommes de 45-74 ans ",2018,"PMSI"]
[null,"09. Hospitalisation","Nombre de séjours hospitaliers (hospitalisation complète) chez les 45-74 ans ",2018,"PMSI"]
[null,"09. Hospitalisation","Nombre de séjours hospitaliers (hospitalisation complète) chez les femmes de 75 ans et plus ",2018,"PMSI"]
[null,"09. Hospitalisation","Nombre de séjours hospitaliers (hospitalisation complète) chez les hommes de 75 ans et plus ",2018,"PMSI"]
[null,"09. Hospitalisation","Nombre de séjours hospitaliers (hospitalisation complète) chez les 75 ans et plus",2018,"PMSI"]
[null,"09. Hospitalisation","Taux standardisé d'hospitalisation chez les femmes pour 10 000 habitants","2018\nStandardisation France RP 2006","PMSI, INSEE"]
[null,"09. Hospitalisation","Taux standardisé d'hospitalisation chez les hommes pour 10 000 habitants","2018\nStandardisation France RP 2006","PMSI, INSEE"]
[null,"09. Hospitalisation","Taux standardisé d'hospitalisation  pour 10 000 habitants ","2018\nStandardisation France RP 2006","PMSI, INSEE"]
[null,"09. Hospitalisation","Taux standardisé d'hospitalisation pour maladies cardiovasculaires chez les femmes  pour 10 000 habitants ","2018\nStandardisation France RP 2006","PMSI, INSEE"]
[null,"09. Hospitalisation","Taux standardisé d'hospitalisation pour maladies cardiovasculaires chez les hommes  pour 10 000 habitants ","2018\nStandardisation France RP 2006","PMSI, INSEE"]
[null,"09. Hospitalisation","Taux standardisé d'hospitalisation pour maladies cardiovasculaires  pour 10 000 habitants ","2018\nStandardisation France RP 2006","PMSI, INSEE"]
[null,"09. Hospitalisation","Taux standardisé d'hospitalisation pour tumeur chez les femmes  pour 10 000 habitants ","2018\nStandardisation France RP 2006","PMSI, INSEE"]
[null,"09. Hospitalisation","Taux standardisé d'hospitalisation pour tumeur chez les hommes  pour 10 000 habitants ","2018\nStandardisation France RP 2006","PMSI, INSEE"]
[null,"09. Hospitalisation","Taux standardisé d'hospitalisation pour tumeur  pour 10 000 habitants ","2018\nStandardisation France RP 2006","PMSI, INSEE"]
[null,"09. Hospitalisation","Taux standardisé d'hospitalisation pour diabète chez les femmes  pour 10 000 habitants ","2018\nStandardisation France RP 2006","PMSI, INSEE"]
[null,"09. Hospitalisation","Taux standardisé d'hospitalisation pour diabète chez les hommes  pour 10 000 habitants ","2018\nStandardisation France RP 2006","PMSI, INSEE"]
[null,"09. Hospitalisation","Taux standardisé d'hospitalisation pour diabète pour 10 000 habitants","2018\nStandardisation France RP 2006","PMSI, INSEE"]
[null,"10. Mortalité","Nombre annuel moyen de décès féminins","2013-2015","INSERM CepiDC"]
[null,"10. Mortalité","Nombre annuel moyen de décès masculins","2013-2015","INSERM CepiDC"]
[null,"10. Mortalité","Nombre annuel moyen de décès","2013-2015","INSERM CepiDC"]
[null,"10. Mortalité","Nombre annuel moyen de décès féminins prématurés (survenant avant 65 ans)","2013-2015","INSERM CepiDC"]
[null,"10. Mortalité","Nombre annuel moyen de décès masculins prématurés (survenant avant 65 ans)","2013-2015","INSERM CepiDC"]
[null,"10. Mortalité","Nombre annuel moyen de décès prématurés (survenant avant 65 ans) ","2013-2015","INSERM CepiDC"]
[null,"10. Mortalité","Part de décès féminins prématurés (survenant avant 65 ans) pour 100 décès","2013-2015","INSERM CepiDC"]
[null,"10. Mortalité","Part de décès masculins prématurés (survenant avant 65 ans) pour 100 décès","2013-2015","INSERM CepiDC"]
[null,"10. Mortalité","Part de décès prématurés (survenant avant 65 ans) pour 100 décès","2013-2015","INSERM CepiDC"]
[null,"10. Mortalité","Nombre annuel moyen de décès par maladies cardiovasculaires chez les femmes ","2013-2015","INSERM CepiDC"]
[null,"10. Mortalité","Nombre annuel moyen de décès par maladies cardiovasculaires chez les hommes ","2013-2015","INSERM CepiDC"]
[null,"10. Mortalité","Nombre annuel moyen de décès par maladies cardiovasculaires ","2013-2015","INSERM CepiDC"]
[null,"10. Mortalité","Nombre annuel moyen de décès par tumeur chez les femmes ","2013-2015","INSERM CepiDC"]
[null,"10. Mortalité","Nombre annuel moyen de décès par tumeur chez les hommes ","2013-2015","INSERM CepiDC"]
[null,"10. Mortalité","Nombre annuel moyen de décès par tumeur ","2013-2015","INSERM CepiDC"]
[null,"10. Mortalité","Taux standardisé  de mortalité chez les femmes  pour 100.000 habitants ","2013-2015\nStandardisation France RP 2006","INSERM CepiDC, INSEE"]
[null,"10. Mortalité","Taux standardisé  de mortalité chez les hommes  pour 100.000 habitants","2013-2015\nStandardisation France RP 2006","INSERM CepiDC, INSEE"]
[null,"10. Mortalité","Taux standardisé  de mortalité  pour 100 000 habitants ","2013-2015\nStandardisation France RP 2006","INSERM CepiDC, INSEE"]
[null,"10. Mortalité","Taux standardisé  de mortalité par maladies cardiovasculaires chez les femmes  pour 100 000 habitants ","2013-2015\nStandardisation France RP 2006","INSERM CepiDC, INSEE"]
[null,"10. Mortalité","Taux standardisé  de mortalité par maladies cardiovasculaires chez les hommes  pour 100 000 habitants ","2013-2015\nStandardisation France RP 2006","INSERM CepiDC, INSEE"]
[null,"10. Mortalité","Taux standardisé  de mortalité par maladies cardiovasculaires  pour 100 000 habitants ","2013-2015\nStandardisation France RP 2006","INSERM CepiDC, INSEE"]
[null,"10. Mortalité","Taux standardisé  de mortalité par tumeur chez les femmes  pour 100 000 habitants ","2013-2015\nStandardisation France RP 2006","INSERM CepiDC, INSEE"]
[null,"10. Mortalité","Taux standardisé  de mortalité par tumeur chez les hommes  pour 100 000 habitants ","2013-2015\nStandardisation France RP 2006","INSERM CepiDC, INSEE"]
[null,"10. Mortalité","Taux standardisé  de mortalité par tumeur  pour 100 000 habitants ","2013-2015\nStandardisation France RP 2006","INSERM CepiDC, INSEE"]
[null,"10. Mortalité","Taux standardisé  de mortalité prématurée chez les femmes  pour 100 000 habitants ","2013-2015\nStandardisation France RP 2006","INSERM CepiDC, INSEE"]
[null,"10. Mortalité","Taux standardisé  de mortalité prématurée chez les hommes  pour 100 000 habitants","2013-2015\nStandardisation France RP 2006","INSERM CepiDC, INSEE"]
[null,"10. Mortalité","Taux standardisé  de mortalité prématurée  pour 100 000 habitants ","2013-2015\nStandardisation France RP 2006","INSERM CepiDC, INSEE"]
[null,"11. Admissions en ALD","Nombre annuel moyen d'admissions en ALD chez les femmes ","2012-2014","CNAMTS, CCMSA, RSI, FNORS"]
[null,"11. Admissions en ALD","Nombre annuel moyen d'admissions en ALD chez les hommes ","2012-2014","CNAMTS, CCMSA, RSI, FNORS"]
[null,"11. Admissions en ALD","Nombre annuel moyen d'admissions en ALD ","2012-2014","CNAMTS, CCMSA, RSI, FNORS"]
[null,"11. Admissions en ALD","Nombre annuel moyen d'admissions en ALD pour maladies cardiovasculaires chez les femmes ","2012-2014","ALD n°1,  ALD n°3, ALD n°5, ALD n°12, ALD n°13\nCNAMTS, CCMSA, RSI, FNORS"]
[null,"11. Admissions en ALD","Nombre annuel moyen d'admissions en ALD pour maladies cardiovasculaires  chez les hommes ","2012-2014","ALD n°1,  ALD n°3, ALD n°5, ALD n°12, ALD n°13\nCNAMTS, CCMSA, RSI, FNORS"]
[null,"11. Admissions en ALD","Nombre annuel moyen d'admissions en ALD pour maladies cardiovasculaires","2012-2014","ALD n°1,  ALD n°3, ALD n°5, ALD n°12, ALD n°13\nCNAMTS, CCMSA, RSI, FNORS"]
[null,"11. Admissions en ALD","Nombre annuel moyen d'admissions en ALD pour diabète chez les femmes ","2012-2014","ALD n°8\nCNAMTS, CCMSA, RSI, FNORS"]
[null,"11. Admissions en ALD","Nombre annuel moyen d'admissions en ALD pour diabète chez les hommes ","2012-2014","ALD n°8\nCNAMTS, CCMSA, RSI, FNORS"]
[null,"11. Admissions en ALD","Nombre annuel moyen d'admissions en ALD pour diabète","2012-2014","ALD n°8\nCNAMTS, CCMSA, RSI, FNORS"]
[null,"11. Admissions en ALD","Nombre annuel moyen d'admissions en ALD pour tumeur chez les femmes ","2012-2014","ALD n°30\nCNAMTS, CCMSA, RSI, FNORS"]
[null,"11. Admissions en ALD","Nombre annuel moyen d'admissions en ALD pour tumeur chez les hommes ","2012-2014","ALD n°30\nCNAMTS, CCMSA, RSI, FNORS"]
[null,"11. Admissions en ALD","Nombre annuel moyen d'admissions en ALD pour tumeur","2012-2014","ALD n°30\nCNAMTS, CCMSA, RSI, FNORS"]
[null,"11. Admissions en ALD","Nombre annuel moyen d'admissions en ALD chez les femmes de moins de 15 ans ","2012-2014","CNAMTS, CCMSA, RSI, FNORS"]
[null,"11. Admissions en ALD","Nombre annuel moyen d'admissions en ALD chez les hommes de moins de 15 ans ","2012-2014","CNAMTS, CCMSA, RSI, FNORS"]
[null,"11. Admissions en ALD","Nombre annuel moyen d'admissions en ALD chez les moins de 15 ans ","2012-2014","CNAMTS, CCMSA, RSI, FNORS"]
[null,"11. Admissions en ALD","Nombre annuel moyen d'admissions en ALD chez les femmes de 15-44 ans ","2012-2014","CNAMTS, CCMSA, RSI, FNORS"]
[null,"11. Admissions en ALD","Nombre annuel moyen d'admissions en ALD chez les hommes de 15-44 ans ","2012-2014","CNAMTS, CCMSA, RSI, FNORS"]
[null,"11. Admissions en ALD","Nombre annuel moyen d'admissions en ALD chez les 15-44 ans ","2012-2014","CNAMTS, CCMSA, RSI, FNORS"]
[null,"11. Admissions en ALD","Nombre annuel moyen d'admissions en ALD chez les femmes de 45-74 ans ","2012-2014","CNAMTS, CCMSA, RSI, FNORS"]
[null,"11. Admissions en ALD","Nombre annuel moyen d'admissions en ALD chez les hommes de 45-74 ans ","2012-2014","CNAMTS, CCMSA, RSI, FNORS"]
[null,"11. Admissions en ALD","Nombre annuel moyen d'admissions en ALD chez les 45-74 ans ","2012-2014","CNAMTS, CCMSA, RSI, FNORS"]
[null,"11. Admissions en ALD","Nombre annuel moyen d'admissions en ALD chez les femmes de 75 ans et plus ","2012-2014","CNAMTS, CCMSA, RSI, FNORS"]
[null,"11. Admissions en ALD","Nombre annuel moyen d'admissions en ALD chez les hommes de 75 ans et plus ","2012-2014","CNAMTS, CCMSA, RSI, FNORS"]
[null,"11. Admissions en ALD","Nombre annuel moyen d'admissions en ALD chez les 75 ans et plus ","2012-2014","CNAMTS, CCMSA, RSI, FNORS"]
[null,"11. Admissions en ALD","Taux standardisé  d'admissions en ALD chez les femmes pour 100 000 habitants","2012-2014\nStandardisation France RP 2006","CNAMTS, CCMSA, RSI, FNORS, INSEE"]
[null,"11. Admissions en ALD","Taux standardisé  d'admissions en ALD chez les hommes pour 100 000 habitants","2012-2014\nStandardisation France RP 2006","CNAMTS, CCMSA, RSI, FNORS, INSEE"]
[null,"11. Admissions en ALD","Taux standardisé  d'admissions en ALD pour 100 000 habitants","2012-2014\nStandardisation France RP 2006","CNAMTS, CCMSA, RSI, FNORS, INSEE"]
[null,"11. Admissions en ALD","Taux standardisé  d'admissions en ALD pour maladies cardiovasculaires chez les femmes pour 100 000 habitants","2012-2014\nStandardisation France RP 2006","CNAMTS, CCMSA, RSI, FNORS, INSEE"]
[null,"11. Admissions en ALD","Taux standardisé  d'admissions en ALD pour maladies cardiovasculaires chez les hommes pour 100 000 habitants","2012-2014\nStandardisation France RP 2006","CNAMTS, CCMSA, RSI, FNORS, INSEE"]
[null,"11. Admissions en ALD","Taux standardisé  d'admissions en ALD pour maladies cardiovasculaires pour 100 000 habitants","2012-2014\nStandardisation France RP 2006","CNAMTS, CCMSA, RSI, FNORS, INSEE"]
[null,"11. Admissions en ALD","Taux standardisé  d'admissions en ALD pour tumeur chez les femmes pour 100 000 habitants","2012-2014\nStandardisation France RP 2006","CNAMTS, CCMSA, RSI, FNORS, INSEE"]
[null,"11. Admissions en ALD","Taux standardisé  d'admissions en ALD pour tumeur chez les hommes pour 100 000 habitants","2012-2014\nStandardisation France RP 2006","CNAMTS, CCMSA, RSI, FNORS, INSEE"]
[null,"11. Admissions en ALD","Taux standardisé  d'admissions en ALD pour tumeur pour 100.000 habitants","2012-2014\nStandardisation France RP 2006","CNAMTS, CCMSA, RSI, FNORS, INSEE"]
[null,"11. Admissions en ALD","Taux standardisé  d'admissions en ALD pour diabète chez les femmes pour 100 000 habitants","2012-2014\nStandardisation France RP 2006","CNAMTS, CCMSA, RSI, FNORS, INSEE"]
[null,"11. Admissions en ALD","Taux standardisé  d'admissions en ALD pour diabète chez les hommes pour 100 000 habitants","2012-2014\nStandardisation France RP 2006","CNAMTS, CCMSA, RSI, FNORS, INSEE"]
[null,"11. Admissions en ALD","Taux standardisé  d'admissions en ALD pour diabète pour 100.000 habitants","2012-2014\nStandardisation France RP 2006","CNAMTS, CCMSA, RSI, FNORS, INSEE"]
[null,"12. Inscriptions en ALD","Nombre d'inscrits en ALD chez les femmes au 1er janvier",2018,"CNAMTS, CCMSA, RSI, FNORS"]
[null,"12. Inscriptions en ALD","Nombre d'inscrits en ALD chez les hommes au 1er janvier",2018,"CNAMTS, CCMSA, RSI, FNORS"]
[null,"12. Inscriptions en ALD","Nombre d'inscrits en ALD au 1er janvier",2018,"CNAMTS, CCMSA, RSI, FNORS"]
[null,"12. Inscriptions en ALD","Nombre d'inscrits en ALD pour maladies cardiovasculaires chez les femmes au 1er janvier",2018,"ALD n°1,  ALD n°3, ALD n°5, ALD n°12, ALD n°13\nCNAMTS, CCMSA, RSI, FNORS"]
[null,"12. Inscriptions en ALD","Nombre d'inscrits en ALD pour maladies cardiovasculaires chez les hommes au 1er janvier",2018,"ALD n°1,  ALD n°3, ALD n°5, ALD n°12, ALD n°13\nCNAMTS, CCMSA, RSI, FNORS"]
[null,"12. Inscriptions en ALD","Nombre d'inscrits en ALD pour maladies cardiovasculaires au 1er janvier",2018,"ALD n°1,  ALD n°3, ALD n°5, ALD n°12, ALD n°13\nCNAMTS, CCMSA, RSI, FNORS"]
[null,"12. Inscriptions en ALD","Nombre d'inscrits en ALD pour diabète chez les femmes au 1er janvier",2018,"ALD n°8\nCNAMTS, CCMSA, RSI, FNORS"]
[null,"12. Inscriptions en ALD","Nombre d'inscrits en ALD pour diabète chez les hommes au 1er janvier",2018,"ALD n°8\nCNAMTS, CCMSA, RSI, FNORS"]
[null,"12. Inscriptions en ALD","Nombre d'inscrits en ALD pour diabète au 1er janvier",2018,"ALD n°8\nCNAMTS, CCMSA, RSI, FNORS"]
[null,"12. Inscriptions en ALD","Nombre d'inscrits en ALD pour tumeur chez les femmes au 1er janvier",2018,"ALD n°30\nCNAMTS, CCMSA, RSI, FNORS"]
[null,"12. Inscriptions en ALD","Nombre d'inscrits en ALD pour tumeur chez les hommes au 1er janvier",2018,"ALD n°30\nCNAMTS, CCMSA, RSI, FNORS"]
[null,"12. Inscriptions en ALD","Nombre d'inscrits en ALD pour tumeur au 1er janvier",2018,"ALD n°30\nCNAMTS, CCMSA, RSI, FNORS"]
[null,"12. Inscriptions en ALD","Nombre d'inscrits en ALD chez les femmes de moins de 15 ans au 1er janvier",2018,"CNAMTS, CCMSA, RSI, FNORS"]
[null,"12. Inscriptions en ALD","Nombre d'inscrits en ALD chez les hommes de moins de 15 ans au 1er janvier",2018,"CNAMTS, CCMSA, RSI, FNORS"]
[null,"12. Inscriptions en ALD","Nombre d'inscrits en ALD chez les moins de 15 ans au 1er janvier",2018,"CNAMTS, CCMSA, RSI, FNORS"]
[null,"12. Inscriptions en ALD","Nombre d'inscrits en ALD chez les femmes de 15-44 ans au 1er janvier",2018,"CNAMTS, CCMSA, RSI, FNORS"]
[null,"12. Inscriptions en ALD","Nombre d'inscrits en ALD chez les hommes de 15-44 ans au 1er janvier",2018,"CNAMTS, CCMSA, RSI, FNORS"]
[null,"12. Inscriptions en ALD","Nombre d'inscrits en ALD chez les 15-44 ans au 1er janvier",2018,"CNAMTS, CCMSA, RSI, FNORS"]
[null,"12. Inscriptions en ALD","Nombre d'inscrits en ALD chez les femmes de 45-74 ans au 1er janvier",2018,"CNAMTS, CCMSA, RSI, FNORS"]
[null,"12. Inscriptions en ALD","Nombre d'inscrits en ALD chez les hommes de 45-74 ans au 1er janvier",2018,"CNAMTS, CCMSA, RSI, FNORS"]
[null,"12. Inscriptions en ALD","Nombre d'inscrits en ALD chez les moins de 45-74 ans au 1er janvier",2018,"CNAMTS, CCMSA, RSI, FNORS"]
[null,"12. Inscriptions en ALD","Nombre d'inscrits en ALD chez les femmes de 75 ans et plus au 1er janvier",2018,"CNAMTS, CCMSA, RSI, FNORS"]
[null,"12. Inscriptions en ALD","Nombre d'inscrits en ALD chez les hommes de 75 ans et plus au 1er janvier",2018,"CNAMTS, CCMSA, RSI, FNORS"]
[null,"12. Inscriptions en ALD","Nombre d'inscrits en ALD chez les 75 ans et plus au 1er janvier",2018,"CNAMTS, CCMSA, RSI, FNORS"]
[null,"12. Inscriptions en ALD","Taux standardisé d'inscrits en ALD chez les femmes pour 100.000 habitants",2018,"CNAMTS, CCMSA, RSI, FNORS, INSEE"]
[null,"12. Inscriptions en ALD","Taux standardisé d'inscrits en ALD chez les hommes pour 100.000 habitants",2018,"CNAMTS, CCMSA, RSI, FNORS, INSEE"]
[null,"12. Inscriptions en ALD","Taux standardisé d'inscrits en ALD pour 100 000 habitants","2018 \nStandardisation France RP 2006","CNAMTS, CCMSA, RSI, FNORS, INSEE"]
[null,"12. Inscriptions en ALD","Taux standardisé d'inscrits en ALD pour maladies cardiovaculaires chez les femmes pour 100 000 habitants","2018\nStandardisation France RP 2006","CNAMTS, CCMSA, RSI, FNORS, INSEE"]
[null,"12. Inscriptions en ALD","Taux standardisé d'inscrits en ALD pour maladies cardiovaculaires chez les hommes pour 100 000 habitants","2018 \nStandardisation France RP 2006","CNAMTS, CCMSA, RSI, FNORS, INSEE"]
[null,"12. Inscriptions en ALD","Taux standardisé d'inscrits en ALD pour maladies cardiovaculaires pour 100 000 habitants","2018\nStandardisation France RP 2006","CNAMTS, CCMSA, RSI, FNORS, INSEE"]
[null,"12. Inscriptions en ALD","Taux standardisé d'inscrits en ALD pour tumeur chez les femmes pour 100 000 habitants","2018\nStandardisation France RP 2006","CNAMTS, CCMSA, RSI, FNORS, INSEE"]
[null,"12. Inscriptions en ALD","Taux standardisé d'inscrits en ALD pour tumeur chez les hommes pour 100 000 habitants","2018 \nStandardisation France RP 2006","CNAMTS, CCMSA, RSI, FNORS, INSEE"]
[null,"12. Inscriptions en ALD","Taux standardisé d'inscrits en ALD pour tumeur pour 100 000 habitants","2018\nStandardisation France RP 2006","CNAMTS, CCMSA, RSI, FNORS, INSEE"]
[null,"12. Inscriptions en ALD","Taux standardisé d'inscrits en ALD pour diabète chez les femmes pour 100 000 habitants","2018\nStandardisation France RP 2006","CNAMTS, CCMSA, RSI, FNORS, INSEE"]
[null,"12. Inscriptions en ALD","Taux standardisé d'inscrits en ALD pour diabète chez les hommes pour 100 000 habitants","2018 \nStandardisation France RP 2006","CNAMTS, CCMSA, RSI, FNORS, INSEE"]
[null,"12. Inscriptions en ALD","Taux standardisé d'inscrits en ALD pour diabète pour 100 000 habitants","2018\nStandardisation France RP 2006","CNAMTS, CCMSA, RSI, FNORS, INSEE"]

{"sheet":"Méthodologie","index":2,"n_rows":43,"n_cols":2,"rows_kept":43,"cut":false,"hidden":false,"merged":[[0,2,0,3]]}
[]
[]
[]
[]
[null,"Ce travail, à visée descriptive, repose sur la collecte, la synthèse des données existantes et la mise à jour d’indicateurs communaux, régionaux et par micro-région les plus récents sur les thématiques Cadrage, Finance, Chômage, Logement, Formation et Santé."]
[null,"SOMMAIRE"]
[]
[null,"SOURCES D'INFORMATIONS"]
[]
[null,"Les indicateurs Santé-Social proviennent de diverses bases de données locales ou nationales : ARMOS oi, ARS OI, CAF Réunion, CGSS, Département de La Réunion, DEAL, INSEE, INSERM CépiDC, Pôle emploi, Régimes d'Assurance Maladie (CNAMTS, RSI, MSA)."]
[null,"Les sources d'informations sont citées pour chaque indicateur dans l'onglet SOMMAIRE."]
[]
[null,"Les principales sources de données utilisées sont : "]
[]
[null,"-  les diagnostics principaux des séjours recensés en établissements de santé à partir du programme de médicalisation des systèmes d’information (PMSI)"]
[null,"Les données d’hospitalisation permettent de dénombrer les maladies ou événements morbides « aigus » à l’origine d’un séjour hospitalier (indiqués comme diagnostic principal). Elles concernent les séjours effectués dans les unités de soins de courte durée médecine, chirurgie et obstétrique (MCO) des établissements de santé publics et privés. Les séjours sont affectés au lieu de résidence du patient : il s’agit de données domiciliées. Les séjours hospitaliers au cours d’une année peuvent concerner la même personne, tandis que tous les patients atteints d’une maladie chronique n’ont pas nécessairement recours à des soins hospitaliers chaque année. Les données présentées dans cette synthèse concernent les séjours hospitaliers (en hospitalisation complète) de patients résidant à La Réunion en 2015 : ensemble des séjours et séjours ayant pour diagnostic principal un des codes CIM10 correspondant au diabète (E10-E14), aux tumeurs (C00-D50) et aux maladies cardiovasculaires (I00-I99)."]
[]
[null,"- les admissions et inscriptions en affection de longue durée (ALD) prononcées par les 3 principaux régimes d’assurance maladie (CNAMTS, CCMSA, RSI)"]
[null,"En cas d’affections comportant un traitement prolongé, le code de la Sécurité Sociale prévoit la suppression du ticket modérateur normalement à la charge de l’assuré dans le cadre du risque maladie. La liste de ces affections dites de Longue Durée est établie par décret et comporte 30 affections ou groupes d’affections. L’information sur la maladie dans les bases de données des services médicaux des différents régimes d’Assurance Maladie ne reflète pas totalement la réalité pour cette pathologie. En effet, les personnes atteintes d’une maladie chroniques ne sont pas nécessairement déclarées en ALD et de ce fait ne sont pas connues des services médicaux de l’Assurance Maladie. Les données présentées dans cette synthèse concernent : l'ensemble des ALD et ALD concernant le diabète (ALD n°8), les tumeurs (ALD n°30) et les maladies cardiovasculaires (ALD n°1, n°3, n°5, n°12 et n°13)."]
[]
[null,"Remarque  importante concernant les ALD pour maladies cardiovasculaires :\nDepuis 2011, suite au décret n°2011-726 du 24 juin 2011, l’hypertension artérielle sévère a été supprimée de la liste des ALD 30. Cette évolution réglementaire s’appuie sur les avis rendus par la Haute Autorité de Santé (HAS), soulignant que l’hypertension artérielle isolée constitue un facteur de risque et non une pathologie avérée. Avant 2011, l’hypertension artérielle représentait le principal motif d’admission en ALD pour maladie cardiovasculaire.\nCette suppression dans la liste des ALD a entrainé une baisse des admissions en ALD pour maladies cardiovasculaires comparativement aux données des autres éditions des indicateurs santé-social."]
[]
[null,"- les statistiques de mortalité établies par l’INSERM Cépidc. "]
[null,"Les données sont issues de la base de données nationale sur les causes médicales de décès. Les statistiques annuellement élaborées par le Centre d’épidémiologie sur les causes médicales de décès de l’Inserm (Cépidc) sont établies à partir des données recueillies sur le certificat médical rempli par le médecin ayant constaté le décès. Ce certificat comporte des données démographiques et une description du processus pathologique ayant conduit à la mort avec une cause initiale de décès notée sur la dernière ligne et définie comme étant la pathologie à l’origine du processus morbide ayant conduit au décès. L’analyse de ces données permet de suivre l’évolution des causes de décès, d’élaborer des indicateurs de mortalité contribuant à la définition des priorités de santé publique et d’évaluer l’impact des actions de santé. Les causes de mortalité sont codées selon la Classification internationale des maladies, 10ème révision, qui catégorise les maladies et définit les règles de sélection de la cause initiale de décès (code CIM 10). Les données présentées dans ce fichier concernent les décès domiciliés à La Réunion sur l'ensemble des décès et décès ayant pour cause initiale un des codes CIM10 correspondant au diabète (E10-E14), aux tumeurs (C00-D50) et aux maladies cardiovasculaires (I00-I99)."]
[]
[null,"- les effectifs de population de l’Insee (pour les effectifs de population et les calculs de taux). "]
[null,"Les données utilisées pour les effectifs de population et les calculs de taux bruts par commune proviennent du recensement de population. "]
[]
[null,"-  les statistiques de l'état-civil de l'Insee"]
[null,"Les données concernant les naissances et les décès proviennent des statistiques d'état-civil exploitées par l'Insee."]
[]
[null,"Afin de respecter le secret statistique, les effectifs strictement inférieurs à 5 ne sont pas précisés dans ces tableaux, excepté pour les professionnels de santé."]
[]
[null,"CALCUL DES INDICATEURS"]
[null,"Les taux utilisés dans le fichier sont des taux bruts annuels ou des taux standardisés annuels ou moyens sur des périodes triennales."]
[null,"Les taux standardisés sur l’âge ont été calculés à partir des effectifs moyens enregistrés pour une année donnée (hospitalisation) ou des effectifs moyens sur des périodes triennales (mortalité, admission en ALD) en prenant comme population de référence la population française au recensement de population 2006."]
[null,"Les taux standardisés (sur l'âge) sont des taux que l’on observerait dans la région (ou la commune) si elle avait la même structure par âge que la population de référence (ici la population de la France entière, deux sexes confondus, au recensement de population 2006). Un taux comparatif permet de comparer la situation de 2 populations en éliminant les effets liés aux différences de structures par âge."]
[null,"Le taux de mortalité infantile est le rapport du nombre d'enfants décédés à moins d'un an sur l'ensemble des enfants nés vivants."]
[]
[null,"UTILISATION DES DONNEES"]
[null,"Pour toute utilisation des indicateurs de ce fichier de données, merci d’indiquer les sources de données telles qu’elles figurent dans la rubrique sommaire."]
[null,"Et merci d’ajouter la mention suivante : \" issu des Indicateurs Santé-Social édition 2019\". "]
[null,"L’ORS OI et l'ARS OI ne sont pas responsables des analyses, interprétations et conclusions faites par l’utilisateur à partir des données et indicateurs de cette source d'informations."]

{"sheet":"Définitions","index":3,"n_rows":81,"n_cols":2,"rows_kept":81,"cut":false,"hidden":false,"merged":[[0,2,0,3],[5,1,5,4]]}
[]
[]
[]
[]
[]
[]
[null,"Thématique : CADRAGE"]
[]
[null,"Naissances domiciliées : naissances comptabilisées au domicile de la mère. Ici, les données présentées sont issues de l'Etat civil de La Réunion."]
[]
[null,"Décès domiciliés : décès comptabilisés selon le domicile du défunt. Ici, les données présentées sont issues de l'Etat civil de La Réunion."]
[]
[]
[null,"Thématique : FINANCE"]
[]
[null,"Allocation personnalisée d'autonomie (APA) : allocation attribuée aux personnes âgées d'au moins 60 ans qui se trouvent  en situation de perte d'autonomie, nécessitant une aide pour l’accomplissement des actes de la vie courante. "]
[null,"L’APA concerne à la fois les personnes âgées résidant à domicile et celles demeurant en établissement. L'attribution de l'APA n'est pas soumise à une condition de ressources mais le montant de la somme perçue dépend du niveau du revenu."]
[]
[null,"Allocataire : l’allocataire est le titulaire du dossier et peut percevoir une ou plusieurs allocations pour son propre compte ainsi que pour le compte des bénéficiaires dont il est responsable."]
[]
[null,"Bénéficiaire d’une allocation : correspond à la personne qui ouvre droit à une prestation. Cette personne peut être soit l’allocataire, le conjoint ou le(s) enfant(s) à charge."]
[]
[null,"Personnes couvertes : comprend l’allocataire et les ayants droit."]
[]
[null,"Revenu de Solidarité Active (RSA) : en vigueur depuis le 1er juin 2010 en France métropolitaine et depuis le 1er janvier 2012 dans les départements d’outre-mer, il remplace le revenu minimum d’insertion (RMI), l’allocation de parent isolé (API) et les dispositifs associés d’intéressement à la reprise d’activité. Le RSA apporte également un complément de revenu à des travailleurs pauvres qui n’auraient pas pu bénéficier de ces aides. Depuis le 1er septembre 2010, le RSA est étendu au moins de 25 ans (RSA jeunes) sous condition de justifier de deux ans d’activité en équivalent temps plein, au cours des trois dernières années."]
[]
[null,"RSO : Revenu de Solidarité – versée aux personnes de 55 ans ou plus ayant perçu de façon continue le RSA depuis 2 ans au moins et qui s’engagent à quitter le marché du travail et de l'insertion. Prestation soumise à condition de ressources. Cette allocation n’est pas cumulable avec l’AAH, la pension d’invalidité ou certaines allocations de vieillesse perçues par l’allocataire ou son conjoint ou concubin. Un RSO différentiel peut être servi."]
[]
[null,"Allocation aux adultes handicapés (AAH) : créée en 1975, elle s’adresse aux personnes handicapées âgées de plus de 20 ans, ne pouvant prétendre ni à un avantage vieillesse ni à une rente d’accident du travail. "]
[null,"Le titulaire doit justifier d’un taux d’incapacité d’au moins 80%, ou d’au moins 50% si la Commission des Droits et de l'Autonomie des Personnes Handicapées reconnaît qu’il lui est impossible de travailler en raison de son handicap. "]
[]
[]
[null,"Thématique : CHOMAGE"]
[]
[null,"Demandes d’emploi en fin de mois (DEFM) : les demandeurs sont les personnes inscrites en fin de mois au Pôle Emploi. Ici les données présentées concernent les DEFM de catégories A et B au 31 décembre à La Réunion."]
[]
[null,"Catégories de demandeurs d’emploi :"]
[]
[null,"-       Catégorie A : elle regroupe les demandeurs d’emplois inscrits à Pôle Emploi, tenus de faire des actes positifs de recherche d’emploi et sans emploi. "]
[]
[null,"-       Catégorie B : elle regroupe les demandeurs d’emplois inscrits à Pôle Emploi, tenus de faire des actes positifs de recherche d’emploi et ayant exercé une activité réduite courte (de 78 heures au plus au cours du mois). "]
[]
[null,"-       Catégorie C : elle regroupe les demandeurs d’emplois inscrits à Pôle Emploi, tenus de faire des actes positifs de recherche d’emploi et ayant exercé une activité réduite longue (de plus de 78 heures au cours du mois). "]
[]
[null,"-       Catégorie D : elle regroupe les demandeurs d’emplois inscrits à Pôle Emploi, non tenus de faire des actes positifs de recherche d’emploi pour diverses raisons (stage, formation, maladie,…) et sans emploi."]
[]
[null,"-       Catégorie E : elle regroupe les demandeurs d’emplois inscrits à Pôle Emploi, non tenus de faire des actes positifs de recherche d’emploi et en emploi (par exemple : bénéficiaires de contrats aidés). "]
[]
[]
[null,"Thématique : FORMATION"]
[]
[null,"Allocation de Rentrée Scolaire (ARS) : créée en 1986, elle est versée annuellement, sous conditions de ressources, aux familles ayant au moins un enfant à charge scolarisé ou en apprentissage, âgé de 6 à 18 ans non révolus au 16 septembre suivant la rentrée. Le montant de l'ARS dépend de l'âge de l'enfant et vaut pour la dernière rentrée scolaire : 362,63 € pour un enfant de 6 à 10 ans, 382,64 € pour un enfant de 11 à 14 ans et 395,90 € pour un enfant de 15 à 18 ans"]
[]
[null,"Diplôme : les résultats du recensement de population font référence au diplôme de niveau le plus élevé que les individus ont déclaré posséder. "]
[null,"Les catégories de diplôme utilisées sont les suivantes :"]
[null," - Aucun diplôme ou au plus BEPC, Brevet des collèges, DNB"]
[null," - Certificat d'aptitudes professionnelles, Brevet d'études professionnelles"]
[null," - Baccalauréat général, technologique ou professionnel"]
[null," - Diplôme d'études supérieures"]
[]
[]
[null,"Thématique : LOGEMENT"]
[]
[null,"AL (Allocation de logement) : aide réservée aux personnes aux revenus modestes et ayant une charge de logement (loyer ou remboursement de prêt). Elle se subdivise en deux :"]
[null,"-  ALF (Allocation de Logement à caractère Familial) : versée aux allocataires ayant à charge au moins un enfant âgé de moins de 22 ans pour les DOM (moins de 21 ans pour la métropole), aux jeunes ménages sans enfant sous certaines conditions, aux personnes ou ménages ayant à leur charge un parent âgé ou infirme et justifiant d’une dépense de logement. Cette prestation est soumise à condition de ressources."]
[null,"-  ALS (Allocation de Logement à caractère Social) : versée aux allocataires ayant à faire face à des dépenses de logement et ne bénéficiant pas déjà de l’ALF. Cette prestation est soumise à condition de ressources."]
[]
[null,"Parc Locatif Social (PLS) : ensemble des programmes locatifs sociaux gérés par les organismes HLM (Habitation à Loyer Modéré) et les sociétés d’économie mixte de construction. Il n’inclut, en général, ni les programmes de logements-foyers ni les résidences de personnes âgées ou universitaires. Les nouvelles locations sont comptabilisées l’année de la première mise en location des logements."]
[]
[null,"Résidences principales (RP) : logement occupé de façon habituelle et à titre principal par une ou plusieurs personnes qui constituent un ménage. Il y a ainsi égalité entre le nombre de résidences principales et le nombre de ménages."]
[]
[]
[null,"Thématique : SANTE"]
[]
[null,"Protection Universelle maladie (PUMA) : Le 1er janvier 2016, la protection universelle maladie (PUMA) entre en application, la CMU de base est supprimée. La protection universelle maladie assure aux personnes qui exercent une activité professionnelle en France ou qui résident en France de façon stable et régulière, la prise en charge des frais de santé en cas de maladie ou de maternité, à titre personnel et de manière continue tout au long de la vie."]
[]
[null,"La Couverture Maladie Universelle Complémentaire (CMU-C) : Complémentaire santé gratuite qui prend en charge ce qui n'est pas couvert par les régimes d'assurance maladie obligatoire. La CMU-C est accordée pour un an sous condition de ressources. Au 1er Octobre 2014, le plafond annuel de ressources pour bénéficier de la CMU-C est fixé à 9 601 euros par an (soit 706 euros par mois) pour une personne seule dans les DOM. Ce montant évolue en fonction de la situation familiale et du lieu de résidence (en France métropolitaine ou dans un département d'outre-mer)."]
[]
[null,"Affection de Longue Durée (ALD) : Il s'agit des affections dont la gravité et/ou le caractère chronique nécessitent un traitement prolongé et une thérapeutique particulièrement coûteuse pour lesquelles le ticket modérateur est supprimé."]
[]
[null,"Mortalité prématurée : ensemble des décès qui surviennent avant l’âge de 65 ans."]

{"sheet":"Cadrage","index":4,"n_rows":43,"n_cols":27,"rows_kept":43,"cut":false,"hidden":false,"merged":[]}
[]
[]
[]
[]
[]
[]
[]
[]
[]
[null,"Sources et année : Selon l'indicatateur, reportez-vous au tableau de la page SOMMAIRE (cliquez sur l'intitulé de chaque colonne)"]
[]
[]
[]
["COMMUNE","Population totale ","Population 0-14 ans","Population 15-29 ans","Population 30-44 ans ","Population 45-59 ans","Population 60-74 ans","Population 75 ans et plus",null,"Hommes ","Hommes \n0-14 ans ","Hommes \n15-29 ans","Hommes \n30-44 ans","Hommes \n45-59 ans","Hommes \n60-74 ans","Hommes \n75 ans et plus",null,"Femmes ","Femmes \n0-14 ans ","Femmes \n15-29 ans","Femmes \n30-44 ans","Femmes \n45-59 ans ","Femmes \n60-74 ans","Femmes \n75 ans et plus",null,"Nombre de naissances","Nombre de décès"]
["Les Avirons",11471,2559.5510182982243,1919.0202591329601,2498.0333412432319,2639.4906003654205,1300.0725188081501,554.83226215202069,null,5594.6538858798476,1341.3394945565965,982.58991175982601,1144.0338048370029,1245.0097385720571,640.34701450836576,241.33392164600019,null,5876.3461141201587,1218.2115237416281,936.43034737313405,1353.9995364062288,1394.4808617933634,659.72550429978412,313.49834050602055,null,147,63]
["Bras-Panon",12722,3062.683609510209,2584.2964233631155,2500.5396240258688,2816.1539157738389,1316.8338315003134,441.49259582666508,null,6109.6136137526964,1542.1997924701659,1227.7074546529263,1187.5509309483916,1339.4286554970604,670.89053413367401,141.8362460504782,null,6612.3863862473136,1520.483817040043,1356.588968710189,1312.9886930774771,1476.7252602767785,645.9432973666394,299.65634977618691,null,198,80]
["Entre-Deux",6894.0000000000246,1578.3109478229542,1293.7869094375276,1317.4653761778802,1492.3727102472233,780.18611940927565,431.87793690516361,null,3377.7177058278653,806.92939995476775,664.87228458003779,615.8916306059441,737.9957538549811,394.44734228174963,157.58129455038465,null,3516.2822941721597,771.38154786818632,628.91462485748968,701.57374557193612,754.37695639224228,385.73877712752602,274.29664235477895,null,77,55]
["L'Étang-Salé",14230,3238.6692923209789,2358.0775866222762,3063.7101254295703,3254.8485275465418,1701.3929310673236,613.30153701331596,null,7040.6787066709794,1671.49017883078,1170.8516773821148,1433.2094416724042,1654.7322666568375,849.13144744516592,261.26369468367722,null,7189.321293329027,1567.1791134901987,1187.2259092401614,1630.5006837571659,1600.1162608897043,852.2614836221577,352.03784232963875,null,189,64]
["Petite-Île",12236,2608.5455020960708,1985.9579712598579,2397.1485321746686,2680.5530936224504,1860.8657057631565,702.9291950838001,null,6076.3364253713034,1382.2767505425988,1014.6810539110024,1103.2014208898074,1333.9433917740382,931.84657534568316,310.38723290817359,null,6159.6635746287002,1226.2687515534722,971.27691734885559,1293.947111284861,1346.609701848412,929.01913041747298,392.54196217562662,null,154,97]
["La Plaine-des-Palmistes",6365,1735,1135,1227,1253,740,275,null,3126,877,608,561,628,350,102,null,3239,858,527,666,625,390,173,null,94,39]
["Le Port",34810,8477.0424117229031,7883.4652208485777,6034.7853121291346,7042.7255318158886,3877.8563507546369,1494.1251727288663,null,16956.47269845321,4408.5180324746616,4142.3680126092158,2822.2580009153603,3280.6756440484046,1779.1094904426036,523.54351796296316,null,17853.527301546801,4068.5243792482415,3741.0972082393619,3212.5273112137743,3762.049887767485,2098.7468603120333,970.58165476590318,null,594,187]
["La Possession",32973,8630.4200600739387,6507.0998897558429,7121.3265663019274,6552.0124907544068,3220.6799144773554,941.46107863652912,null,15893.1165454368,4291.0139840423981,3197.7599965106861,3173.2713120735398,3242.3694879273321,1580.2161231882469,408.48564169459939,null,17079.883454563198,4339.4060760315415,3309.3398932451564,3948.0552542283881,3309.6430028270747,1640.4637912891089,532.97543694192984,null,588,141]
["Saint-André",55628,14742.598827983171,11776.471143973329,10661.338595504574,11248.070826605312,5343.6669055689954,1855.8537003645797,null,26424.61836089506,7417.7323375240157,5621.5947720823651,4784.251347632503,5421.223459027955,2470.9122065214192,708.90423810680318,null,29203.3816391049,7324.866490459156,6154.8763718909649,5877.0872478720712,5826.8473675773575,2872.7546990475762,1146.9494622577765,null,1012,292]
["Saint-Benoît",38142,9979.2254457376766,8056.1724259911634,7046.6245809374332,7622.113777716002,3934.3139965690839,1503.5497730486679,null,18442.797861036692,5167.2438148206193,4036.9400505298863,3041.7835288374431,3713.6400486613529,1884.7025156865627,598.48790250082629,null,19699.202138963337,4811.9816309170565,4019.2323754612771,4004.841052099991,3908.4737290546495,2049.6114808825214,905.06187054784164,null,698,229]
["Saint-Denis",147920,32014.760118767128,32595.768870340209,27612.532667127078,30489.177013169883,18012.806844689912,7194.9544859058033,null,68777.243746048131,16206.415049597916,15095.175474784995,12536.666320010005,14220.963647326829,8229.0149228151313,2489.0083315132561,null,79142.756253951884,15808.345069169212,17500.593395555214,15075.866347117071,16268.213365843054,9783.7919218747847,4705.9461543925472,null,2461,858]
["Saint-Joseph",37629,8571.8189927085641,6694.0475221956931,7190.0451197146413,8349.5228505958148,4688.8597074115605,2134.7058073737117,null,18317.857574593723,4346.3572809009829,3376.400158196046,3450.2074250074038,4024.7388450688022,2267.2686928816661,852.88517253882185,null,19311.142425406262,4225.4617118075803,3317.647363999647,3739.8376947072379,4324.7840055270117,2421.591014529894,1281.8206348348897,null,539,279]
["Saint-Leu",33697,7567.570793480656,6196.4984552086898,7451.8889279253654,7233.072734550482,3794.236065290248,1453.7330235445609,null,16536.849882212762,3810.9556016537758,3082.359319202656,3527.9507875892964,3661.6817660879569,1889.1905504195024,564.71185725957218,null,17160.150117787241,3756.6151918268802,3114.1391360060334,3923.938140336069,3571.3909684625246,1905.0455148707449,889.02116628498868,null,562,192]
["Saint-Louis",53220.000000000058,13543.819837900881,11192.008531073814,10330.830824776203,10557.394889371457,5321.1362457018076,2274.8096711758972,null,25775.139026310961,6967.0104952678166,5566.2569007887732,4714.9582029706817,5105.857842258969,2547.8032702799023,873.25231474481757,null,27444.860973689098,6576.8093426330634,5625.7516302850399,5615.8726218055244,5451.5370471124852,2773.3329754219053,1401.5573564310794,null,987,356]
["Saint-Paul",105482,23531.664143340939,19772.623048123231,22433.99247578868,22971.273229174963,12254.758319013161,4517.688784558969,null,51743.103396362174,12051.890649202493,10111.15301393693,10541.436814499501,11390.659637296389,5907.8271280161289,1740.136153410732,null,53738.896603637768,11479.773494138444,9661.4700341863008,11892.555661289176,11580.613591878577,6346.931190997032,2777.5526311482358,null,1415,571]
["Saint-Pierre",84169.000000000116,19425.479733273001,17250.672798945809,17194.185604595077,17188.009152005285,9606.5604626860713,3504.0922484948696,null,40447.237303426016,9894.8230155445544,8674.3776965772595,7843.1020931784706,8202.2161350465449,4502.0600374384312,1330.6583256407534,null,43721.7626965741,9530.6567177284433,8576.2951023685509,9351.0835114166057,8985.793016958738,5104.5004252476419,2173.4339228541157,null,1267,536]
["Saint-Philippe",5234.9999999999936,1105.7979337439506,1049.0448036872051,942.4885511507988,1280.2444190653375,602.35088971862069,255.07340263408045,null,2616.2939502984445,582.02225710083485,516.70067834858889,453.76569821852331,664.40180405887224,290.69764443200381,108.70586813962126,null,2618.7060497015491,523.77567664311562,532.34412533861632,488.7228529322756,615.84261500646528,311.65324528661688,146.36753449445919,null,75,44]
["Sainte-Marie",33160,7838.2481628010028,6784.2812592085293,6665.629905654022,7276.4274503321303,3494.177502397913,1101.2357196064397,null,16238.478034269066,4060.7434685441281,3283.048879638673,3171.7713360842658,3558.8693995559529,1735.4832274922674,428.56172295377951,null,16921.521965730972,3777.5046942568738,3501.2323795698562,3493.8585695697566,3717.5580507761774,1758.6942749056454,672.67399665266021,null,545,169]
["Sainte-Rose",6520.0000000000182,1484.2265976630126,1232.2839582239797,1130.6941842566278,1522.7990185459732,802.55921434208085,347.43702696834384,null,3276.2385172224685,770.05048667252811,642.04737147366461,541.47349524598621,767.98699796854783,400.26370943136686,154.41645643037504,null,3243.7614827775492,714.17611099048452,590.23658675031515,589.22068901064165,754.81202057742541,402.29550491071393,193.02057053796881,null,87,54]
["Sainte-Suzanne",23224,5725.2907599777127,4841.0587145388554,4535.9413966480888,5041.1918290510021,2300.779196012425,779.73810377191933,null,11190.974064079081,2931.7999588301341,2448.3637803290621,2020.1258337984837,2485.4487881091104,1007.5857505880964,297.64995242419195,null,12033.025935920925,2793.4908011475782,2392.6949342097937,2515.8155628496056,2555.7430409418921,1293.1934454243285,482.08815134772732,null,365,100]
["Salazie",7400,1750.184817643566,1514.8635492115964,1440.8693569631032,1553.1210984976401,798.03695428156925,342.92422340252875,null,3763.8211163023866,894.67529615356125,761.79699838964564,745.94540995182183,832.21518664216751,389.35873103525603,139.8294941299344,null,3636.178883697617,855.50952149000477,753.06655082195073,694.92394701128148,720.9059118554726,408.67822324631322,203.09472927259432,null,102,66]
["Le Tampon",77282.999999999927,18035.166507983799,15873.413889228194,14320.984503395555,16090.324793334876,9353.3056096716482,3609.8046963858615,null,37198.525096860591,9352.6835018290967,7702.1312432799814,6558.8611438434828,7745.567764614203,4459.8089108366858,1379.472532457143,null,40084.474903139344,8682.4830061547,8171.2826459482121,7762.1233595520753,8344.7570287206727,4893.4966988349624,2230.3321639287187,null,1224,453]
["Les Trois-Bassins",7111.0000000000082,1579.3093691643701,1522.9160442872171,1374.9425629604832,1551.5895728197067,760.20362541624377,322.03882535198716,null,3542.579553251016,795.14420174551151,798.14615238552142,677.94290340378484,778.38621395272673,373.44549860887872,119.51458315459288,null,3568.4204467489922,784.16516741885846,724.7698919016957,696.99965955669848,773.2033588669799,386.75812680736499,202.5242421973943,null,96,44]
["Cilaos",5403,1198.1611936647739,928.84204733076319,1061.5114046352378,1249.6622026539485,649.75805662569485,315.06509508958442,null,2737.9664281783184,627.79685684584024,493.14706781630002,509.96116920442859,693.15110377300971,308.94734911025574,104.96288142848434,null,2665.0335718216838,570.36433681893368,435.69497951446323,551.55023543080915,556.51109888093868,340.81070751543911,210.10221366110014,null,69,42]
["NORD",{"$f":"B34+B25+B32","v":204304},{"$f":"C34+C25+C32","v":45578.299041545848},44221.108844087597,38814.10396942919,42806.796292553016,23807.763543100249,9075.9283092841633,null,96206.695844396279,23198.958476972181,20826.588134752732,17728.563489892753,20265.281834991893,10972.083900895494,3215.2200068912271,null,108097.30415560378,22379.340564573664,23394.520709334865,21085.54047953643,22541.514457561123,12835.679642204759,5860.7083023929345,null,3371,{"$f":"AA34+AA25+AA32","v":1127}]
["EST",{"$f":"B16+B20+B23+B24+B33+B35","v":126777.00000000001},{"$f":"C16+C20+C23+C24+C33+C35","v":32753.919298537636},26299.087500763184,24007.066341687605,26015.258637138766,12935.410902262045,4766.2573196107851,null,61143.089469209306,16668.901727640889,12898.086647128488,10862.004712616146,12702.494347797085,6166.1276968082784,1845.4743372184171,null,65633.910530790716,16085.017570896744,13401.000853634696,13145.061629071461,13312.764289341683,6769.2832054537639,2920.782982392368,null,2191,{"$f":"AA16+AA20+AA23+AA24+AA33+AA35","v":760}]
["OUEST",{"$f":"B21+B22+B27+B29+B37","v":214073},{"$f":"C21+C22+C27+C29+C37","v":49786.006777782808},41882.602658223557,44416.935845105589,45350.673559115443,23907.734274951647,8729.0468848209111,null,104672.12207571596,25357.522469118841,21331.78649464501,20742.85981848148,22353.772749312811,11529.78879067536,3356.39175348246,null,109400.877924284,24428.484308663967,20550.816163578547,23674.076026624105,22996.900809802639,12377.945484276284,5372.6551313384516,null,3255,{"$f":"AA21+AA22+AA27+AA29+AA37","v":1135}]
["SUD",{"$f":"B15+B17+B18+B19+B26+B28+B30+B31+B36+B38","v":307770.00000000012},{"$f":"C15+C17+C18+C19+C26+C28+C30+C31+C36+C38","v":71865.320959813194},60544.872318914095,60316.403383292869,64782.423238808362,35864.488246863315,14396.491852308305,null,149182.40610341806,36972.729231373865,30162.008672639931,27827.192030428145,31407.614645678314,17192.358284559908,5620.5032387378769,null,158587.59389658208,34892.591728439322,30382.863646274174,32489.211352864721,33374.808593130037,18672.129962303399,8775.9886135704273,null,4728,{"$f":"AA15+AA17+AA18+AA19+AA26+AA28+AA30+AA31+AA36+AA38","v":1989}]
["LA REUNION",{"$f":"SUM(B39:B42)","v":852924.00000000012},{"$f":"SUM(C39:C42)","v":199983.54607767949},172947.67132198846,167554.50953951525,178955.15172761556,96515.39696717725,36967.724366024166,null,411204.31349273957,102198.11190510578,85218.469949166159,77160.620051418518,86729.163577780098,45860.358672939037,14037.58933632998,null,441719.6865072606,97785.434172573703,87729.201372822281,90393.889488096713,92225.988149835481,50655.038294238206,{"$f":"SUM(X39:X42)","v":22930.135029694182},null,13545,5011]

{"sheet":"Finance","index":5,"n_rows":44,"n_cols":29,"rows_kept":44,"cut":false,"hidden":false,"merged":[]}
[]
[]
[]
[]
[]
[]
[]
[]
[null,"Sources et année : Selon l'indicatateur, reportez-vous au tableau de la page SOMMAIRE (cliquez sur l'intitulé de chaque colonne)"]
[null,"*Effectifs d'allocataires ou de personnes couvertes \"Hors département\" non ventilés par commune mais inclus dans le total régional"]
[]
[]
[]
["COMMUNE","Nombre de bénéficiaires de l'APA à domicile","Nombre de bénéficiaires de l'APA en établissement","Nombre de bénéficiaires de l'APA en famille d'accueil","Nombre de bénéficiaires de l'APA","Part de bénéficiaire de l'APA \npour 100 habitants de 60 ans et plus",null,"Nombre d'allocataire d'au moins 1 minimum social","Part d'allocataires d'au moins 1 minimum social pour 100 ménages","Nombre de personnes couvertes d'au moins 1 minimum social","Part de personnes couvertes d'au moins 1 minimum social\npour 100 habitants",null,"Nombre d'allocataires du RSA","Part d'allocataires du RSA \npour 100 habitants de 25 à 59 ans","Nombre de personnes couvertes par le RSA","Part de personnes couvertes par le RSA\npour 100 habitants",null,"Nombre d'allocataires du RSO","Part d'allocataires du RSO \npour 100 habitants de 55 ans et plus","Nombre de personnes couvertes par le RSO","Part de personnes couvertes par le RSO\npour 100 habitants de 55 ans et plus",null,"Nombre d'allocataires de l'AAH","Part d'allocataires de l'AAH \npour 100 habitants de 20 à 59 ans","Nombre de personnes couvertes par l'AAH","Part de personnes couvertes par l'AAH pour 100 habitants de 20 à 59 ans",null,"Nombre de bénéficiaire du minimum vieillesse","Part de bénéficiaires du minimum vieillesse \npour 100 habitants de 60 ans et plus"]
["Les Avirons",211,14,8,233,{"$f":"E15/(Cadrage!G15+Cadrage!H15)*100","v":12.561291684168832},null,1144,26.2240844095085,2219,{"$f":"J15/Cadrage!B15*100","v":19.344433789556273},null,915,16.076776731143081,1868,16.284543631767065,null,43,1.6692620961065441,46,1.7857222423465355,null,189,3.0503715098419137,291,4.6966037532486604,null,310,{"$f":"AB15/(Cadrage!G15+Cadrage!H15)*100","v":16.712448163486428}]
["Bras-Panon",295,18,7,320,{"$f":"E16/(Cadrage!G16+Cadrage!H16)*100","v":18.199123611334585},null,1818,37.663323720518108,3760,{"$f":"J16/Cadrage!B16*100","v":29.555101399151081},null,1437,23.381318652248307,3165,24.878163810721585,null,73,2.7477990981791338,80,3.0112866829360367,null,309,4.4735969489995977,475,6.8768885138343325,null,250,{"$f":"AB16/(Cadrage!G16+Cadrage!H16)*100","v":14.218065321355144}]
["Entre-Deux",113,8,10,131,{"$f":"E17/(Cadrage!G17+Cadrage!H17)*100","v":10.808009635921039},null,638,24.31666068645448,1305,{"$f":"J17/Cadrage!B17*100","v":18.929503916449018},null,474,14.691508384416633,1053,15.274151436031277,null,35,2.1516279747716585,38,2.3360532297520864,null,130,3.6140853754105402,200,5.5601313467854467,null,184,{"$f":"AB17/(Cadrage!G17+Cadrage!H17)*100","v":15.18071582449978}]
["L'Étang-Salé",339,26,9,374,{"$f":"E18/(Cadrage!G18+Cadrage!H18)*100","v":16.157640032298662},null,1461,26.963993200665065,2782,{"$f":"J18/Cadrage!B18*100","v":19.550245959241039},null,1138,16.224980122384263,2317,16.282501756851723,null,74,2.2660979062526025,82,2.5110814636853163,null,252,3.2762151300021718,361,4.6933081822650156,null,328,{"$f":"AB18/(Cadrage!G18+Cadrage!H18)*100","v":14.170336712818077}]
["Petite-Île",258,27,20,305,{"$f":"E19/(Cadrage!G19+Cadrage!H19)*100","v":11.896427436502131},null,1533,31.742234889034123,2996,{"$f":"J19/Cadrage!B19*100","v":24.485125858123567},null,1138,19.741413302931328,2435,19.900294213795359,null,118,3.4697303283715133,126,3.7049662828373782,null,280,4.4446381131347712,416,6.6034623395145164,null,466,{"$f":"AB19/(Cadrage!G19+Cadrage!H19)*100","v":18.176180935770468}]
["La Plaine-des-Palmistes",130,11,5,146,{"$f":"E20/(Cadrage!G20+Cadrage!H20)*100","v":14.384236453201972},null,714,31.874999999999996,1726,{"$f":"J20/Cadrage!B20*100","v":27.117046347211311},null,565,20.14260249554367,1487,23.36213668499607,null,17,1.2195121951219512,21,1.5064562410329985,null,132,4.243008678881389,193,6.2037929926068793,null,120,{"$f":"AB20/(Cadrage!G20+Cadrage!H20)*100","v":11.822660098522167}]
["Le Port",561,36,21,618,{"$f":"E21/(Cadrage!G21+Cadrage!H21)*100","v":11.504134876459014},null,6285,51.879900498557085,13648,{"$f":"J21/Cadrage!B21*100","v":39.207124389543239},null,5189,34.313307756773256,11951,34.332088480321751,null,287,3.8084623140040188,311,4.1269399987987798,null,814,4.5946569893506384,1175,6.6323365632518438,null,993,{"$f":"AB21/(Cadrage!G21+Cadrage!H21)*100","v":18.484799243242396}]
["La Possession",254,41,17,312,{"$f":"E22/(Cadrage!G22+Cadrage!H22)*100","v":7.4961420220072554},null,3368,27.936951725850523,7490,{"$f":"J22/Cadrage!B22*100","v":22.715555151184301},null,2686,16.901609274301098,6406,19.428016862281261,null,122,2.0481759811811342,129,2.1656942751833306,null,566,3.2029596285997606,852,4.8214162607190749,null,475,{"$f":"AB22/(Cadrage!G22+Cadrage!H22)*100","v":11.41239570658156}]
["Saint-André",968,95,19,1082,{"$f":"E23/(Cadrage!G23+Cadrage!H23)*100","v":15.028778431556347},null,9363,47.562586478105388,22453,{"$f":"J23/Cadrage!B23*100","v":40.362766951894727},null,7748,30.813732764036477,19853,35.688861724311501,null,300,2.9136737493407354,340,3.3021635825861666,null,1321,4.5488790033627691,1950,6.7148478853576083,null,1136,{"$f":"AB23/(Cadrage!G23+Cadrage!H23)*100","v":15.778828371763412}]
["Saint-Benoît",753,62,22,837,{"$f":"E24/(Cadrage!G24+Cadrage!H24)*100","v":15.392073716087888},null,7048,52.175515190814828,15978,{"$f":"J24/Cadrage!B24*100","v":41.890829007393428},null,5668,33.434105205063034,13874,36.374600178281156,null,300,3.9149192163874331,328,4.2803116765835938,null,1086,5.5953812625403412,1598,8.2333510658742775,null,817,{"$f":"AB24/(Cadrage!G24+Cadrage!H24)*100","v":15.024282229443015}]
["Saint-Denis",1980,254,70,2304,{"$f":"E25/(Cadrage!G25+Cadrage!H25)*100","v":9.1400421076009586},null,19414,30.837964800401295,41214,{"$f":"J25/Cadrage!B25*100","v":27.862358031368306},null,15220,22.444785783806484,34847,23.558004326663063,null,1031,2.9829022011492485,1131,3.2722234621724544,null,3187,4.0607660408578683,4514,5.7515839060032681,null,2886,{"$f":"AB25/(Cadrage!G25+Cadrage!H25)*100","v":11.448854827489741}]
["Saint-Joseph",695,67,75,837,{"$f":"E26/(Cadrage!G26+Cadrage!H26)*100","v":12.266314409767034},null,6119,42.096346038940474,12756,{"$f":"J26/Cadrage!B26*100","v":33.899386111775492},null,4662,26.632679789608503,10562,28.068776741343115,null,411,4.4091017076975962,465,4.9883997422856012,null,1053,5.4140150183736759,1593,8.1904329765140229,null,1458,{"$f":"AB26/(Cadrage!G26+Cadrage!H26)*100","v":21.367128326690967}]
["Saint-Leu",778,37,20,835,{"$f":"E27/(Cadrage!G27+Cadrage!H27)*100","v":15.910916887381907},null,5089,40.300182724291069,10259,{"$f":"J27/Cadrage!B27*100","v":30.444846722260145},null,4147,24.970958547816824,8828,26.198177879336438,null,177,2.4222698968219989,199,2.7233429913422471,null,775,4.2011213653073334,1155,6.2610260347483484,null,817,{"$f":"AB27/(Cadrage!G27+Cadrage!H27)*100","v":15.567927062264694}]
["Saint-Louis",1257,59,41,1357,{"$f":"E28/(Cadrage!G28+Cadrage!H28)*100","v":17.864792809870238},null,9276,49.798957504797222,21262,{"$f":"J28/Cadrage!B28*100","v":39.951146185644447},null,7697,32.152855276507353,18734,35.201052236001459,null,405,3.8578934624104817,474,4.5151642004507861,null,1187,4.3446528538788378,1810,6.6249550678354652,null,1491,{"$f":"AB28/(Cadrage!G28+Cadrage!H28)*100","v":19.628891731404956}]
["Saint-Paul",1454,140,35,1629,{"$f":"E29/(Cadrage!G29+Cadrage!H29)*100","v":9.7123573557317222},null,13879,36.266346757480392,27334,{"$f":"J29/Cadrage!B29*100","v":25.91342598737225},null,11074,21.537207486561275,23397,22.181035626931607,null,708,3.0197987614695587,780,3.3268969406020568,null,2121,3.7000662891029656,2938,5.1253157743444184,null,2286,{"$f":"AB29/(Cadrage!G29+Cadrage!H29)*100","v":13.629495957767169}]
["Saint-Pierre",1161,140,59,1360,{"$f":"E30/(Cadrage!G30+Cadrage!H30)*100","v":10.373244032619166},null,13062,40.031254696911667,26389,{"$f":"J30/Cadrage!B30*100","v":31.352398151338335},null,10092,25.431076538390517,22078,26.230559944872777,null,620,3.4359384694902162,676,3.7462812989925585,null,2372,5.2674576161707147,3332,7.3993123006242927,null,1889,{"$f":"AB30/(Cadrage!G30+Cadrage!H30)*100","v":14.4081308658953}]
["Saint-Philippe",110,4,9,123,{"$f":"E31/(Cadrage!G31+Cadrage!H31)*100","v":14.34528985206358},null,801,41.156489632922771,1587,{"$f":"J31/Cadrage!B31*100","v":30.315186246418374},null,616,24.423786104735516,1332,25.444126074498598,null,53,4.3623489286790864,60,4.9385082211461357,null,133,4.6773078638140273,182,6.4005265504823532,null,202,{"$f":"AB31/(Cadrage!G31+Cadrage!H31)*100","v":23.558931301762954}]
["Sainte-Marie",373,32,17,422,{"$f":"E32/(Cadrage!G32+Cadrage!H32)*100","v":9.1830697178509411},null,3920,32.940803826351377,8624,{"$f":"J32/Cadrage!B32*100","v":26.007237635705671},null,3047,18.893868884561467,7318,22.068757539203858,null,200,3.0553547380957498,213,3.2539527960719732,null,680,3.7316889456157272,968,5.3121689696412107,null,496,{"$f":"AB32/(Cadrage!G32+Cadrage!H32)*100","v":10.793371042782148}]
["Sainte-Rose",221,10,11,242,{"$f":"E33/(Cadrage!G33+Cadrage!H33)*100","v":21.043547040139902},null,1178,49.448423415105914,2541,{"$f":"J33/Cadrage!B33*100","v":38.972392638036702},null,986,33.193587012562681,2243,34.401840490797447,null,45,2.8431191881537217,47,2.9694800409605535,null,149,4.4730009428208426,232,6.9646726089559436,null,229,{"$f":"AB33/(Cadrage!G33+Cadrage!H33)*100","v":19.913108562777015}]
["Sainte-Suzanne",373,14,9,396,{"$f":"E34/(Cadrage!G34+Cadrage!H34)*100","v":12.85498380508113},null,3082,37.374008582154012,6734,{"$f":"J34/Cadrage!B34*100","v":28.995866345160181},null,2462,22.529972616430367,5779,24.883740957630039,null,132,2.9954248606221063,149,3.381199274490104,null,493,3.9688573664362541,741,5.9653616805867431,null,408,{"$f":"AB34/(Cadrage!G34+Cadrage!H34)*100","v":13.244528768871469}]
["Salazie",181,17,11,209,{"$f":"E35/(Cadrage!G35+Cadrage!H35)*100","v":18.31788881933953},null,1395,53.956756217008326,3007,{"$f":"J35/Cadrage!B35*100","v":40.635135135135137},null,1101,31.676503832771701,2574,34.783783783783782,null,74,4.7769260520012828,82,5.2933504900554764,null,221,5.5723935958524802,327,8.2451253658088746,null,254,{"$f":"AB35/(Cadrage!G35+Cadrage!H35)*100","v":22.261931866565742}]
["Le Tampon",1884,70,96,2050,{"$f":"E36/(Cadrage!G36+Cadrage!H36)*100","v":15.814105963767499},null,10988,35.969780707100412,23482,{"$f":"J36/Cadrage!B36*100","v":30.38443124619906},null,8651,24.56479859171591,19948,25.81162739541687,null,554,3.1469413383048574,604,3.4309613146861615,null,1796,4.4853411968251038,2686,6.7080325471448932,null,1893,{"$f":"AB36/(Cadrage!G36+Cadrage!H36)*100","v":14.602976872883842}]
["Les Trois-Bassins",159,13,5,177,{"$f":"E37/(Cadrage!G37+Cadrage!H37)*100","v":16.354930438586695},null,1014,40.853625919123267,2020,{"$f":"J37/Cadrage!B37*100","v":28.406693854591445},null,822,24.004996028974737,1748,24.581634088032597,null,44,2.9801830773474962,48,3.2511088116518141,null,148,3.789410486250496,201,5.1464291063266874,null,200,{"$f":"AB37/(Cadrage!G37+Cadrage!H37)*100","v":18.480147388233554}]
["Cilaos",189,11,10,210,{"$f":"E38/(Cadrage!G38+Cadrage!H38)*100","v":21.765646857318711},null,940,44.152928555117789,1888,{"$f":"J38/Cadrage!B38*100","v":34.943549879696469},null,751,28.980311935599801,1614,29.872293170460857,null,49,3.7449517972938344,53,4.0506621480933305,null,142,4.9295845360573267,207,7.1860844997455402,null,232,{"$f":"AB38/(Cadrage!G38+Cadrage!H38)*100","v":24.045857480466385}]
["NORD",2726,300,96,3122,{"$f":"E39/(Cadrage!G39+Cadrage!H39)*100","v":9.4940678011907043},null,26416,31.787680971687927,56572,{"$f":"J39/Cadrage!B39*100","v":27.690108857388989},null,20729,21.85095017639339,47944,23.466990367295796,null,1363,2.9945343041449446,1493,3.2801465268440224,null,4360,3.9953539548047501,6223,5.702543041456412,null,{"$f":"AB34+AB25+AB32","v":3790},{"$f":"AB39/(Cadrage!G39+Cadrage!H39)*100","v":11.525469880369242}]
["EST",2548,213,75,2836,{"$f":"E40/(Cadrage!G40+Cadrage!H40)*100","v":16.021088885259609},null,21516,47.571717816441748,49465,{"$f":"J40/Cadrage!B40*100","v":39.017329641811997},null,17505,30.446374617689244,43196,34.07242638648966,null,809,3.2177454954780598,898,3.5717372743378211,null,3218,4.8932355398641887,4775,7.2607830027506219,null,{"$f":"AB16+AB20+AB23+AB24+AB33+AB35","v":2806},{"$f":"AB40/(Cadrage!G40+Cadrage!H40)*100","v":15.851613332876749}]
["OUEST",3206,267,98,3571,{"$f":"E41/(Cadrage!G41+Cadrage!H41)*100","v":10.941642751220646},null,29635,38.214232357353971,60751,{"$f":"J41/Cadrage!B41*100","v":28.378637193854434},null,23918,23.342840935939641,52330,24.444932336165699,null,1338,2.9264288499210598,1467,3.2085733354515651,null,4424,3.8448248211733151,6321,5.4934759707587082,null,{"$f":"AB21+AB22+AB27+AB29+AB37","v":4771},{"$f":"AB41/(Cadrage!G41+Cadrage!H41)*100","v":14.618475935612912}]
["SUD",6217,426,337,6980,{"$f":"E42/(Cadrage!G42+Cadrage!H42)*100","v":13.887512711108158},null,45962,39.067007268016901,96666,{"$f":"J42/Cadrage!B42*100","v":31.408519348864399},null,36134,25.24132659939341,81941,26.62410241414042,null,2362,3.4301013300616341,2624,3.8105782769185979,null,7534,4.6692992252936989,11078,6.8657415473591179,null,{"$f":"AB15+AB17+AB18+AB19+AB26+AB28+AB30+AB31+AB36+AB38","v":8453},{"$f":"AB42/(Cadrage!G42+Cadrage!H42)*100","v":16.818215608452327}]
["LA REUNION",14697,1206,606,16509,{"$f":"E43/(Cadrage!G43+Cadrage!H43)*100","v":12.367855827097516},null,123601,38.204027750145919,263622,{"$f":"J43/Cadrage!B43*100","v":30.908029320314583},null,98355,24.713674075026187,225569,26.44655326852099,null,5873,3.1704767327658292,6483,3.4997787601772301,null,19538,4.3292076414348095,28401,6.2930610207999811,null,{"$f":"SUM(AB39:AB42)","v":19820},{"$f":"AB43/(Cadrage!G43+Cadrage!H43)*100","v":14.848319249686401}]
[null,null,null,null,null,null,null,"72*",null,"168*",null,null,"69*",null,"158*",null,null,"<5*",null,"<5*",null,null,"<5*",null,"<5*"]

{"sheet":"Chômage","index":6,"n_rows":44,"n_cols":15,"rows_kept":44,"cut":false,"hidden":false,"merged":[]}
[]
[]
[]
[]
[]
[]
[]
[]
[null,"Sources et année : Selon l'indicatateur, reportez-vous au tableau de la page SOMMAIRE (cliquez sur l'intitulé de chaque colonne)"]
[null,"NB : Les données présentées dans ce tableau sont arrondies à la dizaine. Pour cette raison, la somme des valeurs d'une colonne peut légèrement différer du total affiché"]
[null,"*Effectifs d'allocataires ou de personnes couvertes \"Hors département\" non ventilés par commune mais inclus dans le total régional"]
[]
[]
["COMMUNE","Nombre de  demandeurs d'emploi (cat. A B)","Nombre de demandeurs d’emploi (cat. A B) \nde moins de 25 ans","Nombre de demandeurs d’emploi (cat. A B) \nde 25 à 49 ans","Nombre de demandeurs d’emploi (cat. A B) \nde 50 ans ou plus",null,"Nombre de  demandeurs d'emploi (cat. A B)\nHommes","Nombre de demandeurs d’emploi (cat. A B) \nde moins de 25 ans\nHommes","Nombre de demandeurs d’emploi (cat. A B) \nde 25 à 49 ans\nHommes","Nombre de demandeurs d’emploi (cat. A B) \nde 50 ans ou plus\nHommes",null,"Nombre de  demandeurs d'emploi (cat. A B)\nFemmes","Nombre de demandeurs d’emploi (cat. A B) \nde moins de 25 ans\nFemmes","Nombre de demandeurs d’emploi (cat. A B) \nde 25 à 49 ans\nFemmes","Nombre de demandeurs d’emploi (cat. A B) \nde 50 ans ou plus\nFemmes"]
["Les Avirons",1770,190,1070,510,null,810,90,490,230,null,960,100,580,280]
["Bras-Panon",1990,230,1180,590,null,990,100,600,290,null,1010,130,580,300]
["Entre-Deux",1120,160,630,340,null,510,80,270,160,null,620,70,360,190]
["L'Étang-Salé",2490,270,1460,760,null,1120,120,650,350,null,1360,150,810,400]
["Petite-Île",2100,190,1190,720,null,1010,90,550,370,null,1100,100,640,360]
["La Plaine-des-Palmistes",920,140,550,240,null,440,70,260,110,null,490,70,290,130]
["Le Port",7090,950,4040,2100,null,3350,440,1910,1000,null,3750,510,2130,1110]
["La Possession",4910,670,3020,1220,null,2210,310,1300,600,null,2710,370,1720,620]
["Saint-André",9160,1270,5440,2450,null,4610,660,2680,1270,null,4570,610,2770,1190]
["Saint-Benoît",5750,820,3420,1510,null,2800,370,1680,750,null,2950,450,1740,760]
["Saint-Denis",23410,2890,14080,6440,null,11500,1420,6850,3230,null,11910,1470,7230,3210]
["Saint-Joseph",8170,860,4730,2590,null,3910,410,2220,1280,null,4260,450,2500,1310]
["Saint-Leu",7090,780,4310,2000,null,3460,380,2100,980,null,3620,390,2210,1020]
["Saint-Louis",11020,1460,6530,3030,null,5130,680,3000,1450,null,5900,780,3530,1590]
["Saint-Paul",17620,2160,10740,4710,null,8810,1010,5320,2480,null,8820,1160,5430,2230]
["Saint-Pierre",16230,1870,9630,4720,null,7690,880,4490,2320,null,8550,1000,5140,2410]
["Saint-Philippe",1210,140,660,420,null,550,80,280,190,null,660,60,370,230]
["Sainte-Marie",5060,690,3150,1220,null,2380,340,1430,610,null,2670,350,1710,610]
["Sainte-Rose",1230,170,680,390,null,610,80,330,200,null,610,80,350,180]
["Sainte-Suzanne",3540,440,2140,960,null,1730,200,1030,500,null,1800,240,1110,450]
["Salazie",1510,190,890,430,null,770,90,460,220,null,740,100,430,210]
["Le Tampon",14650,1820,8570,4270,null,6740,820,3860,2060,null,7930,1010,4710,2210]
["Les Trois-Bassins",1450,190,830,440,null,680,80,390,210,null,760,110,430,220]
["Cilaos",1440,170,830,440,null,760,90,440,230,null,680,80,400,200]
["NORD",{"$f":"B34+B25+B32","v":32010},{"$f":"C34+C25+C32","v":4020},{"$f":"D34+D25+D32","v":19370},{"$f":"E34+E25+E32","v":8620},null,{"$f":"G34+G25+G32","v":15610},{"$f":"H34+H25+H32","v":1960},{"$f":"I34+I25+I32","v":9310},{"$f":"J34+J25+J32","v":4340},null,{"$f":"L34+L25+L32","v":16380},{"$f":"M34+M25+M32","v":2060},{"$f":"N34+N25+N32","v":10050},{"$f":"O34+O25+O32","v":4270}]
["EST",{"$f":"B16+B20+B23+B24+B33+B35","v":20560},{"$f":"C16+C20+C23+C24+C33+C35","v":2820},{"$f":"D16+D20+D23+D24+D33+D35","v":12160},{"$f":"E16+E20+E23+E24+E33+E35","v":5610},null,{"$f":"G16+G20+G23+G24+G33+G35","v":10220},{"$f":"H16+H20+H23+H24+H33+H35","v":1370},{"$f":"I16+I20+I23+I24+I33+I35","v":6010},{"$f":"J16+J20+J23+J24+J33+J35","v":2840},null,{"$f":"L16+L20+L23+L24+L33+L35","v":10370},{"$f":"M16+M20+M23+M24+M33+M35","v":1440},{"$f":"N16+N20+N23+N24+N33+N35","v":6160},{"$f":"O16+O20+O23+O24+O33+O35","v":2770}]
["OUEST",{"$f":"B21+B22+B27+B29+B37","v":38160},{"$f":"C21+C22+C27+C29+C37","v":4750},{"$f":"D21+D22+D27+D29+D37","v":22940},{"$f":"E21+E22+E27+E29+E37","v":10470},null,{"$f":"G21+G22+G27+G29+G37","v":18510},{"$f":"H21+H22+H27+H29+H37","v":2220},{"$f":"I21+I22+I27+I29+I37","v":11020},{"$f":"J21+J22+J27+J29+J37","v":5270},null,{"$f":"L21+L22+L27+L29+L37","v":19660},{"$f":"M21+M22+M27+M29+M37","v":2540},{"$f":"N21+N22+N27+N29+N37","v":11920},{"$f":"O21+O22+O27+O29+O37","v":5200}]
["SUD",{"$f":"B15+B17+B18+B19+B26+B28+B30+B31+B36+B38","v":60200},{"$f":"C15+C17+C18+C19+C26+C28+C30+C31+C36+C38","v":7130},{"$f":"D15+D17+D18+D19+D26+D28+D30+D31+D36+D38","v":35300},{"$f":"E15+E17+E18+E19+E26+E28+E30+E31+E36+E38","v":17800},null,{"$f":"G15+G17+G18+G19+G26+G28+G30+G31+G36+G38","v":28230},{"$f":"H15+H17+H18+H19+H26+H28+H30+H31+H36+H38","v":3340},{"$f":"I15+I17+I18+I19+I26+I28+I30+I31+I36+I38","v":16250},{"$f":"J15+J17+J18+J19+J26+J28+J30+J31+J36+J38","v":8640},null,{"$f":"L15+L17+L18+L19+L26+L28+L30+L31+L36+L38","v":32020},{"$f":"M15+M17+M18+M19+M26+M28+M30+M31+M36+M38","v":3800},{"$f":"N15+N17+N18+N19+N26+N28+N30+N31+N36+N38","v":19040},{"$f":"O15+O17+O18+O19+O26+O28+O30+O31+O36+O38","v":9180}]
["LA REUNION",151000,18710,89790,42500,null,72550,8880,42590,21080,null,78450,9830,47200,21420]
[null,"60*","10*","40*","10*",null,"40*","10*","20*","10*",null,"30*","10*","20*"]

{"sheet":"Formation","index":7,"n_rows":44,"n_cols":6,"rows_kept":44,"cut":false,"hidden":false,"merged":[]}
[]
[]
[]
[]
[]
[]
[]
[]
[null,"Sources et année : Selon l'indicatateur, reportez-vous au tableau de la page SOMMAIRE (cliquez sur l'intitulé de chaque colonne)"]
[null,"*Effectifs d'allocataires ou de personnes couvertes \"Hors département\" non ventilés par commune mais inclus dans le total régional"]
[]
[]
[]
["COMMUNE","Nombre d'enfants bénéficiaires de l'Allocation de Rentrée Scolaire (ARS)","Nombre de personnes de 15 ans ou plus non scolarisés ne possédant aucun diplôme ou au plus BEPC, brevet des collèges, DNB ","Part des 15 ans ou plus non scolarisés ne possédant aucun diplôme ou au plus BEPC, brevet des collèges, DNB","Effectif des 15-34 ans non scolarisés ne possédant aucun diplôme ou au plus BEPC, brevet des collèges, DNB","Proportion des 15-34 ans non scolarisés ne possédant aucun diplôme ou au plus BEPC, brevet des collèges, DNB"]
["Les Avirons",1298,3208.4912203426125,{"$f":"C15/(SUM(Cadrage!D15:H15))*100","v":36.004147327002933},387.4701844514247,14.8353723403856]
["Bras-Panon",2009,3645.2458202145849,{"$f":"C16/(SUM(Cadrage!D16:H16))*100","v":37.738134593081107},442.07520245180871,13.089173404750303]
["Entre-Deux",856,2508.3471981045764,{"$f":"C17/(SUM(Cadrage!D17:H17))*100","v":47.187620898879871},400.11856667073096,23.53920719075132]
["L'Étang-Salé",1648,3961.6124474408662,{"$f":"C18/(SUM(Cadrage!D18:H18))*100","v":36.043064782620995},515.11049929886747,16.003066911331725]
["Petite-Île",1615,4475.5637363222822,{"$f":"C19/(SUM(Cadrage!D19:H19))*100","v":46.487508585957912},367.89825445834998,13.393662432639319]
["La Plaine-des-Palmistes",1258,1800,{"$f":"C20/(SUM(Cadrage!D20:H20))*100","v":38.876889848812098},260,17.105263157894736]
["Le Port",6368,13352.527916070248,{"$f":"C21/(SUM(Cadrage!D21:H21))*100","v":50.706525734179287},2400.2092146877721,27.037870021093628]
["La Possession",4750,7514.3459580543058,{"$f":"C22/(SUM(Cadrage!D22:H22))*100","v":30.869143601863964},1230.4984303843491,12.582272157991673]
["Saint-André",10786,17177.60573992573,{"$f":"C23/(SUM(Cadrage!D23:H23))*100","v":42.014032509194514},2873.2888358860992,19.039978275716752]
["Saint-Benoît",7101,12582.881556931346,{"$f":"C24/(SUM(Cadrage!D24:H24))*100","v":44.679126102037294},2173.4984420238507,21.215122182233028]
["Saint-Denis",20542,40768.411577273306,{"$f":"C25/(SUM(Cadrage!D25:H25))*100","v":35.173915880807762},6024.7648766136726,14.414119869723571]
["Saint-Joseph",5835,14140.121379540738,{"$f":"C26/(SUM(Cadrage!D26:H26))*100","v":48.66308736553799},1690.8437299311961,19.140051575272579]
["Saint-Leu",5068,10668.52446261054,{"$f":"C27/(SUM(Cadrage!D27:H27))*100","v":40.829535074377816},1576.2118613956309,18.862143023915952]
["Saint-Louis",10372,18277.305377099678,{"$f":"C28/(SUM(Cadrage!D28:H28))*100","v":46.066192114328445},2960.2805430296148,20.834814459664805]
["Saint-Paul",14106,33466.483582352368,{"$f":"C29/(SUM(Cadrage!D29:H29))*100","v":40.837518519618122},5438.6843963937054,20.714155066853781]
["Saint-Pierre",12502,25735.054844627623,{"$f":"C30/(SUM(Cadrage!D30:H30))*100","v":39.749236276627578},4104.8659345083088,18.160339971235729]
["Saint-Philippe",799,2055.0327131055355,{"$f":"C31/(SUM(Cadrage!D31:H31))*100","v":49.76827677917052},277.44318954222348,20.640364124025126]
["Sainte-Marie",4867,9376.9106336845834,{"$f":"C32/(SUM(Cadrage!D32:H32))*100","v":37.0310501973619},1484.1887569162486,16.639507513604698]
["Sainte-Rose",1123,2591.5551339071494,{"$f":"C33/(SUM(Cadrage!D33:H33))*100","v":51.462902057992885},386.04114107593762,24.563671622495153]
["Sainte-Suzanne",3580,6985.7200326903176,{"$f":"C34/(SUM(Cadrage!D34:H34))*100","v":39.921344693886788},1003.3162577951844,16.167085454113799]
["Salazie",1284,3298.4729170479286,{"$f":"C35/(SUM(Cadrage!D35:H35))*100","v":58.381961366605161},649.93127025008187,32.776903952999191]
["Le Tampon",11627,24754.571434394104,{"$f":"C36/(SUM(Cadrage!D36:H36))*100","v":41.781395158913071},3681.37649415337,17.964849887514841]
["Les Trois-Bassins",1069,2542.534714044069,{"$f":"C37/(SUM(Cadrage!D37:H37))*100","v":45.963067780238184},411.07891509149908,21.27331822224798]
["Cilaos",870,2473.7356754112434,{"$f":"C38/(SUM(Cadrage!D38:H38))*100","v":58.830689815842277},423.81238916406875,33.994700722366233]
["NORD",{"$f":"B34+B25+B32","v":28989},57131.042243648204,{"$f":"C39/(SUM(Cadrage!D39:H39))*100","v":35.993567455469623},{"$f":"E34+E25+E32","v":8512.2698913251061},14.953942917143525]
["EST",{"$f":"B16+B20+B23+B24+B33+B35","v":23561},41095.761168026729,{"$f":"C40/(SUM(Cadrage!D40:H40))*100","v":43.708162784531638},{"$f":"E16+E20+E23+E24+E33+E35","v":6784.8348916877785},20.080746575002166]
["OUEST",{"$f":"B21+B22+B27+B29+B37","v":31361},67544.416633131535,{"$f":"C41/(SUM(Cadrage!D41:H41))*100","v":41.113672670221618},{"$f":"E21+E22+E27+E29+E37","v":11056.682817952957},20.029653448698024]
["SUD",{"$f":"B15+B17+B18+B19+B26+B28+B30+B31+B36+B38","v":47422},101589.83602638925,{"$f":"C42/(SUM(Cadrage!D42:H42))*100","v":43.063934314369057},{"$f":"E15+E17+E18+E19+E26+E28+E30+E31+E36+E38","v":14809.219785208155},18.744406071781704]
["LA REUNION",{"$f":"SUM(B39:B42)+56","v":131389},267361.05607119575,{"$f":"C43/(SUM(Cadrage!D43:H43))*100","v":40.94723408009321},{"$f":"SUM(E39:E42)","v":41163.007386173995},18.3]
[null,"56*"]

{"sheet":"Logement","index":8,"n_rows":44,"n_cols":11,"rows_kept":44,"cut":false,"hidden":false,"merged":[]}
[]
[]
[]
[]
[]
[]
[]
[]
[]
[null,"Sources et année : Selon l'indicatateur, reportez-vous au tableau de la page SOMMAIRE (cliquez sur l'intitulé de chaque colonne)"]
[null,"*Effectifs d'allocataires ou de personnes couvertes \"Hors département\" non ventilés par commune mais inclus dans le total régional"]
[]
[]
["COMMUNE","Nombre d'allocataires d'aides au logement","Part d'allocataires d'aides au logement pour 100 ménages","Nombre de logements sociaux","Part de logements sociaux pour 100 habitations principales","Nombre de demandeurs actifs de logements sociaux","Part de demandeurs de logements sociaux pour 100 ménages","Part de demandeurs de logement sociaux pour 100 logements sociaux existants",null,"ménage","hab principale"]
["Les Avirons",1115,{"$f":"B15/J15*100","v":25.559313038987767},564,{"$f":"D15/K15*100","v":12.702702702702704},217,{"$f":"F15/J15*100","v":4.9743237035518799},{"$f":"F15/D15*100","v":38.475177304964539},null,4362.4020657331312,4440]
["Bras-Panon",1837,{"$f":"B16/J16*100","v":38.056944815507038},1618,{"$f":"D16/K16*100","v":33.771655186808594},422,{"$f":"F16/J16*100","v":8.7425316887011277},{"$f":"F16/D16*100","v":26.081582200247215},null,4826.977070559481,4791]
["Entre-Deux",707,26.946518973861,216,8.3044982698961931,116,4.421211033900815,53.703703703703709,null,2623.7155184527287,2601]
["L'Étang-Salé",1100,20.301432252383005,811,14.861645592816567,451,8.3235872234770323,55.610357583230574,null,5418.33692482894,5457]
["Petite-Île",1268,26.25515579862703,199,4,174,3.6028368367201127,87.437185929648237,null,4829.5276163103481,4975]
["La Plaine-des-Palmistes",826,36.875,365,14.952888160589922,184,8.2142857142857135,50.410958904109592,null,2240,2441]
["Le Port",6390,52.746629146504375,7127,59.105987725991035,1688,13.933694835571108,23.684579767082926,null,12114.518223054029,12058]
["La Possession",3782,31.371006955809598,3707,29.556689523202039,1894,15.710387936092909,51.092527650391148,null,12055.717578104744,12542]
["Saint-André",8760,44.499440088454875,4930,24.593435099271673,1885,9.5755073706321276,38.235294117647058,null,19685.640948711021,20046]
["Saint-Benoît",5934,43.92870419158556,4637,33.104876133361891,1171,8.6687752963172713,25.253396592624544,null,13508.251857646745,14007]
["Saint-Denis",27588,43.821869419669902,22556,36.445306188398774,6958,11.052362165509031,30.847668026245788,null,62954.867889814028,61890]
["Saint-Joseph",5170,35.567594218225565,1869,12.632646164244676,1090,7.4987771175756031,58.319957196361692,null,14535.70339416093,14795]
["Saint-Leu",3194,25.293531857218643,1424,10.792784599060179,910,7.2063600469846483,63.90449438202247,null,12627.734307846173,13194]
["Saint-Louis",6995,37.553224207207464,3656,19.180525680709302,1149,6.168499587431219,31.427789934354482,null,18626.895952804694,19061]
["Saint-Paul",8496,22.200366168423756,5703,14.599866878296041,3764,9.8354729587979062,66.000350692617914,null,38269.639048044686,39062]
["Saint-Pierre",11739,35.976642082915781,6752,20.045720393076628,3015,9.2401035761130501,44.65343601895735,null,32629.504368264807,33683]
["Saint-Philippe",600,30.828831185709927,148,7.8639744952178532,94,4.8298502190945554,63.513513513513509,null,1946.2301259027872,1882]
["Sainte-Marie",3721,31.268553836187117,2934,23.319027181688128,1215,10.209968532912484,41.411042944785272,null,11900.134619253431,12582]
["Sainte-Rose",763,32.02813842591322,312,12.881915772089183,113,4.7433547079006475,36.217948717948715,null,2382.2801995344021,2422]
["Sainte-Suzanne",2627,31.856431065969687,1827,22.161572052401745,674,8.1732906503477611,36.891078270388618,null,8246.3725913298131,8244]
["Salazie",601,23.245885653349106,70,2.7657052548399843,43,1.6631831665457761,61.428571428571431,null,2585.4037525707786,2531]
["Le Tampon",11738,38.424944115393608,4125,13.648997419098668,2161,7.0741441670953806,52.387878787878783,null,30547.86485765527,30222]
["Les Trois-Bassins",486,19.580731949402271,177,7.0015822784810124,161,6.4866210778884064,90.960451977401121,null,2482.0318323944771,2528]
["Cilaos",471,22.123435478149446,62,2.9272898961284231,12,0.56365440708661008,19.35483870967742,null,2128.9641044456703,2118]
["NORD",{"$f":"B34+B25+B32","v":33936},40.836869376711157,{"$f":"D34+D25+D32","v":27317},33.025049567193768,{"$f":"F34+F25+F32","v":8847},10.64603322064367,32.386426035069739,null,{"$f":"J34+J25+J32","v":83101.375100397272},{"$f":"K34+K25+K32","v":82716}]
["EST",{"$f":"B16+B20+B23+B24+B33+B35","v":18721},41.39199336501234,{"$f":"D16+D20+D23+D24+D33+D35","v":11932},25.805614429689864,{"$f":"F16+F20+F23+F24+F33+F35","v":3818},8.4415699304319816,31.997988602078443,null,{"$f":"J16+J20+J23+J24+J33+J35","v":45228.553829022429},{"$f":"K16+K20+K23+K24+K33+K35","v":46238}]
["OUEST",{"$f":"B21+B22+B27+B29+B37","v":22348},28.817670481597666,{"$f":"D21+D22+D27+D29+D37","v":18138},22.848432933588633,{"$f":"F21+F22+F27+F29+F37","v":8417},10.85369305725826,46.405336861837029,null,{"$f":"J21+J22+J27+J29+J37","v":77549.640989444102},{"$f":"K21+K22+K27+K29+K37","v":79384}]
["SUD",{"$f":"B15+B17+B18+B19+B26+B28+B30+B31+B36+B38","v":40903},34.766933516463503,{"$f":"D15+D17+D18+D19+D26+D28+D30+D31+D36+D38","v":18402},15.433517285338075,{"$f":"F15+F17+F18+F19+F26+F28+F30+F31+F36+F38","v":8479},7.2070222058551696,46.076513422454077,null,{"$f":"J15+J17+J18+J19+J26+J28+J30+J31+J36+J38","v":117649.1449285593},{"$f":"K15+K17+K18+K19+K26+K28+K30+K31+K36+K38","v":119234}]
["LA REUNION",{"$f":"SUM(B39:B42)+37","v":115945},{"$f":"B43/J43*100","v":35.837622652653863},{"$f":"SUM(D39:D42)","v":75789},23.13659287118557,{"$f":"SUM(F39:F42)","v":29561},9.1370560458415682,39.004340999353474,null,{"$f":"SUM(J39:J42)","v":323528.71484742308},{"$f":"SUM(K39:K42)","v":327572}]
[null,"37*"]

{"sheet":"Santé générale","index":9,"n_rows":43,"n_cols":5,"rows_kept":43,"cut":false,"hidden":false,"merged":[]}
[]
[]
[]
[]
[]
[]
[]
[]
[]
[null,"Sources et année : Selon l'indicatateur, reportez-vous au tableau de la page SOMMAIRE (cliquez sur l'intitulé de chaque colonne)"]
[]
[]
[]
["COMMUNE","Nombre de naissances de mères mineures","Taux de naissances de mères mineures \npour 100 naissances vivantes","Nombre de décès d'enfants de moins de un an","Taux de mortalité infantile (pour 1 000 naissances vivantes)"]
["Les Avirons","<5","nc",0,0]
["Bras-Panon","<5","nc",0,0]
["Entre-Deux","<5","nc",0,0]
["L'Étang-Salé","<5","nc",0,0]
["Petite-Île","<5","nc",0,0]
["La Plaine-des-Palmistes",7,7.4468085106382975E-2,"<5","nc"]
["Le Port",17,2.8619528619528621E-2,"<5","nc"]
["La Possession",9,1.5306122448979591E-2,"<5","nc"]
["Saint-André",30,2.9644268774703556E-2,5,4.9407114624505928]
["Saint-Benoît",25,3.5816618911174783E-2,6,8.595988538681949]
["Saint-Denis",49,1.9910605444941082E-2,19,7.7204388459975615]
["Saint-Joseph",11,2.0408163265306121E-2,"<5","nc"]
["Saint-Leu",8,1.4234875444839857E-2,"<5","nc"]
["Saint-Louis",25,2.5329280648429583E-2,6,6.0790273556231007]
["Saint-Paul",24,1.6961130742049468E-2,5,3.5335689045936394]
["Saint-Pierre",29,2.2888713496448304E-2,9,7.1033938437253354]
["Saint-Philippe",0,0,"<5","nc"]
["Sainte-Marie",7,1.2844036697247707E-2,"<5","nc"]
["Sainte-Rose","<5","nc",0,0]
["Sainte-Suzanne",9,2.4657534246575342E-2,6,16.43835616438356]
["Salazie","<5","nc","<5","nc"]
["Le Tampon",33,2.6960784313725492E-2,6,4.9019607843137258]
["Les Trois-Bassins","<5","nc",0,0]
["Cilaos",5,7.2463768115942032E-2,0,0]
["NORD",65,1.9282112132898249E-2,29,8.6027884900622968]
["EST",70,3.1948881789137379E-2,14,6.3897763578274756]
["OUEST",62,1.9047619047619049E-2,15,4.6082949308755756]
["SUD",112,2.3688663282571912E-2,24,5.0761421319796947]
["LA REUNION",309,2.2812846068660023E-2,82,6.0538944259874494]

{"sheet":"Accès aux soins","index":10,"n_rows":44,"n_cols":10,"rows_kept":44,"cut":false,"hidden":false,"merged":[[12,0,13,0],[12,1,12,3],[12,4,13,4],[12,6,12,8],[12,9,13,9]]}
[]
[]
[]
[]
[]
[]
[]
[]
[]
[null,"Sources et année : Selon l'indicatateur, reportez-vous au tableau de la page SOMMAIRE (cliquez sur l'intitulé de chaque colonne)"]
[]
[]
["COMMUNE","Nombre de bénéficiaires de la PUMA",null,null,"Part de bénéficiaires de la PUMA \npour 100 habitants",null,"Nombre de bénéficiaires de la CMU complémentaire",null,null,"Part de bénéficiaires de la CMU complémentaire pour 100 habitants"]
[null,"Femmes","Hommes","Ensemble",null,null,"Femmes","Hommes","Ensemble"]
["Les Avirons",893,761,{"$f":"C15+B15","v":1654},{"$f":"D15/Cadrage!B15*100","v":14.418969575451138},null,1437,1177,{"$f":"H15+G15","v":2614},{"$f":"I15/Cadrage!B15*100","v":22.787899921541278}]
["Bras-Panon",1333,1084,2417,{"$f":"D16/Cadrage!B16*100","v":18.99858512812451},null,2313,1845,4158,{"$f":"I16/Cadrage!B16*100","v":32.683540323848455}]
["Entre-Deux",496,425,921,{"$f":"D17/Cadrage!B17*100","v":13.359442993907697},null,904,771,1675,{"$f":"I17/Cadrage!B17*100","v":24.296489701189351}]
["L'Étang-Salé",1130,993,2123,{"$f":"D18/Cadrage!B18*100","v":14.919184820801124},null,1789,1578,3367,{"$f":"I18/Cadrage!B18*100","v":23.661278988053407}]
["Petite-Île",1212,1011,2223,{"$f":"D19/Cadrage!B19*100","v":18.16770186335404},null,2005,1687,3692,{"$f":"I19/Cadrage!B19*100","v":30.173259235044132}]
["La Plaine-des-Palmistes",732,630,1362,{"$f":"D20/Cadrage!B20*100","v":21.398271798900236},null,1186,986,2172,{"$f":"I20/Cadrage!B20*100","v":34.124116260801259}]
["Le Port",5955,4421,10376,{"$f":"D21/Cadrage!B21*100","v":29.8075265728239},null,8272,6471,14743,{"$f":"I21/Cadrage!B21*100","v":42.352772191898879}]
["La Possession",3319,2512,5831,{"$f":"D22/Cadrage!B22*100","v":17.684165832650958},null,4546,3446,7992,{"$f":"I22/Cadrage!B22*100","v":24.238012919661543}]
["Saint-André",9384,7585,16969,{"$f":"D23/Cadrage!B23*100","v":30.504422233407634},null,12884,10519,23403,{"$f":"I23/Cadrage!B23*100","v":42.070540015819375}]
["Saint-Benoît",6439,5400,11839,{"$f":"D24/Cadrage!B24*100","v":31.039274290808034},null,9043,7393,16436,{"$f":"I24/Cadrage!B24*100","v":43.091605054795238}]
["Saint-Denis",17956,14716,32672,{"$f":"D25/Cadrage!B25*100","v":22.087614926987563},null,24585,19330,43915,{"$f":"I25/Cadrage!B25*100","v":29.688345051379123}]
["Saint-Joseph",4778,4056,8834,{"$f":"D26/Cadrage!B26*100","v":23.476573919051795},null,7558,6496,14054,{"$f":"I26/Cadrage!B26*100","v":37.348853278056822}]
["Saint-Leu",4090,3531,7621,{"$f":"D27/Cadrage!B27*100","v":22.616256640056978},null,5955,5039,10994,{"$f":"I27/Cadrage!B27*100","v":32.626049796717808}]
["Saint-Louis",9204,7417,16621,{"$f":"D28/Cadrage!B28*100","v":31.23074032318674},null,12770,10284,23054,{"$f":"I28/Cadrage!B28*100","v":43.318301390454664}]
["Saint-Paul",10860,9719,20579,{"$f":"D29/Cadrage!B29*100","v":19.509489770766578},null,16634,14246,30880,{"$f":"I29/Cadrage!B29*100","v":29.275136990197382}]
["Saint-Pierre",10548,8850,19398,{"$f":"D30/Cadrage!B30*100","v":23.046489800282732},null,15409,12718,28127,{"$f":"I30/Cadrage!B30*100","v":33.417291401822482}]
["Saint-Philippe",705,539,1244,{"$f":"D31/Cadrage!B31*100","v":23.76313276026746},null,1012,907,1919,{"$f":"I31/Cadrage!B31*100","v":36.657115568290401}]
["Sainte-Marie",3584,2952,6536,{"$f":"D32/Cadrage!B32*100","v":19.710494571773221},null,5329,4189,9518,{"$f":"I32/Cadrage!B32*100","v":28.70325693606755}]
["Sainte-Rose",856,751,1607,{"$f":"D33/Cadrage!B33*100","v":24.647239263803613},null,1461,1269,2730,{"$f":"I33/Cadrage!B33*100","v":41.871165644171668}]
["Sainte-Suzanne",2697,2207,4904,{"$f":"D34/Cadrage!B34*100","v":21.116086806751635},null,4103,3315,7418,{"$f":"I34/Cadrage!B34*100","v":31.941095418532552}]
["Salazie",961,942,1903,{"$f":"D35/Cadrage!B35*100","v":25.716216216216214},null,1750,1720,3470,{"$f":"I35/Cadrage!B35*100","v":46.891891891891888}]
["Le Tampon",9458,7770,17228,{"$f":"D36/Cadrage!B36*100","v":22.292095286156098},null,14262,11626,25888,{"$f":"I36/Cadrage!B36*100","v":33.497664428140759}]
["Les Trois-Bassins",750,640,1390,{"$f":"D37/Cadrage!B37*100","v":19.547180424694112},null,1337,1115,2452,{"$f":"I37/Cadrage!B37*100","v":34.481788777949617}]
["Cilaos",680,688,1368,{"$f":"D38/Cadrage!B38*100","v":25.319267073847861},null,1154,1159,2313,{"$f":"I38/Cadrage!B38*100","v":42.809550249861189}]
["NORD",{"$f":"B34+B25+B32","v":24237},{"$f":"C34+C25+C32","v":19875},{"$f":"D34+D25+D32","v":44112},{"$f":"D39/Cadrage!B39*100","v":21.591354060615554},null,{"$f":"G34+G25+G32","v":34017},{"$f":"H34+H25+H32","v":26834},{"$f":"I34+I25+I32","v":60851},{"$f":"I39/Cadrage!B39*100","v":29.784536768736785}]
["EST",{"$f":"B16+B20+B23+B24+B33+B35","v":19705},{"$f":"C16+C20+C23+C24+C33+C35","v":16392},{"$f":"D16+D20+D23+D24+D33+D35","v":36097},{"$f":"D40/Cadrage!B40*100","v":28.472830245233755},null,{"$f":"G16+G20+G23+G24+G33+G35","v":28637},{"$f":"H16+H20+H23+H24+H33+H35","v":23732},{"$f":"I16+I20+I23+I24+I33+I35","v":52369},{"$f":"I40/Cadrage!B40*100","v":41.307965955969927}]
["OUEST",{"$f":"B21+B22+B27+B29+B37","v":24974},{"$f":"C21+C22+C27+C29+C37","v":20823},{"$f":"D21+D22+D27+D29+D37","v":45797},{"$f":"D41/Cadrage!B41*100","v":21.393169619709166},null,{"$f":"G21+G22+G27+G29+G37","v":36744},{"$f":"H21+H22+H27+H29+H37","v":30317},{"$f":"I21+I22+I27+I29+I37","v":67061},{"$f":"I41/Cadrage!B41*100","v":31.326229837485343}]
["SUD",{"$f":"B15+B17+B18+B19+B26+B28+B30+B31+B36+B38","v":39104},{"$f":"C15+C17+C18+C19+C26+C28+C30+C31+C36+C38","v":32510},{"$f":"D15+D17+D18+D19+D26+D28+D30+D31+D36+D38","v":71614},{"$f":"D42/Cadrage!B42*100","v":23.268674659648429},null,{"$f":"G15+G17+G18+G19+G26+G28+G30+G31+G36+G38","v":58300},{"$f":"H15+H17+H18+H19+H26+H28+H30+H31+H36+H38","v":48403},{"$f":"I15+I17+I18+I19+I26+I28+I30+I31+I36+I38","v":106703},{"$f":"I42/Cadrage!B42*100","v":34.66972089547388}]
["LA REUNION",{"$f":"SUM(B39:B42)","v":108020},{"$f":"SUM(C39:C42)","v":89600},{"$f":"SUM(D39:D42)","v":197620},{"$f":"D43/Cadrage!B43*100","v":23.169707969291515},null,{"$f":"SUM(G39:G42)+G44","v":160329},{"$f":"SUM(H39:H42)+H44","v":131525},{"$f":"SUM(I39:I42)+I44","v":291854},{"$f":"I43/Cadrage!B43*100","v":34.218054598065009}]
[null,null,null,null,null,null,2631,2239,{"$f":"G44+H44","v":4870}]

{"sheet":"Offre de soins","index":11,"n_rows":44,"n_cols":17,"rows_kept":44,"cut":false,"hidden":false,"merged":[]}
[]
[]
[]
[]
[]
[]
[]
[]
[]
[null,"Sources et année : Selon l'indicatateur, reportez-vous au tableau de la page SOMMAIRE (cliquez sur l'intitulé de chaque colonne)"]
[null,"*Effectifs de professionnels de santé non ventilés par commune mais inclus dans le total régional"]
[]
[]
["COMMUNE","Nombre de médecins généralistes libéraux","Densité de médecins généralistes libéraux (pour 100 000 habitants)","Nombre de médecins spécialistes libéraux","Densité de médecins spécialistes libéraux (pour 100 000 habitants)","Nombre de médecins  libéraux","Densité de médecins  libéraux (pour 100 000 habitants)","Nombre de chirurgiens-dentistes libéraux","Densité de chirurgiens-dentistes libéraux (pour 100 000 habitants)","Nombre d'infirmiers libéraux","Densité d'infirmiers libéraux (pour 100 000 habitants)","Nombre de masseurs-kinésithérapeutes libéraux","Densité de masseurs-kinésithérapeutes libéraux  (pour 100 000 habitants)","Nombre d'orthophonistes","Desnité d'orthophonistes (pour 100 000 habitants)","Nombre de psychologues","Densité de psychologues (pour 100 000 habitants)"]
["Les Avirons",11,95.893993548949524,0,{"$f":"D15/Cadrage!$B$15*100000","v":0},{"$f":"B15+D15","v":11},{"$f":"F15/Cadrage!$B$15*100000","v":95.893993548949524},7,{"$f":"H15/Cadrage!$B$15*100000","v":61.023450440240609},21,{"$f":"J15/Cadrage!$B$15*100000","v":183.07035132072181},25.5,{"$f":"L15/Cadrage!$B$15*100000","v":222.29971231801935},10,{"$f":"N15/Cadrage!$B$15*100000","v":87.176357771772288},1,{"$f":"P15/Cadrage!$B$15*100000","v":8.7176357771772306}]
["Bras-Panon",12.5,98.254991353560769,1.5,{"$f":"D16/Cadrage!$B16*100000","v":11.790598962427291},{"$f":"B16+D16","v":14},{"$f":"F16/Cadrage!$B16*100000","v":110.04559031598806},6.5,{"$f":"H16/Cadrage!$B16*100000","v":51.092595503851598},20.5,{"$f":"J16/Cadrage!$B16*100000","v":161.13818581983966},20.5,{"$f":"L16/Cadrage!$B16*100000","v":161.13818581983966},7.5,{"$f":"N16/Cadrage!$B16*100000","v":58.95299481213646},1.5,{"$f":"P16/Cadrage!$B16*100000","v":11.790598962427291}]
["Entre-Deux",5,72.526834928923705,0,{"$f":"D17/Cadrage!$B17*100000","v":0},5,{"$f":"F17/Cadrage!$B17*100000","v":72.526834928923435},2,{"$f":"H17/Cadrage!$B17*100000","v":29.01073397156938},14,{"$f":"J17/Cadrage!$B17*100000","v":203.07513780098563},13.5,{"$f":"L17/Cadrage!$B17*100000","v":195.82245430809328},4,{"$f":"N17/Cadrage!$B17*100000","v":58.021467943138759},0,{"$f":"P17/Cadrage!$B17*100000","v":0}]
["L'Étang-Salé",15,105.41110330288123,4.5,{"$f":"D18/Cadrage!$B18*100000","v":31.623330990864368},19.5,{"$f":"F18/Cadrage!$B18*100000","v":137.03443429374562},11,{"$f":"H18/Cadrage!$B18*100000","v":77.301475755446248},42,{"$f":"J18/Cadrage!$B18*100000","v":295.15108924806748},37,{"$f":"L18/Cadrage!$B18*100000","v":260.01405481377373},9,{"$f":"N18/Cadrage!$B18*100000","v":63.246661981728735},1,{"$f":"P18/Cadrage!$B18*100000","v":7.0274068868587491}]
["Petite-Île",12,98.071265119320046,1,{"$f":"D19/Cadrage!$B19*100000","v":8.1726054266100032},13,{"$f":"F19/Cadrage!$B19*100000","v":106.24387054593004},3.5,{"$f":"H19/Cadrage!$B19*100000","v":28.60411899313501},31,{"$f":"J19/Cadrage!$B19*100000","v":253.3507682249101},22.5,{"$f":"L19/Cadrage!$B19*100000","v":183.88362209872508},9.5,{"$f":"N19/Cadrage!$B19*100000","v":77.639751552795019},1,{"$f":"P19/Cadrage!$B19*100000","v":8.1726054266100032}]
["La Plaine-des-Palmistes",2.5,39.277297721916732,0,{"$f":"D20/Cadrage!$B20*100000","v":0},2.5,{"$f":"F20/Cadrage!$B20*100000","v":39.277297721916732},0.5,{"$f":"H20/Cadrage!$B20*100000","v":7.8554595443833461},11,{"$f":"J20/Cadrage!$B20*100000","v":172.82010997643363},6.5,{"$f":"L20/Cadrage!$B20*100000","v":102.12097407698349},0,{"$f":"N20/Cadrage!$B20*100000","v":0},1,{"$f":"P20/Cadrage!$B20*100000","v":15.710919088766692}]
["Le Port",49,140.7641482332663,83.633333500000077,{"$f":"D21/Cadrage!$B21*100000","v":240.25663171502461},132.63333350000008,{"$f":"F21/Cadrage!$B21*100000","v":381.02077994829096},17,{"$f":"H21/Cadrage!$B21*100000","v":48.83654122378627},73,{"$f":"J21/Cadrage!$B21*100000","v":209.7098534903763},45.5,{"$f":"L21/Cadrage!$B21*100000","v":130.70956621660443},18,{"$f":"N21/Cadrage!$B21*100000","v":51.709278942832512},1.5,{"$f":"P21/Cadrage!$B21*100000","v":4.3091065785693763}]
["La Possession",25,75.819609983926242,0,{"$f":"D22/Cadrage!$B22*100000","v":0},25,{"$f":"F22/Cadrage!$B22*100000","v":75.819609983926242},14,{"$f":"H22/Cadrage!$B22*100000","v":42.458981590998697},67,{"$f":"J22/Cadrage!$B22*100000","v":203.19655475692232},44,{"$f":"L22/Cadrage!$B22*100000","v":133.44251357171018},20,{"$f":"N22/Cadrage!$B22*100000","v":60.655687987140993},3.5,{"$f":"P22/Cadrage!$B22*100000","v":10.614745397749674}]
["Saint-André",46.3333333,83.291387970087015,23.833333199999998,{"$f":"D23/Cadrage!$B23*100000","v":42.844131013158837},70.166666499999991,{"$f":"F23/Cadrage!$B23*100000","v":126.13551898324583},25,{"$f":"H23/Cadrage!$B23*100000","v":44.941396419069534},182,{"$f":"J23/Cadrage!$B23*100000","v":327.17336593082621},70.5,{"$f":"L23/Cadrage!$B23*100000","v":126.73473790177609},12.5,{"$f":"N23/Cadrage!$B23*100000","v":22.470698209534767},2,{"$f":"P23/Cadrage!$B23*100000","v":3.5953117135255632}]
["Saint-Benoît",31.5,82.586125530910806,14.5666666,{"$f":"D24/Cadrage!$B24*100000","v":38.19062083792145},46.066666599999998,{"$f":"F24/Cadrage!$B24*100000","v":120.77674636883225},17,{"$f":"H24/Cadrage!$B24*100000","v":44.570289969062976},78,{"$f":"J24/Cadrage!$B24*100000","v":204.49897750511249},34,{"$f":"L24/Cadrage!$B24*100000","v":89.140579938125953},8,{"$f":"N24/Cadrage!$B24*100000","v":20.974254103088459},1,{"$f":"P24/Cadrage!$B24*100000","v":2.6217817628860574}]
["Saint-Denis",147.33333329999999,99.603389196863162,152.64999939999996,{"$f":"D25/Cadrage!$B25*100000","v":103.19767401297997},299.98333269999995,{"$f":"F25/Cadrage!$B25*100000","v":202.80106320984311},86,{"$f":"H25/Cadrage!$B25*100000","v":58.139534883720927},393.5,{"$f":"J25/Cadrage!$B25*100000","v":266.02217414818818},179.66666649999999,{"$f":"L25/Cadrage!$B25*100000","v":121.46205144672795},41,{"$f":"N25/Cadrage!$B25*100000","v":27.717685235262302},20.3333333,{"$f":"P25/Cadrage!$B25*100000","v":13.746169077879935}]
["Saint-Joseph",32.666666599999999,86.81247601583884,8.9999998999999988,{"$f":"D26/Cadrage!$B26*100000","v":23.917722767014798},41.666666499999998,{"$f":"F26/Cadrage!$B26*100000","v":110.73019878285363},24,{"$f":"H26/Cadrage!$B26*100000","v":63.780594754046078},105,{"$f":"J26/Cadrage!$B26*100000","v":279.04010204895161},57.999999899999999,{"$f":"L26/Cadrage!$B26*100000","v":154.13643705652555},20.5,{"$f":"N26/Cadrage!$B26*100000","v":54.47925801908103},1,{"$f":"P26/Cadrage!$B26*100000","v":2.6575247814185867}]
["Saint-Leu",34.5,102.3830014541354,11.083333199999993,{"$f":"D27/Cadrage!$B27*100000","v":32.891157076297574},45.583333199999991,{"$f":"F27/Cadrage!$B27*100000","v":135.27415853043294},22,{"$f":"H27/Cadrage!$B27*100000","v":65.287711072202271},103,{"$f":"J27/Cadrage!$B27*100000","v":305.6651927471288},81.5,{"$f":"L27/Cadrage!$B27*100000","v":241.86129329020386},24.5,{"$f":"N27/Cadrage!$B27*100000","v":72.70676914858889},11,{"$f":"P27/Cadrage!$B27*100000","v":32.643855536101135}]
["Saint-Louis",49.5,93.010146561443065,16.999999899999999,{"$f":"D28/Cadrage!$B28*100000","v":31.942878429161929},66.499999900000006,{"$f":"F28/Cadrage!$B28*100000","v":124.95302499060492},30,{"$f":"H28/Cadrage!$B28*100000","v":56.369785794813922},138,{"$f":"J28/Cadrage!$B28*100000","v":259.30101465614405},99,{"$f":"L28/Cadrage!$B28*100000","v":186.02029312288593},41.5,{"$f":"N28/Cadrage!$B28*100000","v":77.978203682825921},1,{"$f":"P28/Cadrage!$B28*100000","v":1.8789928598271304}]
["Saint-Paul",116,109.97136952276217,53.833334900000033,{"$f":"D29/Cadrage!$B29*100000","v":51.035565214918222},169.83333490000004,{"$f":"F29/Cadrage!$B29*100000","v":161.00693473768041},81.5,{"$f":"H29/Cadrage!$B29*100000","v":77.264367380216527},297,{"$f":"J29/Cadrage!$B29*100000","v":281.56462714017556},231.99999930000004,{"$f":"L29/Cadrage!$B29*100000","v":219.94273838190406},67.5,{"$f":"N29/Cadrage!$B29*100000","v":63.991960713676271},21,{"$f":"P29/Cadrage!$B29*100000","v":19.908609999810395}]
["Saint-Pierre",102.6666666,121.97681640508976,63.866666399999986,{"$f":"D30/Cadrage!$B30*100000","v":75.879084223407546},166.53333299999997,{"$f":"F30/Cadrage!$B30*100000","v":197.85590062849712},58,{"$f":"H30/Cadrage!$B30*100000","v":68.908980741127877},251,{"$f":"J30/Cadrage!$B30*100000","v":298.20955458660512},231.33333329999999,{"$f":"L30/Cadrage!$B30*100000","v":274.84386567501059},85.5,{"$f":"N30/Cadrage!$B30*100000","v":101.58134229942125},18,{"$f":"P30/Cadrage!$B30*100000","v":21.385545747246582}]
["Saint-Philippe",6,114.61318051575931,0,{"$f":"D31/Cadrage!$B31*100000","v":0},6,{"$f":"F31/Cadrage!$B31*100000","v":114.61318051575945},2,{"$f":"H31/Cadrage!$B31*100000","v":38.204393505253151},13,{"$f":"J31/Cadrage!$B31*100000","v":248.32855778414549},5,{"$f":"L31/Cadrage!$B31*100000","v":95.51098376313287},0,{"$f":"N31/Cadrage!$B31*100000","v":0},0,{"$f":"P31/Cadrage!$B31*100000","v":0}]
["Sainte-Marie",22,66.344993968636913,0,{"$f":"D32/Cadrage!$B32*100000","v":0},22,{"$f":"F32/Cadrage!$B32*100000","v":66.344993968636913},9,{"$f":"H32/Cadrage!$B32*100000","v":27.141133896260552},48,{"$f":"J32/Cadrage!$B32*100000","v":144.75271411338963},41.5,{"$f":"L32/Cadrage!$B32*100000","v":125.15078407720145},10.5,{"$f":"N32/Cadrage!$B32*100000","v":31.664656212303981},2,{"$f":"P32/Cadrage!$B32*100000","v":6.0313630880579012}]
["Sainte-Rose",4,61.349693251533743,0,{"$f":"D33/Cadrage!$B33*100000","v":0},4,{"$f":"F33/Cadrage!$B33*100000","v":61.349693251533573},1.5,{"$f":"H33/Cadrage!$B33*100000","v":23.006134969325089},21,{"$f":"J33/Cadrage!$B33*100000","v":322.08588957055122},3,{"$f":"L33/Cadrage!$B33*100000","v":46.012269938650178},1,{"$f":"N33/Cadrage!$B33*100000","v":15.337423312883393},1,{"$f":"P33/Cadrage!$B33*100000","v":15.337423312883393}]
["Sainte-Suzanne",13,55.976575955907684,0,{"$f":"D34/Cadrage!$B34*100000","v":0},13,{"$f":"F34/Cadrage!$B34*100000","v":55.976575955907684},6,{"$f":"H34/Cadrage!$B34*100000","v":25.835342748880468},37.5,{"$f":"J34/Cadrage!$B34*100000","v":161.47089218050294},13.5,{"$f":"L34/Cadrage!$B34*100000","v":58.129521184981051},3,{"$f":"N34/Cadrage!$B34*100000","v":12.917671374440234},0.5,{"$f":"P34/Cadrage!$B34*100000","v":2.1529452290733726}]
["Salazie",5,67.567567567567565,0,{"$f":"D35/Cadrage!$B35*100000","v":0},5,{"$f":"F35/Cadrage!$B35*100000","v":67.567567567567565},1,{"$f":"H35/Cadrage!$B35*100000","v":13.513513513513514},25.5,{"$f":"J35/Cadrage!$B35*100000","v":344.59459459459458},4,{"$f":"L35/Cadrage!$B35*100000","v":54.054054054054056},0,{"$f":"N35/Cadrage!$B35*100000","v":0},0,{"$f":"P35/Cadrage!$B35*100000","v":0}]
["Le Tampon",67,86.694357103114527,52.999999700000053,{"$f":"D36/Cadrage!$B36*100000","v":68.579117917265251},119.99999970000005,{"$f":"F36/Cadrage!$B36*100000","v":155.27347502037983},38,{"$f":"H36/Cadrage!$B36*100000","v":49.169933879378434},204,{"$f":"J36/Cadrage!$B36*100000","v":263.96490819455795},126.16666560000016,{"$f":"L36/Cadrage!$B36*100000","v":163.2528054035173},34,{"$f":"N36/Cadrage!$B36*100000","v":43.994151365759649},3,{"$f":"P36/Cadrage!$B36*100000","v":3.8818368852140868}]
["Les Trois-Bassins",6.5,91.407678244972573,0,{"$f":"D37/Cadrage!$B37*100000","v":0},6.5,{"$f":"F37/Cadrage!$B37*100000","v":91.407678244972473},3,{"$f":"H37/Cadrage!$B37*100000","v":42.188159189987296},17,{"$f":"J37/Cadrage!$B37*100000","v":239.066235409928},13,{"$f":"L37/Cadrage!$B37*100000","v":182.81535648994495},5,{"$f":"N37/Cadrage!$B37*100000","v":70.313598649978829},0,{"$f":"P37/Cadrage!$B37*100000","v":0}]
["Cilaos",4,74.032944660373872,0,{"$f":"D38/Cadrage!$B38*100000","v":0},4,{"$f":"F38/Cadrage!$B38*100000","v":74.032944660373872},2,{"$f":"H38/Cadrage!$B38*100000","v":37.016472330186936},19,{"$f":"J38/Cadrage!$B38*100000","v":351.65648713677587},8.5,{"$f":"L38/Cadrage!$B38*100000","v":157.32000740329445},2,{"$f":"N38/Cadrage!$B38*100000","v":37.016472330186936},0,{"$f":"P38/Cadrage!$B38*100000","v":0}]
["NORD",{"$f":"B34+B25+B32","v":182.33333329999999},{"$f":"B39/Cadrage!$B39*100000","v":89.246090776489936},{"$f":"D34+D25+D32","v":152.64999939999996},{"$f":"D39/Cadrage!$B39*100000","v":74.717087966951183},{"$f":"F34+F25+F32","v":334.98333269999995},{"$f":"F39/Cadrage!$B39*100000","v":163.96317874344112},{"$f":"H34+H25+H32","v":101},{"$f":"H39/Cadrage!$B39*100000","v":49.436134387970867},{"$f":"J34+J25+J32","v":479},{"$f":"J39/Cadrage!$B39*100000","v":234.45453833503015},{"$f":"L34+L25+L32","v":234.66666649999999},{"$f":"L39/Cadrage!$B39*100000","v":114.86151347991228},{"$f":"N34+N25+N32","v":54.5},{"$f":"N39/Cadrage!$B39*100000","v":26.675933902419921},{"$f":"P34+P25+P32","v":22.8333333},{"$f":"P39/Cadrage!$B39*100000","v":11.176155777664658}]
["EST",{"$f":"B16+B20+B23+B24+B33+B35","v":101.83333329999999},{"$f":"B40/Cadrage!$B40*100000","v":80.324769713749319},{"$f":"D16+D20+D23+D24+D33+D35","v":39.899999799999996},{"$f":"D40/Cadrage!$B40*100000","v":31.472585563627465},{"$f":"F16+F20+F23+F24+F33+F35","v":141.73333309999998},{"$f":"F40/Cadrage!$B40*100000","v":111.79735527737679},{"$f":"H16+H20+H23+H24+H33+H35","v":51.5},{"$f":"H40/Cadrage!$B40*100000","v":40.622510392263578},{"$f":"J16+J20+J23+J24+J33+J35","v":338},{"$f":"J40/Cadrage!$B40*100000","v":266.60987403077843},{"$f":"L16+L20+L23+L24+L33+L35","v":138.5},{"$f":"L40/Cadrage!$B40*100000","v":109.24694542385448},{"$f":"N16+N20+N23+N24+N33+N35","v":29},{"$f":"N40/Cadrage!$B40*100000","v":22.874811677196963},{"$f":"P16+P20+P23+P24+P33+P35","v":6.5},{"$f":"P40/Cadrage!$B40*100000","v":5.1271129621303544}]
["OUEST",{"$f":"B21+B22+B27+B29+B37","v":231},{"$f":"B41/Cadrage!$B41*100000","v":107.90711579694778},{"$f":"D21+D22+D27+D29+D37","v":148.55000160000012},{"$f":"D41/Cadrage!$B41*100000","v":69.392217421160126},{"$f":"F21+F22+F27+F29+F37","v":379.55000160000009},{"$f":"F41/Cadrage!$B41*100000","v":177.2993332181079},{"$f":"H21+H22+H27+H29+H37","v":137.5},{"$f":"H41/Cadrage!$B41*100000","v":64.230426069611767},{"$f":"J21+J22+J27+J29+J37","v":557},{"$f":"J41/Cadrage!$B41*100000","v":260.19161687835458},{"$f":"L21+L22+L27+L29+L37","v":415.99999930000001},{"$f":"L41/Cadrage!$B41*100000","v":194.32623418179782},{"$f":"N21+N22+N27+N29+N37","v":135},{"$f":"N41/Cadrage!$B41*100000","v":63.062600141073375},{"$f":"P21+P22+P27+P29+P37","v":37},{"$f":"P41/Cadrage!$B41*100000","v":17.283823742368259}]
["SUD",{"$f":"B15+B17+B18+B19+B26+B28+B30+B31+B36+B38","v":304.83333319999997},{"$f":"B42/Cadrage!$B42*100000","v":99.045824219384556},{"$f":"D15+D17+D18+D19+D26+D28+D30+D31+D36+D38","v":148.36666590000004},{"$f":"D42/Cadrage!$B42*100000","v":48.206994151476749},{"$f":"F15+F17+F18+F19+F26+F28+F30+F31+F36+F38","v":453.19999910000001},{"$f":"F42/Cadrage!$B42*100000","v":147.25281837086132},{"$f":"H15+H17+H18+H19+H26+H28+H30+H31+H36+H38","v":177.5},{"$f":"H42/Cadrage!$B42*100000","v":57.6729375832602},{"$f":"J15+J17+J18+J19+J26+J28+J30+J31+J36+J38","v":838},{"$f":"J42/Cadrage!$B42*100000","v":272.28124898463125},{"$f":"L15+L17+L18+L19+L26+L28+L30+L31+L36+L38","v":626.49999880000018},{"$f":"L42/Cadrage!$B42*100000","v":203.56110043214088},{"$f":"N15+N17+N18+N19+N26+N28+N30+N31+N36+N38","v":216},{"$f":"N42/Cadrage!$B42*100000","v":70.182278974558898},{"$f":"P15+P17+P18+P19+P26+P28+P30+P31+P36+P38","v":26},{"$f":"P42/Cadrage!$B42*100000","v":8.4478669136043116}]
["LA REUNION",{"$f":"SUM(B39:B42)","v":819.99999979999996},{"$f":"B43/Cadrage!$B43*100000","v":96.139867069047156},{"$f":"SUM(D39:D42)","v":489.46666670000013},{"$f":"D43/Cadrage!$B43*100000","v":57.386902783835374},{"$f":"SUM(F39:F42)","v":1309.4666665},{"$f":"F43/Cadrage!$B43*100000","v":153.52676985288252},{"$f":"SUM(H39:H42)","v":467.5},{"$f":"H43/Cadrage!$B43*100000","v":54.811448616758348},2212,{"$f":"J43/Cadrage!$B43*100000","v":259.34315366902558},{"$f":"SUM(L39:L42)+1","v":1416.6666646000003},{"$f":"L43/Cadrage!$B43*100000","v":166.09529859635794},434.5,{"$f":"N43/Cadrage!$B43*100000","v":50.942405184987166},92.333333299999993,{"$f":"P43/Cadrage!$B43*100000","v":10.825505355694057}]
[null,null,null,null,null,null,null,null,null,null,null,"1*"]

{"sheet":"Hospitalisations","index":12,"n_rows":44,"n_cols":48,"rows_kept":44,"cut":false,"hidden":false,"merged":[[12,0,13,0],[12,1,12,3],[12,5,12,7],[12,9,12,11],[12,13,12,15],[12,41,12,43],[12,45,12,47],[12,37,12,39],[12,17,12,19],[12,21,12,23],[12,25,12,27],[12,29,12,31],[12,33,12,35]]}
[]
[]
[]
[]
[]
[]
[]
[]
[]
[null,"Sources et année : Selon l'indicatateur, reportez-vous au tableau de la page SOMMAIRE (cliquez sur l'intitulé de chaque colonne)"]
[null,"*Nombre de séjours non ventilés par commune mais inclus dans le total régional"]
[]
["COMMUNE","Nombre de séjours en hospitalisation complète",null,null,null,"Nombre de séjours en hospitalisation complète pour maladies cardiovasculaires",null,null,null,"Nombre de séjours en hospitalisation complète pour  diabète",null,null,null,"Nombre de séjours en hospitalisation complète pour tumeur",null,null,null,"Nombre de séjours en hospitalisation complète chez les moins de 15 ans",null,null,null,"Nombre de séjours en hospitalisation complète chez les 15-44 ans",null,null,null,"Nombre de séjours en hospitalisation complète chez les 45-74 ans",null,null,null,"Nombre de séjours en hospitalisation complète chez les 75 ans et plus",null,null,null,"Taux standaridisé d'hospitalisation (pour 10 000 habitants)",null,null,null,"Taux standaridisé d'hospitalisation pour maladies cardiovasculaires (pour 10 000 habitants)",null,null,null,"Taux standaridisé d'hospitalisation pour tumeur (pour 10 000 habitants)",null,null,null,"Taux standaridisé d'hospitalisation pour diabète (pour 10 000 habitants)"]
[null,"Femmes","Hommes","Ensemble",null,"Femmes","Hommes","Ensemble",null,"Femmes","Hommes","Ensemble",null,"Femmes","Hommes","Ensemble",null,"Femmes","Hommes","Ensemble",null,"Femmes","Hommes","Ensemble",null,"Femmes","Hommes","Ensemble",null,"Femmes","Hommes","Ensemble",null,"Femmes","Hommes","Ensemble",null,"Femmes","Hommes","Ensemble",null,"Femmes","Hommes","Ensemble",null,"Femmes","Hommes","Ensemble"]
["Les Avirons",704,618,1322,null,88,98,186,null,"<5","<5",6,null,40,39,79,null,107,124,231,null,268,88,356,null,201,277,478,null,128,129,257,null,1334.3978641957374,1344.1028989225736,1330.3803249006978,null,205.23201548152383,256.62400134624914,228.8728483742355,null,72.974656568577998,84.08041993032009,76.923187323654432,null,5.7096720330839386,4.8312596976625164,5.33836598730805]
["Bras-Panon",1042,979,2021,null,107,155,262,null,22,19,41,null,52,39,91,null,151,186,337,null,426,180,606,null,300,469,769,null,165,144,309,null,1778.4395234235021,2211.015637077162,1935.8259676552238,null,229.08687270317222,456.65874632173717,315.5859986137001,null,88.774466454111447,112.41447017752401,93.507429693984747,null,38.799774635819631,43.172272985899475,39.171981926699196]
["Entre-Deux",389,350,739,null,31,43,74,null,"<5","<5",5,null,25,13,38,null,47,69,116,null,150,48,198,null,103,162,265,null,89,71,160,null,1136.7242668889128,1157.5134081008894,1138.6365852679241,null,90.531445459465289,161.73129644299584,124.31689508491789,null,76.499517482197348,52.140599664456431,64.997010421045715,null,10.541099025479044,2.7169075971471228,7.1783258362276197]
["L'Étang-Salé",873,835,1708,null,94,125,219,null,"<5","<5","<5",null,40,47,87,null,154,157,311,null,358,163,521,null,230,380,610,null,131,135,266,null,1356.9583745505183,1400.9705373948184,1380.1395499501796,null,184.40946766640502,240.77572129822119,214.43128379599028,null,65.821678796862116,85.934315552252144,75.867910160148199,null,2.2616441423773903,5.424636956255898,3.816332995454264]
["Petite-Île",865,821,1686,null,88,97,185,null,5,5,10,null,27,50,77,null,135,145,280,null,332,134,466,null,230,398,628,null,168,144,312,null,1469.7083540097769,1425.2434536495311,1453.5397458070465,null,162.99426057950674,186.65296728751369,177.79239248309872,null,45.434982024553562,88.63983304145188,65.720966334712216,null,8.7908254003879769,7.6571030497484962,8.0418622147030678]
["La Plaine-des-Palmistes",540,496,1036,null,73,78,151,null,10,7,17,null,24,17,41,null,77,89,166,null,205,83,288,null,152,249,401,null,106,75,181,null,1832.9456953050528,1998.9122636688851,1913.8061248471445,null,281.06502681716745,352.65085193329674,326.62016922162127,null,82.059972960235825,68.407533515651622,76.994227982894202,null,36.878230299681533,28.360037282865115,32.481211630721056]
["Le Port",3124,2306,5430,null,257,292,549,null,43,30,73,null,107,90,197,null,484,486,970,null,1383,400,1783,null,827,1119,1946,null,430,301,731,null,1911.442173502837,1737.7297281127446,1792.8370853759641,null,186.43611979279348,267.27138321012114,223.92870521262796,null,69.327526811769502,76.677618928884584,71.531102225255211,null,25.231481575816456,21.031362744294832,23.241910030664492]
["La Possession",2547,2017,4564,null,158,228,386,null,22,24,46,null,90,108,198,null,503,536,1039,null,1237,405,1642,null,552,841,1393,null,255,235,490,null,1674.3303037009964,1620.566121150033,1653.1372531142767,null,162.81404094497685,249.98838455294333,203.38232805327442,null,67.394438767377011,110.97176518577582,86.400964983179321,null,19.044289822447276,19.836953766208225,19.898535063261463]
["Saint-André",4916,4043,8959,null,419,571,990,null,59,79,138,null,191,135,326,null,773,877,1650,null,2129,786,2915,null,1377,1859,3236,null,637,521,1158,null,1917.432981653398,2076.1693283769901,1958.4523321796491,null,220.07754045372417,376.515857692672,284.87859481750553,null,83.138512396173937,78.104622609448484,79.193706820966511,null,24.495785472418696,37.913500349407215,31.175426785496427]
["Saint-Benoît",3390,2940,6330,null,323,400,723,null,59,49,108,null,129,113,242,null,568,582,1150,null,1452,549,2001,null,956,1380,2336,null,414,429,843,null,1902.095914335956,2006.0999844476735,1937.1118112912241,null,235.2100095527328,317.77602649757853,275.10272617851774,null,76.830775928140369,101.35270672311802,85.712350623324539,null,34.247325976130554,31.590401995107023,33.10081609571818]
["Saint-Denis",12599,10699,23298,null,1103,1391,2494,null,114,129,243,null,576,484,1060,null,1915,2086,4001,null,5109,1953,7062,null,3669,5123,8792,null,1906,1537,3443,null,1685.7443504696982,1852.2559127273482,1738.144251437009,null,166.07983970611662,278.00312724132294,214.05120952998857,null,78.925724159598559,88.576071323988415,82.177878064852166,null,15.255223153662621,21.485341279738719,18.007688442857447]
["Saint-Joseph",2772,2611,5383,null,224,358,582,null,16,30,46,null,123,117,240,null,490,484,974,null,1042,448,1490,null,710,1227,1937,null,530,452,982,null,1513.333426366243,1598.3862544191388,1544.0091299462654,null,128.27044154872033,235.41243016891741,178.7625215832183,null,66.433851133877369,74.486045348582195,69.995397232649196,null,8.8615205596174498,17.876105217991515,13.372677503583619]
["Saint-Leu",2574,2240,4814,null,211,286,497,null,23,16,39,null,98,111,209,null,419,456,875,null,1122,411,1533,null,689,1060,1749,null,344,313,657,null,1610.5740311134,1636.1363518463722,1614.5398122946219,null,156.86851967652441,234.86025247898849,197.74570157837928,null,62.019416440794508,84.735350221537274,71.658030489006521,null,16.461793572792278,11.749532360968516,14.293077368766347]
["Saint-Louis",4144,3567,7711,null,340,423,763,null,18,26,44,null,126,129,255,null,777,844,1621,null,1848,653,2501,null,915,1620,2535,null,604,450,1054,null,1630.5975685264314,1705.1033740620232,1661.8997436132781,null,168.83509044744585,251.79381249524363,210.66259871353452,null,52.623014459574826,71.407111872512417,61.032605334056633,null,7.4439796328420478,13.105187514169208,9.9622539407896351]
["Saint-Paul",8091,7109,15200,null,751,930,1681,null,70,80,150,null,342,364,706,null,1216,1433,2649,null,3292,1170,4462,null,2383,3497,5880,null,1200,1009,2209,null,1638.2708538776351,1665.1064051820345,1642.0961098595451,null,175.88414957508439,255.97990243619114,214.36490222882878,null,70.668027069968304,95.015143072876015,80.730493635963086,null,15.30185145214581,17.688519619695192,16.500421744254172]
["Saint-Pierre",6043,5526,11569,null,491,711,1202,null,33,40,73,null,258,218,476,null,1094,1222,2316,null,2522,1102,3624,null,1565,2475,4040,null,862,727,1589,null,1482.546927010045,1657.0785490795038,1549.8048655503769,null,151.7183536931349,261.01373970127582,199.84381611690958,null,65.720274149909713,74.571938286227279,68.635271733070553,null,8.0742016583920719,11.172568568140859,9.4452538941073154]
["Saint-Philippe",407,359,766,null,31,61,92,null,"<5","<5",5,null,9,9,18,null,64,64,128,null,156,55,211,null,101,166,267,null,86,74,160,null,1719.6789884967325,1671.8727082381083,1689.1440439324797,null,152.92866129150315,345.24702490595473,238.8227279286061,null,38.284010967825644,45.124395624692795,40.795723129023365,null,19.793994978960075,8.168652935229094,14.567432661867024]
["Sainte-Marie",2703,2072,4775,null,243,283,526,null,25,27,52,null,111,71,182,null,443,479,922,null,1157,356,1513,null,763,995,1758,null,340,242,582,null,1798.3615754427597,1599.463150184067,1704.9168545246202,null,215.14679153531975,274.59727418071634,243.14128560084379,null,78.522654984637597,66.339689048295725,72.836664372844524,null,17.431817160613328,22.212758178024004,19.022934227427196]
["Sainte-Rose",608,575,1183,null,84,99,183,null,8,10,18,null,28,20,48,null,68,79,147,null,243,92,335,null,179,301,480,null,118,103,221,null,2084.9309932586648,2032.9352081792938,2053.8842029034399,null,320.18359834204153,349.81155482524412,340.17532941872173,null,95.174303476716233,72.64775497563312,83.568554180420776,null,26.269397933649437,32.891330855074997,29.690959768209765]
["Sainte-Suzanne",1849,1477,3326,null,164,200,364,null,15,21,36,null,55,75,130,null,295,271,566,null,820,245,1065,null,517,805,1322,null,217,156,373,null,1753.0325641587303,1740.4878949996298,1724.8432918457233,null,197.18540857675842,291.96790099887602,236.13924489181341,null,53.963296743413316,107.13282619553762,76.634433433673195,null,15.296212598027788,21.333308011929198,18.240245581596149]
["Salazie",622,613,1235,null,69,86,155,null,11,10,21,null,31,15,46,null,95,94,189,null,249,93,342,null,179,325,504,null,99,101,200,null,1832.9692876716547,2059.0277241506819,1916.541153002677,null,246.76190428172077,382.15415377571594,304.39884679150765,null,93.850757672673694,46.190028046284155,70.720879927881029,null,37.00891125262342,32.542944462760481,34.716653270726766]
["Le Tampon",5810,5046,10856,null,519,653,1172,null,36,39,75,null,237,228,465,null,963,1188,2151,null,2458,865,3323,null,1499,2344,3843,null,890,649,1539,null,1537.2884877370261,1554.2277370156326,1541.4333267536279,null,161.40582514141033,241.87127805313639,198.59154334530996,null,65.516393672765702,77.571718535947127,70.532033984333182,null,9.4241893859602417,12.331772116808862,10.786158721217019]
["Les Trois-Bassins",558,442,1000,null,54,62,116,null,"<5",15,17,null,26,12,38,null,83,95,178,null,215,95,310,null,164,188,352,null,96,64,160,null,1735.7868392455746,1545.691022619003,1631.8658225181723,null,199.49734673045796,261.60187444235487,228.27043044671592,null,79.744867344483566,40.824862308585068,60.689891105100287,null,5.4477222466333997,38.628862271190378,22.271201149978378]
["Cilaos",608,524,1132,null,53,55,108,null,6,"<5",9,null,26,26,52,null,86,64,150,null,186,72,258,null,195,303,498,null,141,85,226,null,2288.8299141804182,2300.307471914321,2264.9643656163339,null,201.60816424379476,266.49306066603202,232.5997605587234,null,99.369858280759573,123.97599376908155,106.52976980691606,null,20.230753654545822,19.250059215538421,19.002452645581727]
["NORD",{"$f":"B34+B25+B32","v":17151},{"$f":"C34+C25+C32","v":14248},{"$f":"D34+D25+D32","v":31399},null,{"$f":"F34+F25+F32","v":1510},{"$f":"G34+G25+G32","v":1874},3384,null,154,177,331,null,{"$f":"N34+N25+N32","v":742},{"$f":"O34+O25+O32","v":630},1372,null,{"$f":"R34+R25+R32","v":2653},{"$f":"S34+S25+S32","v":2836},5489,null,{"$f":"V34+V25+V32","v":7086},{"$f":"W34+W25+W32","v":2554},9640,null,{"$f":"Z34+Z25+Z32","v":4949},{"$f":"AA34+AA25+AA32","v":6923},11872,null,{"$f":"AD34+AD25+AD32","v":2463},{"$f":"AE34+AE25+AE32","v":1935},4398,null,1703.3735834458507,1795.9032651089037,1726.2737917775023,null,175.24307439254693,278.5519723814063,220.01287601515531,null,76.0106921845979,86.610948014755166,79.824522937393411,null,15.505144172824952,21.439252961922691,18.095791627522868]
["EST",{"$f":"B16+B20+B23+B24+B33+B35","v":11118},{"$f":"C16+C20+C23+C24+C33+C35","v":9646},{"$f":"D16+D20+D23+D24+D33+D35","v":20764},null,{"$f":"F16+F20+F23+F24+F33+F35","v":1075},{"$f":"G16+G20+G23+G24+G33+G35","v":1389},2464,null,169,174,343,null,{"$f":"N16+N20+N23+N24+N33+N35","v":455},{"$f":"O16+O20+O23+O24+O33+O35","v":339},794,null,{"$f":"R16+R20+R23+R24+R33+R35","v":1732},{"$f":"S16+S20+S23+S24+S33+S35","v":1907},3639,null,{"$f":"V16+V20+V23+V24+V33+V35","v":4704},{"$f":"W16+W20+W23+W24+W33+W35","v":1783},6487,null,{"$f":"Z16+Z20+Z23+Z24+Z33+Z35","v":3143},{"$f":"AA16+AA20+AA23+AA24+AA33+AA35","v":4583},7726,null,{"$f":"AD16+AD20+AD23+AD24+AD33+AD35","v":1539},{"$f":"AE16+AE20+AE23+AE24+AE33+AE35","v":1373},2912,null,1893.9271063490769,2040.2907043736841,1948.2101128819947,null,236.77989168259901,356.600323452954,291.19323076874224,null,82.831665623221227,85.341568855534305,82.495685392013769,null,30.605680756877167,34.967288096504937,32.781945701823517]
["OUEST",{"$f":"B21+B22+B27+B29+B37","v":16894},{"$f":"C21+C22+C27+C29+C37","v":14114},{"$f":"D21+D22+D27+D29+D37","v":31008},null,{"$f":"F21+F22+F27+F29+F37","v":1431},{"$f":"G21+G22+G27+G29+G37","v":1798},3229,null,160,165,325,null,{"$f":"N21+N22+N27+N29+N37","v":663},{"$f":"O21+O22+O27+O29+O37","v":685},1348,null,{"$f":"R21+R22+R27+R29+R37","v":2705},{"$f":"S21+S22+S27+S29+S37","v":3006},5711,null,{"$f":"V21+V22+V27+V29+V37","v":7249},{"$f":"W21+W22+W27+W29+W37","v":2481},9730,null,{"$f":"Z21+Z22+Z27+Z29+Z37","v":4615},{"$f":"AA21+AA22+AA27+AA29+AA37","v":6705},11320,null,{"$f":"AD21+AD22+AD27+AD29+AD37","v":2325},{"$f":"AE21+AE22+AE27+AE29+AE37","v":1922},4247,null,1682.0025198428875,1660.0376834581878,1660.6769350055554,null,173.59828790274094,253.28638741725783,211.88193399767306,null,68.659880038047604,90.482611240254201,77.397282058931339,null,16.910351885535281,18.237162173404382,17.70566743257681]
["SUD",{"$f":"B15+B17+B18+B19+B26+B28+B30+B31+B36+B38","v":22615},{"$f":"C15+C17+C18+C19+C26+C28+C30+C31+C36+C38","v":20257},{"$f":"D15+D17+D18+D19+D26+D28+D30+D31+D36+D38","v":42872},null,{"$f":"F15+F17+F18+F19+F26+F28+F30+F31+F36+F38","v":1959},{"$f":"G15+G17+G18+G19+G26+G28+G30+G31+G36+G38","v":2624},4583,null,126,151,277,null,{"$f":"N15+N17+N18+N19+N26+N28+N30+N31+N36+N38","v":911},{"$f":"O15+O17+O18+O19+O26+O28+O30+O31+O36+O38","v":876},1787,null,{"$f":"R15+R17+R18+R19+R26+R28+R30+R31+R36+R38","v":3917},{"$f":"S15+S17+S18+S19+S26+S28+S30+S31+S36+S38","v":4361},8278,null,{"$f":"V15+V17+V18+V19+V26+V28+V30+V31+V36+V38","v":9320},{"$f":"W15+W17+W18+W19+W26+W28+W30+W31+W36+W38","v":3628},12948,null,{"$f":"Z15+Z17+Z18+Z19+Z26+Z28+Z30+Z31+Z36+Z38","v":5749},{"$f":"AA15+AA17+AA18+AA19+AA26+AA28+AA30+AA31+AA36+AA38","v":9352},15101,null,{"$f":"AD15+AD17+AD18+AD19+AD26+AD28+AD30+AD31+AD36+AD38","v":3629},{"$f":"AE15+AE17+AE18+AE19+AE26+AE28+AE30+AE31+AE36+AE38","v":2916},6545,null,1523.7133508938912,1595.388349731209,1550.3106290751687,null,156.0871664608797,244.46229297169816,197.36964508108304,null,63.563299328894537,76.284630320728866,68.797022283492382,null,8.6017755498122295,11.711417078262382,10.098585901167484]
["LA REUNION",{"$f":"SUM(B39:B42)+B44","v":67800},{"$f":"SUM(C39:C42)+C44","v":58305},126105,null,{"$f":"SUM(F39:F42)+F44","v":5979},{"$f":"SUM(G39:G42)+G44","v":7690},{"$f":"SUM(H39:H42)+H44","v":13669},null,609,667,1276,null,{"$f":"SUM(N39:N42)+N44","v":2775},{"$f":"SUM(O39:O42)+O44","v":2531},{"$f":"SUM(P39:P42)+P44","v":5306},null,{"$f":"SUM(R39:R42)","v":11007},{"$f":"SUM(S39:S42)+S44","v":12112},{"$f":"SUM(T39:T42)+T44","v":23119},null,{"$f":"SUM(V39:V42)+V44","v":28364},{"$f":"SUM(W39:W42)+W44","v":10465},{"$f":"SUM(X39:X42)+X44","v":38829},null,{"$f":"SUM(Z39:Z42)+Z44","v":18467},{"$f":"SUM(AA39:AA42)+AA44","v":27581},{"$f":"SUM(AB39:AB42)+AB44","v":46048},null,{"$f":"SUM(AD39:AD42)+AD44","v":9962},{"$f":"SUM(AE39:AE42)+AE44","v":8147},{"$f":"SUM(AF39:AF42)+AF44","v":18109},null,1656.7832610132298,1718.0404788897779,1674.0781747692822,null,175.77310692979125,269.62106530325661,218.89173638189175,null,70.577665336301678,83.497975282137261,75.493095139441962,null,15.33531583934356,18.84024273738401,17.017060643228604]
[null,22,40,62,null,4,5,9,null,null,null,null,null,4,1,5,null,null,2,2,null,5,19,24,null,11,18,29,null,6,1,7]

{"sheet":"Mortalité","index":13,"n_rows":43,"n_cols":36,"rows_kept":43,"cut":false,"hidden":false,"merged":[[12,21,12,23],[12,25,12,27],[12,29,12,31],[12,33,12,35],[12,0,13,0],[12,1,12,3],[12,5,12,7],[12,9,12,11],[12,13,12,15],[12,17,12,19]]}
[]
[]
[]
[]
[]
[]
[]
[]
[]
[null,"Sources et année : Selon l'indicatateur, reportez-vous au tableau de la page SOMMAIRE (cliquez sur l'intitulé de chaque colonne)"]
[]
[]
["COMMUNE","Nombre moyen de décès",null,null,null,"Nombre moyen de décès prématurés (survenant avant 65 ans)",null,null,null,"Part de décès prématurés pour 100 décès",null,null,null,"Nombre moyen de décès par maladies cardiovasculaires",null,null,null,"Nombre moyen de décès par tumeur",null,null,null,"Taux standardisé de mortalité (pour 100 000 habitants)",null,null,null,"Taux standardisé de mortalité par maladies cardiovasculaires (pour 100 000 habitants)",null,null,null,"Taux standardisé de mortalité par tumeur (pour 100 000 habitants)",null,null,null,"Taux standardisé de mortalité prématurée (pour 100 000 habitants)"]
[null,"Femmes","Hommes","Ensemble",null,"Femmes","Hommes","Ensemble",null,"Femmes","Hommes","Ensemble",null,"Femmes","Hommes","Ensemble",null,"Femmes","Hommes","Ensemble",null,"Femmes","Hommes","Ensemble",null,"Femmes","Hommes","Ensemble",null,"Femmes","Hommes","Ensemble",null,"Femmes","Hommes","Ensemble"]
["Les Avirons",26.666666666666668,26.333333333333332,53,null,4,9,13,null,15,34.177215189873415,24.528301886792452,null,6.333333333333333,6.333333333333333,12.666666666666666,null,"ns",5.666666666666667,9.3333333333333339,null,642.47501479004166,742.60190152975201,709.1849181462037,null,165.04933569861819,198.78849198067618,182.20274467648284,null,79.520355327251224,133.29934872433788,112.01922200911332,null,68.019313812144318,154.63405628486075,109.47888546016947]
["Bras-Panon",31.333333333333332,28.666666666666668,60,null,7.333333333333333,8.3333333333333339,15.666666666666666,null,23.404255319148938,29.069767441860467,26.111111111111114,null,10,6.666666666666667,16.666666666666668,null,7.666666666666667,8.6666666666666661,16.333333333333332,null,758.15983452229125,1118.922063780675,896.52055893360705,null,262.69088433521608,255.36320445023463,275.0342868223546,null,186.96030785012474,326.14755124757471,235.08311708360137,null,105.0122149269755,135.56424182550421,120.21611437926687]
["Entre-Deux",31,31.333333333333332,62.333333333333336,null,3,7.666666666666667,11,null,10.75268817204301,24.468085106382979,17.647058823529409,null,6,6.666666666666667,12.666666666666666,null,8.3333333333333339,12.333333333333334,20.666666666666668,null,902.44085933064719,1329.4135483048258,1079.7833378887415,null,175.63387820941585,272.1597821545738,213.9122004903096,null,256.95475809052687,548.26924737044021,374.96819783272622,null,96.6817817017251,231.41295292729811,164.50997893776361]
["L'Étang-Salé",27,43.333333333333336,70.333333333333329,null,4.333333333333333,17,21.333333333333332,null,16.049382716049383,39.230769230769234,30.33175355450237,null,9.6666666666666661,9,18.666666666666668,null,5,11.666666666666666,16.666666666666668,null,577.29771734273822,1126.4495853529079,814.60575773606615,null,216.66144284786608,334.21992248815661,257.27142441994783,null,98.251157877390881,258.00034550961124,170.93266287757982,null,58.791662826460794,227.42047661438573,144.01880410276794]
["Petite-Île",30.666666666666668,47.333333333333336,78,null,6.333333333333333,16,22.333333333333332,null,20.652173913043477,33.802816901408448,28.63247863247863,null,9,12.666666666666666,21.666666666666668,null,6.666666666666667,13.333333333333334,20,null,593.52809835851167,1036.8147738661692,797.09488996320999,null,181.81942347640114,317.44275184076605,241.8004454720332,null,122.87074018813064,263.40714580841421,187.59301524209005,null,96.76600125108061,238.84139690739869,167.02122903240684]
["La Plaine-des-Palmistes",14.333333333333334,15.333333333333334,29.666666666666668,null,3,5.666666666666667,9,null,23.255813953488371,36.956521739130437,30.337078651685388,null,5,3,8.3333333333333339,null,"ns","ns",5.666666666666667,null,577.99257909251367,909.23104138573649,716.82761066784133,null,200.36522712055404,262.10610199390192,220.75269127805311,null,127.89544093539537,124.39566275468385,127.04792829800394,null,107.9777938576797,186.47464320526731,147.80018109873006]
["Le Port",83.666666666666671,108,191.66666666666666,null,22.666666666666668,50.666666666666664,73.333333333333329,null,27.091633466135455,46.913580246913575,38.260869565217391,null,20,19,39,null,19.333333333333332,39.333333333333336,58.666666666666664,null,625.16852559406107,1120.7139814337024,823.03421956865259,null,160.01987552722215,220.07462977605945,180.93560756109014,null,136.8527527985149,394.32628214914928,238.77660888920181,null,125.70751069388049,303.10365934620268,210.2782638946847]
["La Possession",53.333333333333336,67.666666666666671,121,null,13.333333333333334,29,42.333333333333336,null,25,42.857142857142854,34.986225895316807,null,15.333333333333334,15,30.333333333333332,null,11.666666666666666,23,34.666666666666664,null,643.76522552021709,845.37389020876469,746.84567908838994,null,204.35702099959008,219.08497288233136,214.61278357526859,null,106.92161724121905,255.96112677990399,173.78354465596519,null,84.717399323457954,182.42538781473536,133.63135268028839]
["Saint-André",125,144,269,null,29,66,95,null,23.200000000000003,45.833333333333329,35.315985130111528,null,38,26.333333333333332,64.333333333333329,null,25,41,66,null,751.37004192390066,1148.5940912423789,900.22732233150919,null,232.44510193822572,238.27115288196364,232.20450479517251,null,146.68681644264746,330.77966313343472,217.11297995372212,null,104.15788553614446,260.97931996519367,178.65413821189691]
["Saint-Benoît",86.333333333333329,111.33333333333333,197.66666666666666,null,23.666666666666668,49.333333333333336,73,null,27.413127413127413,44.311377245508986,36.930860033726816,null,21,25.333333333333332,46.333333333333336,null,20.666666666666668,26.666666666666668,47.333333333333336,null,678.4701405376203,1048.5532202019035,847.17735730326376,null,174.16100686668602,262.3933378054017,215.09665676070989,null,153.03828167184554,242.85468545969758,194.1320426286189,null,122.08559728915606,281.81613304825976,198.2299725605549]
["Saint-Denis",363.66666666666669,401,764.66666666666663,null,76,163.33333333333334,239.33333333333334,null,20.898258478460129,40.731504571903578,31.299040976460336,null,95.333333333333329,87.333333333333329,182.66666666666666,null,88.333333333333329,116,204.33333333333334,null,570.16483529445759,954.03409617334478,725.81508627631479,null,153.75494138642469,226.29220683106894,183.48305413009126,null,134.60043088398044,275.90340678415407,187.32566272775597,null,94.782600178865849,233.84319736616462,159.24065324937206]
["Saint-Joseph",102.66666666666667,133,235.66666666666666,null,20.666666666666668,46.666666666666664,67.333333333333329,null,20.129870129870131,35.087719298245609,28.571428571428569,null,26.666666666666668,32.333333333333336,59,null,21.666666666666668,33.333333333333336,55,null,584.9361352637776,1005.3797930518022,777.3126834901758,null,150.43454487582096,266.58282408546916,200.04488740054654,null,122.60972572215546,245.0407452380077,178.22677381638363,null,101.78325729794636,245.51226984219679,171.20056497696572]
["Saint-Leu",67.333333333333329,97.333333333333329,164.66666666666666,null,14.333333333333334,38.666666666666664,53,null,21.28712871287129,39.726027397260275,32.186234817813769,null,18.333333333333332,23,41.333333333333336,null,17.333333333333332,27.333333333333332,44.666666666666664,null,558.77681260705106,1018.6827779090149,756.60763984950165,null,156.28573282740513,264.55085758120561,204.66983949672976,null,137.00796787341193,262.10053021256857,191.0442074416024,null,82.053861405147458,227.01809743745463,154.20174579239293]
["Saint-Louis",136.66666666666666,143.33333333333334,280,null,28,57,85,null,20.487804878048781,39.767441860465112,30.357142857142854,null,35.333333333333336,26.333333333333332,61.666666666666664,null,28.333333333333332,43.333333333333336,71.666666666666671,null,687.75962000558889,1042.6090166474992,834.41586584461072,null,180.43896336234582,213.30623521626504,195.3231540400397,null,140.89054242683062,300.79185712643647,203.54410694077237,null,102.77835066500364,232.03307849946748,165.26420956060269]
["Saint-Paul",215.33333333333334,274.66666666666669,490,null,52.333333333333336,114,166.33333333333334,null,24.30340557275542,41.504854368932037,33.945578231292515,null,56.333333333333336,60,116.33333333333333,null,48.666666666666664,72,120.66666666666667,null,528.00562884684973,914.87068280005906,692.15971020904658,null,144.78982916647755,222.55663262625814,178.14210781590049,null,114.77170674865519,226.47640223088945,162.86902241192405,null,94.401831213052759,209.4827334920823,150.99444009009108]
["Saint-Pierre",216.33333333333334,238.33333333333334,454.66666666666669,null,53.333333333333336,100.66666666666667,154,null,24.65331278890601,42.23776223776224,33.87096774193548,null,56.666666666666664,51,107.66666666666667,null,49.666666666666664,67.666666666666671,117.33333333333333,null,699.26405093705205,1034.6199266726562,842.40684271174564,null,189.30848244302473,242.26278034436498,211.97109147206965,null,156.29107435991102,285.69837189828388,208.64535917592542,null,118.60840854064219,250.93847892786164,181.15211788543053]
["Saint-Philippe",11,17.333333333333332,28.333333333333332,null,2,8.6666666666666661,11,null,21.212121212121211,50,38.82352941176471,null,5,4,8.6666666666666661,null,"ns",5,6.666666666666667,null,563.41074367099191,977.20360314950005,756.50057795016232,null,233.9039864681472,288.66439900801919,260.14004040017988,null,67.406696427197659,293.65391112413613,166.15308055062457,null,83.20937815835984,295.47278944671291,191.79247187024311]
["Sainte-Marie",53.333333333333336,77.666666666666671,131,null,14.666666666666666,36.666666666666664,51.333333333333336,null,27.499999999999996,47.210300429184542,39.185750636132319,null,13.333333333333334,24.666666666666668,38,null,11.666666666666666,16,27.666666666666668,null,547.94156535259981,872.58019096948169,698.45231052826159,null,149.61665958277626,291.90299027623553,212.34610030748226,null,99.836970336271605,150.44702294821974,125.10469320605499,null,83.628392276976484,224.92991928081861,151.75910733673837]
["Sainte-Rose",18,24.333333333333332,42.333333333333336,null,4,9.3333333333333339,13.333333333333334,null,22.222222222222221,38.356164383561648,31.496062992125985,null,4,4.666666666666667,8.6666666666666661,null,5.666666666666667,9,14.666666666666666,null,664.11208524982169,949.21392513519163,806.01682023780654,null,152.9997487019337,187.32038983466018,172.6218773180903,null,204.57172192522984,332.34398590779568,267.67565806925882,null,116.32844133516963,264.33874535553952,191.52197191030399]
["Sainte-Suzanne",50.333333333333336,61.666666666666664,112,null,13,20.666666666666668,33.666666666666664,null,25.827814569536422,33.513513513513516,30.059523809523807,null,15.666666666666666,16.666666666666668,32.333333333333336,null,9.3333333333333339,17,26.333333333333332,null,722.55990132137936,1208.0979876494225,933.40797541699203,null,246.14930021287904,337.9773598443947,291.970567979934,null,119.91994054080099,304.3731337500858,201.31025428423297,null,108.18130104799694,196.08267566535815,149.27498327057549]
["Salazie",20,31.666666666666668,51.666666666666664,null,3,11,14,null,15,34.736842105263158,27.096774193548391,null,4,5.333333333333333,9.3333333333333339,null,5,9,14,null,774.69920447525578,1375.2661717855863,1057.3979266063711,null,147.12438684203181,251.44483104288216,190.81916342575605,null,195.20748374703362,398.70933349957573,290.31983374277485,null,84.085959509342842,296.76936186449723,195.09796925955172]
["Le Tampon",184.33333333333334,227.33333333333334,411.66666666666669,null,41.666666666666664,88.666666666666671,130.33333333333334,null,22.603978300180831,39.002932551319645,31.659919028340084,null,48.666666666666664,48.666666666666664,97.333333333333329,null,43.333333333333336,61.333333333333336,104.66666666666667,null,622.50769818093409,1026.0705598769262,798.20299470010241,null,170.73403227816283,239.20512619654039,201.50157687925019,null,137.93364973283059,257.53990913085084,188.55557796057059,null,103.25535198428466,240.1898667283161,168.81567054448243]
["Les Trois-Bassins",18.333333333333332,25.666666666666668,44,null,3,10,13.333333333333334,null,18.181818181818183,38.961038961038959,30.303030303030305,null,4,4,7.666666666666667,null,"ns",7.333333333333333,11.333333333333334,null,650.07637733895501,1233.6260905078786,908.09137028866382,null,167.60762963145032,146.55371309755213,168.6032532797513,null,130.8890260638139,334.70337140810432,222.45328003535383,null,86.974970730949877,276.68424482397256,187.61211429450412]
["Cilaos",14.333333333333334,22.333333333333332,36.666666666666664,null,3,11.333333333333334,13.666666666666666,null,16.2790697674419,50.746268656716417,37.272727272727273,null,3,4.666666666666667,8.3333333333333339,null,"ns",5.666666666666667,8.6666666666666661,null,552.16376897229043,1175.5950363591428,823.51367164767817,null,141.99030941920952,295.88534766984225,206.54004329814529,null,121.33156533938075,298.1801263142861,195.03307377152851,null,85.694741830658302,370.82181183113835,236.26900939320086]
["NORD",{"$f":"B34+B25+B32","v":467.33333333333331},{"$f":"C34+C25+C32","v":540.33333333333337},{"$f":"D34+D25+D32","v":1007.6666666666666},null,{"$f":"F34+F25+F32","v":103.66666666666667},{"$f":"G34+G25+G32","v":220.66666666666666},324.33333333333331,null,{"$f":"F39/B39*100","v":22.182596291012839},{"$f":"G39/C39*100","v":40.838988278840219},32.186569632815079,null,{"$f":"N34+N25+N32","v":124.33333333333333},{"$f":"O34+O25+O32","v":128.66666666666666},{"$f":"P34+P25+P32","v":253},null,{"$f":"R34+R25+R32","v":109.33333333333333},{"$f":"S34+S25+S32","v":149},258.33333333333337,null,579,964,739,null,160.64941418415799,246.66164852745621,196.86731895707544,null,128.70743573086028,261.28886906605709,180.66190225087843,null,94.302395244792137,226.98762416708428,156.29699239780629]
["EST",{"$f":"B16+B20+B23+B24+B33+B35","v":295},{"$f":"C16+C20+C23+C24+C33+C35","v":355.33333333333331},{"$f":"D16+D20+D23+D24+D33+D35","v":650.33333333333337},null,{"$f":"F43-(F39+F41+F42)","v":70.333333333333314},{"$f":"G16+G20+G23+G24+G33+G35","v":149.66666666666669},220,null,{"$f":"F40/B40*100","v":23.841807909604512},{"$f":"G40/C40*100","v":42.120075046904319},{"$f":"H40/D40*100","v":33.828805740645826},null,{"$f":"N16+N20+N23+N24+N33+N35","v":82},{"$f":"O16+O20+O23+O24+O33+O35","v":71.333333333333329},{"$f":"P16+P20+P23+P24+P33+P35","v":153.66666666666666},null,{"$f":"R43-(R39+R41+R42)","v":67.666666666666686},{"$f":"S43-(S39+S41+S42)","v":96.666666666666629},{"$f":"T16+T20+T23+T24+T33+T35","v":164},null,712,1082,875,null,203.37295518929855,239.35753125017581,222.87083649815168,null,157.49726882990149,289.0341304247562,214.94675257217477,null,108.97292604609996,252.49738097738049,178.10380235230534]
["OUEST",{"$f":"B21+B22+B27+B29+B37","v":437.99999999999994},{"$f":"C21+C22+C27+C29+C37","v":573.33333333333337},{"$f":"D21+D22+D27+D29+D37","v":1011.3333333333333},null,106,{"$f":"G21+G22+G27+G29+G37","v":242.33333333333331},348.33333333333331,null,24.200913242009136,42.267441860465112,34.442979564930788,null,114,{"$f":"O21+O22+O27+O29+O37","v":121},{"$f":"P21+P22+P27+P29+P37","v":234.66666666666666},null,101,{"$f":"S21+S22+S27+S29+S37","v":169.00000000000003},270,null,564.09863037293019,965.89294109675029,736.45960847366507,null,155.50465271867765,224.86243196636227,185.78994479261442,null,122.83413607902226,265.25753710558683,183.49692434818741,null,95.419257416145513,225.51090925581155,159.44435795752975]
["SUD",{"$f":"B15+B17+B18+B19+B26+B28+B30+B31+B36+B38","v":780.66666666666674},{"$f":"C15+C17+C18+C19+C26+C28+C30+C31+C36+C38","v":930.00000000000023},{"$f":"D15+D17+D18+D19+D26+D28+D30+D31+D36+D38","v":1710.6666666666667},null,166,{"$f":"G15+G17+G18+G19+G26+G28+G30+G31+G36+G38","v":362.66666666666669},529,null,21.263877028181039,38.99641577060931,30.923616523772406,null,{"$f":"N15+N17+N18+N19+N26+N28+N30+N36+N38+N31","v":206.33333333333331},{"$f":"O15+O17+O18+O19+O26+O28+O30+O31+O36+O38","v":201.66666666666663},{"$f":"P15+P17+P18+P19+P26+P28+P30+P31+P36+P38","v":408.33333333333331},null,171,{"$f":"S15+S17+S18+S19+S26+S28+S30+S31+S36+S38","v":259.33333333333337},430.66666666666674,null,649.25739697016809,1028.8645355886606,815.49699225477264,null,176.45298355130768,250.67422904145377,207.64438149732803,null,138.38589162133232,272.97814679338705,195.60392476018231,null,102.77117311858991,242.0537020095654,169.98732438181196]
["LA REUNION",{"$f":"SUM(B39:B42)+B44","v":1981},{"$f":"SUM(C39:C42)+C44","v":2399},4380,null,446,{"$f":"SUM(G39:G42)+G44","v":975.33333333333348},{"$f":"SUM(H39:H42)+H44","v":1421.6666666666665},null,22.513881877839477,40.655828817562877,32.458143074581422,null,527,523,{"$f":"SUM(P39:P42)+P44","v":1049.6666666666665},null,449,674,{"$f":"SUM(T39:T42)+T44","v":1123},null,618.85869792696803,1005.3716234739293,785.16056957418652,null,170.72587437703208,241.98184669059953,201.50086863805967,null,134.62269274071102,270.55529037103543,191.53474647380378,null,99.609251306045707,235.69357803370428,165.10019678423066]

{"sheet":"Admissions en ALD","index":14,"n_rows":44,"n_cols":48,"rows_kept":44,"cut":false,"hidden":false,"merged":[[12,45,12,47],[12,21,12,23],[12,25,12,27],[12,29,12,31],[12,33,12,35],[12,37,12,39],[12,41,12,43],[12,17,12,19],[12,0,13,0],[12,1,12,3],[12,5,12,7],[12,13,12,15],[12,9,12,11]]}
[]
[]
[]
[]
[]
[]
[]
[]
[]
[null,"Sources et année : Selon l'indicatateur, reportez-vous au tableau de la page SOMMAIRE (cliquez sur l'intitulé de chaque colonne)"]
[null,"*Nombre moyen d'admissions en ALD non ventilés par commune mais inclus dans le total régional"]
[]
["COMMUNE","Nombre annuel moyen d'admissions en ALD",null,null,null,"Nombre annuel moyen d'admissions en ALD pour maladies cardiovasculaires",null,null,null,"Nombre annuel moyen d'admissions en ALD pour diabète",null,null,null,"Nombre annuel moyen d'admissions en ALD pour tumeurs",null,null,null,"Nombre annuel moyen d'admissions en ALD chez les moins de 15 ans",null,null,null,"Nombre annuel moyen d'admissions en ALD chez les 15-44 ans",null,null,null,"Nombre annuel moyen d'admissions en ALD chez les 45-74 ans",null,null,null,"Nombre annuel moyen d'admissions en ALD chez les 75 ans et plus",null,null,null,"Taux standaridisé d'admissions en ALD \n(pour 100 000 habitants)",null,null,null,"Taux standaridisé d'admissions en ALD pour maladies cardiovasculaires (pour 100 000 habitants)",null,null,null,"Taux standaridisé d'admissions en ALD pour tumeur (pour 100 000 habitants)",null,null,null,"Taux standaridisé d'admissions en ALD pour diabète (pour 100 000 habitants)"]
[null,"Femmes","Hommes","Ensemble",null,"Femmes","Hommes","Ensemble",null,"Femmes","Hommes","Ensemble",null,"Femmes","Hommes","Ensemble",null,"Femmes","Hommes","Ensemble",null,"Femmes","Hommes","Ensemble",null,"Femmes","Hommes","Ensemble",null,"Femmes","Hommes","Ensemble",null,"Femmes","Hommes","Ensemble",null,"Femmes","Hommes","Ensemble",null,"Femmes","Hommes","Ensemble",null,"Femmes","Hommes","Ensemble"]
["Les Avirons",73.333333333333329,86.666666666666671,160,null,14.666666666666666,25.333333333333332,40,null,18.666666666666668,20.666666666666668,39.333333333333336,null,12.666666666666666,15.333333333333334,28,null,4.666666666666667,6.333333333333333,11,null,12.333333333333334,13,25.333333333333332,null,38.333333333333336,52.333333333333336,90.666666666666671,null,18,15,33,null,1673.4638219396099,2349.46491473585,1956.03448465364,null,380.94387432543903,820.47707440496902,565.53706894811603,null,273.84909707539401,454.50187079395999,345.90190549351303,null,413.73368955460001,433.373841727468,429.37644571107899]
["Bras-Panon",95.666666666666671,104.66666666666667,200.33333333333334,null,13,27.666666666666668,40.666666666666664,null,38.333333333333336,38,76.333333333333329,null,16.666666666666668,11.666666666666666,28.333333333333332,null,"ns",7.333333333333333,10.666666666666666,null,19.666666666666668,14,33.666666666666664,null,59.333333333333336,63,122.33333333333333,null,13.333333333333334,20.333333333333332,33.666666666666664,null,2170.2556042841802,2898.0361881925201,2475.87043803507,null,340.04314412307298,911.80721949812198,593.71430613007601,null,407.701130030868,430.60670760014602,402.44920060212098,null,801.44499930853499,892.29355812697895,842.19690310114697]
["Entre-Deux",41.333333333333336,58,99.333333333333329,null,7.333333333333333,18.666666666666668,26,null,11.333333333333334,13.666666666666666,25,null,11,12.333333333333334,23.333333333333332,null,"ns",2.3333333333333335,"ns",null,10.666666666666666,6,16.666666666666668,null,19,39.333333333333336,58.333333333333336,null,10.666666666666666,10,20.666666666666668,null,1431.1730969878399,2280.7326167573601,1819.2891794336001,null,268.19100124530701,719.51535226891701,485.83651974723199,null,382.42324753981501,553.51256792475101,448.21396148903398,null,384.44979106875098,483.68586596698702,433.45501152149598]
["L'Étang-Salé",93.666666666666671,113.66666666666667,207.33333333333334,null,19.666666666666668,30.666666666666668,50.333333333333336,null,29,29.666666666666668,58.666666666666664,null,13.666666666666666,22,35.666666666666664,null,6.333333333333333,6.333333333333333,12.666666666666666,null,20.666666666666668,18.333333333333332,39,null,44.666666666666664,72,116.66666666666667,null,22,17,39,null,1718.38102028599,2294.6478411569301,1983.3634550257,null,411.53950578420103,685.18001972177103,540.98591189403101,null,240.16055116570601,496.02839363694198,353.40853801895599,null,508.70372563495101,541.08128223563995,521.21896119318103]
["Petite-Île",110,136.66666666666666,246.66666666666666,null,16.666666666666668,37.333333333333336,54,null,36,46.333333333333336,82.333333333333329,null,21.333333333333332,15.333333333333334,36.666666666666664,null,"ns",6,10,null,23.333333333333332,20,43.333333333333336,null,59,86,145,null,23.333333333333332,24.666666666666668,48,null,2120.8858330144499,2857.44515579072,2458.4698886136098,null,354.53876227518998,913.82939963777596,600.32232983198196,null,392.31655083556501,324.92492172429201,358.18946419343899,null,657.273065114274,856.37730248206697,758.82108263910698]
["La Plaine-des-Palmistes",37.666666666666664,51,88.666666666666671,null,8.3333333333333339,13.333333333333334,21.666666666666668,null,14,20,34,null,5,4.666666666666667,9.6666666666666661,null,"ns","ns","ns",null,7.666666666666667,9.6666666666666661,17.333333333333332,null,18.666666666666668,35,53.666666666666664,null,9.3333333333333339,4.666666666666667,14,null,1582.40224635459,2631.7752799185801,2051.5769636304299,null,379.08986151820602,780.16476844723297,552.16725098596896,null,208.003359070492,362.73476654597999,237.61960106662801,null,584.51101607159501,910.95612978353495,750.58714175142802]
["Le Port",327.20601812998456,342.20367960135144,669.409697731336,null,63.666666666666664,98.666666666666671,162.33333333333334,null,142,102.66666666666667,244.66666666666666,null,36.333333333333336,49.333333333333336,85.666666666666671,null,14.666666666666666,14,28.666666666666668,null,74,52,126,null,181.87268479665121,220.33333333333334,402.20601812998456,null,56.333333333333336,54.870346268018103,111.20367960135144,null,2230.8718015053601,3042.3028922502399,2556.7513317196399,null,489.15138702845701,971.79385036747601,693.01241336406804,null,252.79024337919699,479.45402936913001,346.28068783409299,null,925.656626645801,824.764822421747,872.47294208070002]
["La Possession",197.12731517354646,224.79632039864859,421.92363557219505,null,31.666666666666668,61.666666666666664,93.333333333333329,null,61,59.333333333333336,120.33333333333333,null,38.333333333333336,34,72.333333333333329,null,9,15,24,null,52.666666666666664,42.333333333333336,95,null,105.79398184021314,137.33333333333334,243.12731517354646,null,29.333333333333332,30.1296537319819,59.462987065315225,null,1840.38712654291,2476.0544324954299,2123.0673187285702,null,338.43723356161001,757.58923572642595,531.18237700227803,null,349.18540104155301,433.33728917543499,379.60168932884,null,568.786923826156,567.98367850775503,570.05992787134403]
["Saint-André",403.66666666666669,461,864.66666666666663,null,68.333333333333329,127.66666666666667,196,null,154,157,311,null,56,57.333333333333336,113.33333333333333,null,13,16.666666666666668,29.666666666666668,null,93.333333333333329,92,185.33333333333334,null,229.33333333333334,294.66666666666669,524,null,67.333333333333329,57,124.33333333333333,null,2106.0957931387902,2867.6484516560799,2427.6417349308399,null,414.14424592868602,859.46429891744003,611.77132031310202,null,299.40327172057198,402.66940811600898,340.12449971322701,null,748.37129599414902,855.845775047399,790.53819450131402]
["Saint-Benoît",265.33333333333331,331.66666666666669,597,null,50.333333333333336,85.333333333333329,135.66666666666666,null,103.33333333333333,109,212.33333333333334,null,33.666666666666664,40,73.666666666666671,null,11.333333333333334,17,28.333333333333332,null,65.666666666666671,63.333333333333336,129,null,142.33333333333334,211,353.33333333333331,null,45.666666666666664,40.333333333333336,86,null,1906.10026092624,2904.5693901407099,2331.8896479395698,null,411.79738224174702,836.17329539347702,595.08853604622004,null,235.261177779055,392.67784980564602,298.00877528740699,null,697.208847224961,854.55001417857704,765.82247184865901]
["Saint-Denis",1186.6666666666667,1248.6666666666667,2435.3333333333335,null,246.66666666666666,342,588.66666666666663,null,350.66666666666669,342.66666666666669,693.33333333333337,null,204.66666666666666,211,415.66666666666669,null,50.333333333333336,66,116.33333333333333,null,245.66666666666666,233,478.66666666666669,null,633.33333333333337,772.33333333333337,1405.6666666666667,null,254.33333333333334,176.33333333333334,430.66666666666669,null,1880.52169725869,2583.7448374753599,2178.2753289041498,null,431.88646019671899,769.14740141876496,577.87711168755902,null,320.94823056034397,484.56358961127302,383.56616297631501,null,535.57313571879104,655.11458796847899,585.82578434581603]
["Saint-Joseph",306,341.33333333333331,647.33333333333337,null,72,99.666666666666671,171.66666666666666,null,87,94.333333333333329,181.33333333333334,null,50.333333333333336,52.666666666666664,103,null,15.333333333333334,25.333333333333332,40.666666666666664,null,55.666666666666664,45.666666666666664,101.33333333333333,null,154,210.33333333333334,364.33333333333331,null,80.666666666666671,60,140.66666666666666,null,1956.6891305731899,2468.3910359125398,2191.4295501568399,null,500.29356092463701,774.02014754391405,630.75427981257099,null,315.26807602667202,411.24558348249599,356.83114177144199,null,536.58276804428999,610.01076844521401,574.47209896812103]
["Saint-Leu",257.66666666666669,287.66666666666669,545.33333333333337,null,52.666666666666664,83,135.66666666666666,null,76,79.333333333333329,155.33333333333334,null,46.666666666666664,40.666666666666664,87.333333333333329,null,12,15.333333333333334,27.333333333333332,null,55.333333333333336,57.333333333333336,112.66666666666667,null,137.33333333333334,174.33333333333334,311.66666666666669,null,53,40.666666666666664,93.666666666666671,null,1983.46177207101,2533.47283531222,2231.8263977696101,null,462.240916095361,855.95419723206805,636.24710408961403,null,354.89102930402697,388.55155278558601,363.81877670798099,null,549.17837517926705,608.298402880504,578.17431579461197]
["Saint-Louis",356,411.33333333333331,767.33333333333337,null,67,108.66666666666667,175.66666666666666,null,123.66666666666667,124.33333333333333,248,null,48.666666666666664,61,109.66666666666667,null,21.333333333333332,33.333333333333336,54.666666666666664,null,75.333333333333329,63,138.33333333333334,null,180,255,435,null,78.666666666666671,59.333333333333336,138,null,1715.5497577475101,2446.45895871827,2030.19466672159,null,353.99527683644197,729.114348515134,515.42206718463797,null,240.423884857384,398.560391881209,307.96254137347398,null,577.23767376570095,693.03296652948495,628.14906424412004]
["Saint-Paul",814,919.33333333333337,1733.3333333333333,null,174.66666666666666,266.66666666666669,441.33333333333331,null,270,248.33333333333334,518.33333333333337,null,135.66666666666666,136,271.66666666666669,null,27,42.666666666666664,69.666666666666671,null,190.66666666666666,172.33333333333334,363,null,419.33333333333331,561.33333333333337,980.66666666666663,null,175.33333333333334,142,317.33333333333331,null,1976.53729880482,2622.0174101504599,2270.2944999587098,null,488.14000684971899,838.164783741728,651.92280201996505,null,325.36492406475702,420.46775765995,365.26657176485799,null,609.16047106643305,624.25438132997795,613.78018590836996]
["Saint-Pierre",716.33333333333337,747,1463.3333333333333,null,135,194.33333333333334,329.33333333333331,null,235.66666666666666,211.33333333333334,447,null,108,116.66666666666667,224.66666666666666,null,29.333333333333332,39.333333333333336,68.666666666666671,null,167.33333333333334,147,314.33333333333331,null,368,448,816,null,150,111.66666666666667,261.66666666666669,null,2164.30170121116,2935.0136581260599,2472.0081717503899,null,463.81367889140301,871.78006969613796,631.41082398443598,null,325.78698576738299,488.91057011920498,388.519268278607,null,669.31619295602695,727.14051564167903,691.60223696350897]
["Saint-Philippe",43.666666666666664,53,96.666666666666671,null,13,16.333333333333332,29.333333333333332,null,11.333333333333334,15,26.333333333333332,null,5.666666666666667,7,12.666666666666666,null,"ns","ns","ns",null,8.6666666666666661,11.666666666666666,20.333333333333332,null,22.333333333333332,33.666666666666664,56,null,10.666666666666666,5.666666666666667,16.333333333333332,null,2137.5280779045702,3053.1113870832701,2448.3137177040498,null,743.70187486579403,861.48733027174796,810.29519760748803,null,261.186376308055,520.758138204273,335.88780679641002,null,501.99267668436102,817.62213723424395,599.69941441968103]
["Sainte-Marie",201.66666666666666,253.33333333333334,455,null,31.666666666666668,59.333333333333336,91,null,69.666666666666671,84,153.66666666666666,null,31.666666666666668,40.666666666666664,72.333333333333329,null,9.6666666666666661,15,24.666666666666668,null,47.333333333333336,45.666666666666664,93,null,109.66666666666667,162.66666666666666,272.33333333333331,null,35,30,65,null,1721.0446500862499,2606.5348341937201,2100.7198341851799,null,342.94799639116002,683.45914563297299,504.99940600979801,null,260.53211082416698,491.06844161500601,346.86383135015501,null,551.21029932070496,762.08303111185103,643.21247569353102]
["Sainte-Rose",47.666666666666664,56.666666666666664,104.33333333333333,null,8,16,24,null,22.333333333333332,17.666666666666668,40,null,5,11.333333333333334,16.333333333333332,null,"ns","ns","ns",null,10.333333333333334,10.333333333333334,20.666666666666668,null,29.666666666666668,34,63.666666666666664,null,5.666666666666667,10.333333333333334,16,null,1742.7844554611399,2346.6809753306402,1986.94159365531,null,330.94312857516201,706.864526831033,493.66113552154098,null,168.399395545385,515.20901073860603,327.77910709378898,null,805.81397703508901,661.477994556309,727.04950648626095]
["Sainte-Suzanne",171.66666666666666,180.33333333333334,352,null,30.666666666666668,55.333333333333336,86,null,67.666666666666671,57,124.66666666666667,null,25,23.666666666666668,48.666666666666664,null,7.333333333333333,9.6666666666666661,17,null,38.333333333333336,31,69.333333333333329,null,91.333333333333329,112.33333333333333,203.66666666666666,null,34.333333333333336,27.333333333333332,61.666666666666664,null,2084.45846751207,3194.8593524298199,2436.1531842904901,null,444.424861582284,1041.83671719681,691.97599515946797,null,290.84557501248099,458.478350752864,356.99245534352502,null,762.47039986676202,909.16374342570805,768.47604517950504]
["Salazie",48.666666666666664,67.666666666666671,116.33333333333333,null,10,22.666666666666668,32.666666666666664,null,17.666666666666668,14.333333333333334,32,null,7.333333333333333,12.666666666666666,20,null,"ns","ns",6.333333333333333,null,11.666666666666666,10.666666666666666,22.333333333333332,null,27.333333333333332,42.333333333333336,69.666666666666671,null,7,11,18,null,1620.19493289653,2476.54610263928,2008.55288473469,null,336.03559002912198,819.23936697388206,576.55927790064595,null,255.61950234886399,567.99272547711303,392.088908157915,null,581.46337392018802,498.38924310654602,528.23236792341697]
["Le Tampon",620.33333333333337,690.66666666666663,1311,null,117,190,307,null,189,209.33333333333334,398.33333333333331,null,106.33333333333333,101.33333333333333,207.66666666666666,null,32,45,77,null,125.66666666666667,109.66666666666667,235.33333333333334,null,319.66666666666669,436.33333333333331,756,null,142.66666666666666,99,241.66666666666666,null,2033.62702062471,2674.4797512785099,2334.49006738157,null,432.73511540180601,812.624532076131,609.59229020566602,null,339.14269247228998,437.75496141986599,378.66329285257098,null,602.50580965634299,732.09433615322905,666.75826259955704]
["Les Trois-Bassins",56.333333333333336,57,113.33333333333333,null,8.3333333333333339,15,23.333333333333332,null,19.333333333333332,16.333333333333332,35.666666666666664,null,10.666666666666666,8.3333333333333339,19,null,"ns","ns",6.333333333333333,null,14,10.666666666666666,24.666666666666668,null,25,36,61,null,13.333333333333334,8,21.333333333333332,null,1901.4955625334601,2417.1189583770702,2112.2199564197399,null,324.72769516044002,803.48665450638396,519.06825078896304,null,357.324508147085,376.861556926552,363.85798958064902,null,667.92923415941004,585.681721642865,627.66264763208596]
["Cilaos",54,55,109,null,11.666666666666666,10.666666666666666,22.333333333333332,null,14.333333333333334,15.666666666666666,30,null,10,13.666666666666666,23.666666666666668,null,"ns",5.666666666666667,9.3333333333333339,null,10.666666666666666,8.6666666666666661,19.333333333333332,null,27.666666666666668,33.333333333333336,61,null,12,7.333333333333333,19.333333333333332,null,2278.9619483859701,2891.2713608121198,2442.5863786170698,null,513.06459915282699,834.31004292971397,550.819618411541,null,429.63388510114299,713.53652930713395,551.35736828707695,null,591.451552743246,672.82911604033302,635.92673388486003]
["NORD",{"$f":"B34+B25+B32","v":1560.0000000000002},{"$f":"C34+C25+C32","v":1682.3333333333333},{"$f":"D34+D25+D32","v":3242.3333333333335},null,{"$f":"F34+F25+F32","v":309},{"$f":"G34+G25+G32","v":456.66666666666663},{"$f":"H34+H25+H32","v":765.66666666666663},null,{"$f":"J34+J25+J32","v":488.00000000000006},{"$f":"K34+K25+K32","v":483.66666666666669},971.66666666666663,null,{"$f":"N34+N25+N32","v":261.33333333333331},{"$f":"O34+O25+O32","v":275.33333333333331},{"$f":"P34+P25+P32","v":536.66666666666674},null,{"$f":"R34+R25+R32","v":67.333333333333343},{"$f":"S34+S25+S32","v":90.666666666666671},157.99999999999997,null,{"$f":"V34+V25+V32","v":331.33333333333331},{"$f":"W34+W25+W32","v":309.66666666666669},641,null,{"$f":"Z34+Z25+Z32","v":834.33333333333337},{"$f":"AA34+AA25+AA32","v":1047.3333333333335},1881.6666666666667,null,{"$f":"AD34+AD25+AD32","v":323.66666666666669},{"$f":"AE34+AE25+AE32","v":233.66666666666669},557.33333333333337]
["EST",{"$f":"B16+B20+B23+B24+B33+B35","v":898.66666666666652},{"$f":"C16+C20+C23+C24+C33+C35","v":1072.6666666666667},{"$f":"D16+D20+D23+D24+D33+D35","v":1971.333333333333},null,{"$f":"F16+F20+F23+F24+F33+F35","v":158},{"$f":"G16+G20+G23+G24+G33+G35","v":292.66666666666669},{"$f":"H16+H20+H23+H24+H33+H35","v":450.66666666666669},null,{"$f":"J16+J20+J23+J24+J33+J35","v":349.66666666666669},{"$f":"K16+K20+K23+K24+K33+K35","v":356},705.66666666666663,null,{"$f":"N16+N20+N23+N24+N33+N35","v":123.66666666666667},{"$f":"O16+O20+O23+O24+O33+O35","v":137.66666666666666},{"$f":"P16+P20+P23+P24+P33+P35","v":261.33333333333337},null,{"$f":"R43-(R42+R41+R39)","v":33.666666666666657},{"$f":"S43-(S42+S41+S39)","v":48.333333333333314},{"$f":"T43-(T42+T41+T39)","v":83},null,{"$f":"V16+V20+V23+V24+V33+V35","v":208.33333333333331},{"$f":"W16+W20+W23+W24+W33+W35","v":200},408.33333333333337,null,{"$f":"Z16+Z20+Z23+Z24+Z33+Z35","v":506.66666666666674},{"$f":"AA16+AA20+AA23+AA24+AA33+AA35","v":680.00000000000011},1186.6666666666667,null,{"$f":"AD16+AD20+AD23+AD24+AD33+AD35","v":148.33333333333331},{"$f":"AE16+AE20+AE23+AE24+AE33+AE35","v":143.66666666666669},292]
["OUEST",{"$f":"B21+B22+B27+B29+B37","v":1652.3333333035309},{"$f":"C21+C22+C27+C29+C37","v":1831},{"$f":"D21+D22+D27+D29+D37","v":3483.3333333035312},null,{"$f":"F21+F22+F27+F29+F37","v":330.99999999999994},{"$f":"G21+G22+G27+G29+G37","v":525},{"$f":"H21+H22+H27+H29+H37","v":856.00000000000011},null,{"$f":"J21+J22+J27+J29+J37","v":568.33333333333337},{"$f":"K21+K22+K27+K29+K37","v":505.99999999999994},1074.3333333333335,null,{"$f":"N21+N22+N27+N29+N37","v":267.66666666666669},{"$f":"O21+O22+O27+O29+O37","v":268.33333333333331},{"$f":"P21+P22+P27+P29+P37","v":536},null,67,89,{"$f":"T21+T22+T27+T29+T37","v":156.00000000000003},null,{"$f":"V21+V22+V27+V29+V37","v":386.66666666666663},{"$f":"W21+W22+W27+W29+W37","v":334.66666666666669},721.33333333333337,null,{"$f":"Z21+Z22+Z27+Z29+Z37","v":869.33333330353094},{"$f":"AA21+AA22+AA27+AA29+AA37","v":1129.3333333333335},1998.6666666368642,null,{"$f":"AD21+AD22+AD27+AD29+AD37","v":327.33333333333331},{"$f":"AE21+AE22+AE27+AE29+AE37","v":275.66666666666663},603,null,1997.2724081612,2644.0211042593,2283.3553066802401,null,462.31241298890097,849.89203635652905,638.00433846903502,null,321.11621012092201,424.40923944747402,363.32577633284399,null,645.14854483939303,643.80086962697203,642.31852575147104]
["SUD",{"$f":"B15+B17+B18+B19+B26+B28+B30+B31+B36+B38","v":2414.6666666666665},{"$f":"C15+C17+C18+C19+C26+C28+C30+C31+C36+C38","v":2693.333333333333},{"$f":"D15+D17+D18+D19+D26+D28+D30+D31+D36+D38","v":5108},null,{"$f":"F15+F17+F18+F19+F26+F28+F30+F31+F36+F38","v":474.00000000000006},{"$f":"G15+G17+G18+G19+G26+G28+G30+G31+G36+G38","v":731.66666666666674},{"$f":"H15+H17+H18+H19+H26+H28+H30+H31+H36+H38","v":1205.6666666666667},null,{"$f":"J15+J17+J18+J19+J26+J28+J30+J31+J36+J38","v":756.00000000000011},{"$f":"K15+K17+K18+K19+K26+K28+K30+K31+K36+K38","v":780.33333333333337},1536.333333333333,null,{"$f":"N15+N17+N18+N19+N26+N28+N30+N31+N36+N38","v":387.66666666666663},{"$f":"O15+O17+O18+O19+O26+O28+O30+O31+O36+O38","v":417.33333333333331},{"$f":"P15+P17+P18+P19+P26+P28+P30+P31+P36+P38","v":804.99999999999989},null,120,172,291,null,{"$f":"V15+V17+V18+V19+V26+V28+V30+V31+V36+V38","v":510.33333333333343},{"$f":"W15+W17+W18+W19+W26+W28+W30+W31+W36+W38","v":443.00000000000006},953.33333333333337,null,{"$f":"Z15+Z17+Z18+Z19+Z26+Z28+Z30+Z31+Z36+Z38","v":1232.6666666666667},{"$f":"AA15+AA17+AA18+AA19+AA26+AA28+AA30+AA31+AA36+AA38","v":1666.3333333333333},2899,null,{"$f":"AD15+AD17+AD18+AD19+AD26+AD28+AD30+AD31+AD36+AD38","v":548.66666666666674},{"$f":"AE15+AE17+AE18+AE19+AE26+AE28+AE30+AE31+AE36+AE38","v":409.66666666666669},958.33333333333337,null,1964.51517169922,2631.5899304623299,2260.3552410693501,null,429.53507254186502,797.03207498919005,593.94040507781494,null,312.35701041820499,443.89382882072101,366.80555049136501,null,589.66019267289801,683.41599232408896,633.78571638589904]
["LA REUNION",{"$f":"SUM(B39:B42)+B44","v":6546.6666666368637},{"$f":"SUM(C39:C42)+C44","v":7300.333333333333},13845.999999970198,null,{"$f":"SUM(F39:F42)+F44","v":1276},{"$f":"SUM(G39:G42)+G44","v":2011},{"$f":"SUM(H39:H42)+H44","v":3287},null,{"$f":"SUM(J39:J42)+J44","v":2169},{"$f":"SUM(K39:K42)+K44","v":2132},{"$f":"SUM(L39:L42)+L44","v":4301},null,{"$f":"SUM(N39:N42)+N44","v":1044.3333333333335},{"$f":"SUM(O39:O42)+O44","v":1103.6666666666665},{"$f":"SUM(P39:P42)+P44","v":2148},null,288,400,688,null,{"$f":"SUM(V39:V42)+V44","v":1440.6666666666667},{"$f":"SUM(W39:W42)+W44","v":1289.3333333333335},{"$f":"SUM(X39:X42)+X44","v":2730.0000000000005},null,{"$f":"SUM(Z39:Z42)+Z44","v":3455.9999999701977},{"$f":"SUM(AA39:AA42)+AA44","v":4535},{"$f":"SUM(AB39:AB42)+AB44","v":7990.9999999701977},null,{"$f":"SUM(AD39:AD42)+AD44","v":1351},{"$f":"SUM(AE39:AE42)+AE44","v":1068.6666666666667},{"$f":"SUM(AF39:AF42)+AF44","v":2419.666666666667},null,1949.66681294567,2646.8855953094899,2254.9585921408502,null,430.33539817560001,809.85502885266897,599.82415780271594,null,308.095834270208,442.99512163359202,362.57543587756601,null,613.903761545218,691.30565940777694,648.24760066557803]
[null,21,21,41,null,4,5,9,null,7,6,13,null,4,5,9,null,null,null,null,null,4,2,6,null,13,12,25,null,3,6,9]

{"sheet":"Inscriptions en ALD","index":15,"n_rows":44,"n_cols":48,"rows_kept":44,"cut":false,"hidden":false,"merged":[[12,17,12,19],[12,21,12,23],[12,25,12,27],[12,0,13,0],[12,1,12,3],[12,5,12,7],[12,9,12,11],[12,13,12,15],[12,29,12,31],[12,33,12,35],[12,37,12,39],[12,41,12,43],[12,45,12,47]]}
[]
[]
[]
[]
[]
[]
[]
[]
[]
[null,"Sources et année : Selon l'indicatateur, reportez-vous au tableau de la page SOMMAIRE (cliquez sur l'intitulé de chaque colonne)"]
[null,"*Nombre d'inscrits en ALD non ventilés par commune mais inclus dans le total régional"]
[]
["COMMUNE","Nombre d'inscrits en ALD",null,null,null,"Nombre d'inscrits en ALD pour maladies cardiovasculaires",null,null,null,"Nombre d'inscrits en ALD pour diabète",null,null,null,"Nombre d'inscrits en ALD pour tumeurs",null,null,null,"Nombre d'inscrits en ALD chez les moins de 15 ans",null,null,null,"Nombre d'inscrits en ALD chez les 15-44 ans",null,null,null,"Nombre d'inscrits en ALD chez les 45-74 ans",null,null,null,"Nombre d'inscrits en ALD chez les 75 ans et plus",null,null,null,"Taux standaridisé d'inscrits en ALD (pour 10 000 habitants)",null,null,null,"Taux standaridisé d'inscrits en ALD pour maladies cardiovasculaires (pour 10 000 habitants)",null,null,null,"Taux standaridisé d'inscrits en ALD pour tumeur (pour 10 000 habitants)",null,null,null,"Taux standaridisé d'inscrits en ALD pour diabète (pour 10 000 habitants)"]
[null,"Femmes","Hommes","Ensemble",null,"Femmes","Hommes","Ensemble",null,"Femmes","Hommes","Ensemble",null,"Femmes","Hommes","Ensemble",null,"Femmes","Hommes","Ensemble",null,"Femmes","Hommes","Ensemble",null,"Femmes","Hommes","Ensemble",null,"Femmes","Hommes","Ensemble",null,"Femmes","Hommes","Ensemble",null,"Femmes","Hommes","Ensemble",null,"Femmes","Hommes","Ensemble",null,"Femmes","Hommes","Ensemble"]
["Les Avirons",828,879,1707,null,127,226,353,null,317,269,586,null,83,109,192,null,22,27,49,null,97,110,207,null,488,565,1053,null,221,177,398,null,1647.5505179584973,1938.6979344133276,1785.3512616363962,null,279.91413754458586,532.6804720884586,400.68882941566477,null,146.22342216939842,241.85590157858405,188.53465956815523,null,626.78067246544697,566.14640631724092,601.15439503794096]
["Bras-Panon",1261,1037,2298,null,136,232,368,null,518,367,885,null,100,72,172,null,33,43,76,null,145,136,281,null,786,697,1483,null,297,161,458,null,2404.9352922212483,2440.777533515045,2407.4661437995351,null,277.06409195062434,611.04562551735683,415.58693836564385,null,198.32347242385134,191.17021241879391,185.68931791034822,null,980.48550687395402,774.75086538376763,895.16144799476467]
["Entre-Deux",538,535,1073,null,71,131,202,null,209,191,400,null,56,59,115,null,14,18,32,null,56,59,115,null,301,356,657,null,167,102,269,null,1634.2557745552108,1868.1984699313311,1746.2512109269846,null,214.7098391063484,477.94024203399033,334.43256536437269,null,181.63520714163155,240.32537987965989,205.92217248225421,null,646.11854173563825,663.67729613030235,654.29242429777366]
["L'Étang-Salé",1118,1136,2254,null,154,262,416,null,399,384,783,null,112,121,233,null,28,48,76,null,141,135,276,null,651,719,1370,null,298,234,532,null,1865.0439249746003,2011.2353199303043,1935.7089926922238,null,274.87489714849272,516.98337574506979,387.4283158891003,null,181.95012657992194,246.04435431581936,207.64780965307094,null,663.74403166126069,651.84982591913365,659.028692166013]
["Petite-Île",1224,1248,2472,null,159,296,455,null,457,425,882,null,94,92,186,null,24,45,69,null,158,154,312,null,745,841,1586,null,297,208,505,null,2028.4322790169892,2151.2755295266084,2092.948713894401,null,280.14183551179059,528.43979680814266,401.3975240546888,null,152.06188330508795,158.96244741791648,155.57066723462884,null,733.97096277665742,708.7157994579436,722.31479803204559]
["La Plaine-des-Palmistes",491,545,1036,null,73,134,207,null,188,204,392,null,45,41,86,null,12,24,36,null,77,73,150,null,294,358,652,null,108,90,198,null,1766.0482102407955,2330.2671732560193,2016.1051839738689,null,258.68028979358348,662.55895196353583,427.53499703393004,null,150.82771205706737,181.77998381791485,166.2951301919328,null,686.47082574299043,831.70140705497874,756.32448912380642]
["Le Port",3846,3286,7132,null,573,783,1356,null,1647,1166,2813,null,242,248,490,null,65,93,158,null,414,382,796,null,2395,2203,4598,null,972,608,1580,null,2515.3068203695702,2799.7150825661502,2633.3358760813676,null,392.83360172620365,721.50361066451501,534.16422853994584,null,176.12767249752508,248.89088883952891,203.31012503101519,null,1062.2098282098086,961.6685079957706,1016.3639377463658]
["La Possession",2215,2253,4468,null,338,533,871,null,744,694,1438,null,231,203,434,null,64,121,185,null,356,289,645,null,1328,1469,2797,null,467,374,841,null,1918.3286620913241,2131.5165742563636,2024.1141895537417,null,327.25480703277935,562.90479310851708,438.61247541290089,null,181.70293325261386,235.2686239453673,204.81815587830781,null,643.42150524055762,627.30824818421422,637.83727791365618]
["Saint-André",5248,4734,9982,null,701,1084,1785,null,2188,1631,3819,null,359,325,684,null,81,178,259,null,739,679,1418,null,3256,3079,6335,null,1172,798,1970,null,2464.7257084249313,2718.5087322539666,2559.0051338893086,null,358.82086730288086,686.8684785664376,497.50994786948576,null,178.39419794211148,217.76601654085906,189.87835895103225,null,1022.2983634570051,888.56220237842126,959.1404739124149]
["Saint-Benoît",3338,3157,6495,null,412,713,1125,null,1392,1143,2535,null,229,206,435,null,90,139,229,null,494,419,913,null,2067,2077,4144,null,687,522,1209,null,2156.5419029496952,2341.4868345240875,2239.2349886397506,null,286.40620396495655,554.98611361951407,411.11993288996945,null,152.49812915567097,176.2899112265431,160.44889748085762,null,891.28714846092328,831.06568935500229,862.40191227213904]
["Saint-Denis",13461,11866,25327,null,1969,2956,4925,null,4762,3722,8484,null,1353,1095,2448,null,255,385,640,null,1633,1497,3130,null,7703,7651,15354,null,3870,2333,6203,null,1923.0116140010059,2247.5442751006558,2055.0617258986135,null,293.31128198688469,608.76550254272865,422.04784876945939,null,194.04313255108423,224.04163878716824,200.79656509721789,null,680.80255314379383,676.84094057516654,680.45025777821672]
["Saint-Joseph",3690,3543,7233,null,554,853,1407,null,1403,1172,2575,null,299,271,570,null,73,146,219,null,421,416,837,null,2199,2305,4504,null,997,676,1673,null,2028.3722239992185,2231.1070729542189,2128.708617777394,null,314.35666271892973,563.5738108477583,431.48841471191878,null,163.40396844528303,218.46479358136347,185.13834524405308,null,767.76222261240378,718.23781620654813,748.55083190817982]
["Saint-Leu",3179,2875,6054,null,459,700,1159,null,1136,912,2048,null,261,246,507,null,70,92,162,null,430,317,747,null,1954,1968,3922,null,725,498,1223,null,2182.3361796833319,2251.2057255264144,2208.5013000224958,null,335.27873893595705,604.80773469581163,457.87043599081926,null,185.78793268056546,220.80638034339952,197.07661801304661,null,775.83626203987421,674.71356083437513,730.00954640594421]
["Saint-Louis",5023,4427,9450,null,621,1008,1629,null,2104,1598,3702,null,357,364,721,null,133,188,321,null,635,547,1182,null,2984,2871,5855,null,1271,821,2092,null,2282.3493018861063,2434.5719408368841,2349.3715614760431,null,301.32397756793438,608.57670070981726,436.81454295498048,null,166.11441789093143,226.97677576336943,190.07490927697722,null,955.45033574480624,853.70866480212123,910.66444614583111]
["Saint-Paul",10137,9742,19879,null,1415,2339,3754,null,3598,2856,6454,null,848,796,1644,null,210,278,488,null,1321,1273,2594,null,6157,6490,12647,null,2449,1701,4150,null,2196.5955291989308,2448.2383574109431,2310.155775879718,null,330.35447486537356,638.67532825950559,470.71595457846576,null,183.86090778633832,230.79631488651998,202.29272576894627,null,773.24422542078821,691.44511183245982,735.49337897174598]
["Saint-Pierre",8672,7968,16640,null,1163,1782,2945,null,3288,2571,5859,null,691,619,1310,null,163,254,417,null,1203,1151,2354,null,5222,5139,10361,null,2084,1424,3508,null,2360.7680880981484,2650.6291817242695,2491.473018992649,null,349.73485042918685,656.60130870090256,486.1831593966304,null,187.95641964142172,244.98948544714571,208.65987536313352,null,888.00339350050217,827.83628562387537,863.25055667471111]
["Saint-Philippe",514,517,1031,null,70,134,204,null,207,181,388,null,34,34,68,null,13,17,30,null,56,61,117,null,294,343,637,null,151,96,247,null,2254.3643427535189,2432.7565701121862,2345.2895248801351,null,334.10083394544858,673.89543625798115,495.48627375505708,null,144.70836891244886,186.93475974656224,160.98974999046916,null,868.65315816465989,781.46234907328778,830.79111735754464]
["Sainte-Marie",3217,3099,6316,null,439,645,1084,null,1137,955,2092,null,259,222,481,null,75,113,188,null,444,463,907,null,1963,2060,4023,null,735,463,1198,null,2496.2080370100648,2657.8161011542543,2582.1955103799332,null,384.62854051968998,615.5917264504028,494.76317022574017,null,206.39550664778832,236.90346006544283,218.50383894404959,null,885.31179583858614,828.15600837116256,860.01051030060432]
["Sainte-Rose",656,605,1261,null,53,117,170,null,308,223,531,null,46,58,104,null,8,16,24,null,78,81,159,null,432,399,831,null,138,109,247,null,2157.1211104129275,2116.9277364198119,2135.3100518203628,null,177.50540033773004,422.59615280241775,294.05373490894362,null,142.15119256414511,234.75555260864456,181.99534173385413,null,998.84098663090128,733.34602746175665,871.9455703847276]
["Sainte-Suzanne",2032,1858,3890,null,284,421,705,null,832,695,1527,null,172,122,294,null,36,59,95,null,281,252,533,null,1267,1264,2531,null,448,283,731,null,2207.0826667782471,2510.5198003361775,2326.3206854917316,null,343.5697982049233,625.57172677678204,466.93360186082595,null,177.5563919736241,196.45930866405541,182.94686974649949,null,893.98101775170346,881.05362266542556,884.83797569269268]
["Salazie",725,646,1371,null,91,161,252,null,266,196,462,null,57,48,105,null,12,12,24,null,91,92,183,null,435,439,874,null,187,103,290,null,2373.4487493118709,2240.8851710585905,2313.3415332058867,null,303.29419258935667,580.33306136884949,433.63340834689745,null,184.97676269895396,186.79585143372225,179.50179097534638,null,870.84520949304647,664.95358247687079,776.42390665205551]
["Le Tampon",6997,6770,13767,null,1011,1642,2653,null,2573,2275,4848,null,623,583,1206,null,165,306,471,null,981,817,1798,null,4104,4367,8471,null,1747,1280,3027,null,1992.8653292131828,2320.721404162447,2139.5029516410932,null,305.56295462661114,601.17335639589589,438.06717381464426,null,179.99248738696434,235.05742609256913,200.41821326158015,null,733.84658748172126,765.63260424173222,748.98955319877814]
["Les Trois-Bassins",677,637,1314,null,72,112,184,null,294,228,522,null,64,43,107,null,6,23,29,null,85,91,176,null,422,433,855,null,164,90,254,null,2223.5445795226515,2361.8249871549601,2294.6032490743805,null,250.47127030704655,462.19524521990922,350.10334975332302,null,186.80323439527646,208.99550810248718,194.47429117661514,null,954.42734682386174,817.42350152067297,892.98448858515826]
["Cilaos",671,582,1253,null,98,131,229,null,246,190,436,null,47,50,97,null,20,18,38,null,71,64,135,null,352,388,740,null,228,112,340,null,2575.3237954471988,2729.4929995833204,2602.7717911313912,null,373.41057157914781,681.50068732996169,491.93031805294316,null,186.62882754039967,270.0341271283562,216.69497154647087,null,947.23282499177049,811.31857770429383,891.44153214213679]
["NORD",{"$f":"B34+B25+B32","v":18710},{"$f":"C34+C25+C32","v":16823},{"$f":"D34+D25+D32","v":35533},null,{"$f":"F34+F25+F32","v":2692},{"$f":"G34+G25+G32","v":4022},6714,null,{"$f":"J34+J25+J32","v":6731},{"$f":"K34+K25+K32","v":5372},12103,null,{"$f":"N34+N25+N32","v":1784},{"$f":"O34+O25+O32","v":1439},3223,null,602,969,1571,null,{"$f":"V34+V25+V32","v":2358},{"$f":"W34+W25+W32","v":2212},4570,null,{"$f":"Z34+Z25+Z32","v":10933},{"$f":"AA34+AA25+AA32","v":10975},21908,null,{"$f":"AD34+AD25+AD32","v":5053},{"$f":"AE34+AE25+AE32","v":3079},8132,null,2027.662143885831,2334.5078551651836,2156.3659389071131,null,309.18637390919957,611.61432264367841,436.02659471343441,null,194.09272108919998,223.80030046836558,201.7342926933153,null,729.54481744049519,718.82709212885334,726.01764368814156]
["EST",{"$f":"B16+B20+B23+B24+B33+B35","v":11719},{"$f":"C16+C20+C23+C24+C33+C35","v":10724},{"$f":"D16+D20+D23+D24+D33+D35","v":22443},null,{"$f":"F16+F20+F23+F24+F33+F35","v":1466},{"$f":"G16+G20+G23+G24+G33+G35","v":2441},3907,null,{"$f":"J16+J20+J23+J24+J33+J35","v":4860},{"$f":"K16+K20+K23+K24+K33+K35","v":3764},8624,null,{"$f":"N16+N20+N23+N24+N33+N35","v":836},{"$f":"O16+O20+O23+O24+O33+O35","v":750},1586,null,415,607,1022,null,{"$f":"V16+V20+V23+V24+V33+V35","v":1624},{"$f":"W16+W20+W23+W24+W33+W35","v":1480},3104,null,{"$f":"Z16+Z20+Z23+Z24+Z33+Z35","v":7270},{"$f":"AA16+AA20+AA23+AA24+AA33+AA35","v":7049},14319,null,{"$f":"AD16+AD20+AD23+AD24+AD33+AD35","v":2589},{"$f":"AE16+AE20+AE23+AE24+AE33+AE35","v":1783},4372,null,2288.884949016724,2458.9018405054167,2364.9389766360705,null,306.46814283362875,603.12168882893593,439.89228531855866,null,168.36168942761975,197.48045966382156,177.58779848334262,null,944.26466707290751,826.77618756315303,891.96534259165048]
["OUEST",{"$f":"B21+B22+B27+B29+B37","v":20054},{"$f":"C21+C22+C27+C29+C37","v":18793},{"$f":"D21+D22+D27+D29+D37","v":38847},null,{"$f":"F21+F22+F27+F29+F37","v":2857},{"$f":"G21+G22+G27+G29+G37","v":4467},7324,null,{"$f":"J21+J22+J27+J29+J37","v":7419},{"$f":"K21+K22+K27+K29+K37","v":5856},13275,null,{"$f":"N21+N22+N27+N29+N37","v":1646},{"$f":"O21+O22+O27+O29+O37","v":1536},3182,null,655,1067,1722,null,{"$f":"V21+V22+V27+V29+V37","v":2606},{"$f":"W21+W22+W27+W29+W37","v":2352},4958,null,{"$f":"Z21+Z22+Z27+Z29+Z37","v":12256},{"$f":"AA21+AA22+AA27+AA29+AA37","v":12563},24819,null,{"$f":"AD21+AD22+AD27+AD29+AD37","v":4777},{"$f":"AE21+AE22+AE27+AE29+AE37","v":3271},8048,null,2207.4296872486925,2420.8332655605518,2303.6507763313753,null,338.14723529943933,629.14028579513013,470.22090790382248,null,183.01077785211544,231.55521882980887,201.63584196396869,null,809.59264756489847,724.82454974846803,771.25173045673705]
["SUD",{"$f":"B15+B17+B18+B19+B26+B28+B30+B31+B36+B38","v":29275},{"$f":"C15+C17+C18+C19+C26+C28+C30+C31+C36+C38","v":27605},{"$f":"D15+D17+D18+D19+D26+D28+D30+D31+D36+D38","v":56880},null,{"$f":"F15+F17+F18+F19+F26+F28+F30+F31+F36+F38","v":4028},{"$f":"G15+G17+G18+G19+G26+G28+G30+G31+G36+G38","v":6465},10493,null,{"$f":"J15+J17+J18+J19+J26+J28+J30+J31+J36+J38","v":11203},{"$f":"K15+K17+K18+K19+K26+K28+K30+K31+K36+K38","v":9256},20459,null,{"$f":"N15+N17+N18+N19+N26+N28+N30+N31+N36+N38","v":2396},{"$f":"O15+O17+O18+O19+O26+O28+O30+O31+O36+O38","v":2302},4698,null,1693,2683,4376,null,{"$f":"V15+V17+V18+V19+V26+V28+V30+V31+V36+V38","v":3819},{"$f":"W15+W17+W18+W19+W26+W28+W30+W31+W36+W38","v":3514},7333,null,{"$f":"Z15+Z17+Z18+Z19+Z26+Z28+Z30+Z31+Z36+Z38","v":17340},{"$f":"AA15+AA17+AA18+AA19+AA26+AA28+AA30+AA31+AA36+AA38","v":17894},35234,null,{"$f":"AD15+AD17+AD18+AD19+AD26+AD28+AD30+AD31+AD36+AD38","v":7461},{"$f":"AE15+AE17+AE18+AE19+AE26+AE28+AE30+AE31+AE36+AE38","v":5130},12591,null,2126.5550522919289,2359.3569284351302,2234.7189743375543,null,312.46980827232676,596.52371137177192,441.52866752050494,null,174.68672216280416,229.67669085772366,195.91374698572037,null,810.39818448687856,768.37852013455472,793.31675183196512]
["LA REUNION",{"$f":"SUM(B39:B42)+B44","v":80804},{"$f":"SUM(C39:C42)+C44","v":75026},155830,null,{"$f":"SUM(F39:F42)+F44","v":11186},{"$f":"SUM(G39:G42)+G44","v":17649},{"$f":"SUM(H39:H42)+H44","v":28835},null,{"$f":"SUM(J39:J42)+J44","v":30523},{"$f":"SUM(K39:K42)+K44","v":24553},{"$f":"SUM(L39:L42)+L44","v":55076},null,{"$f":"SUM(N39:N42)+N44","v":6734},{"$f":"SUM(O39:O42)+O44","v":6113},{"$f":"SUM(P39:P42)+P44","v":12847},null,{"$f":"SUM(R39:R42)+R44","v":3386},{"$f":"SUM(S39:S42)+S44","v":5366},{"$f":"SUM(T39:T42)+T44","v":8752},null,{"$f":"SUM(V39:V42)+V44","v":10609},{"$f":"SUM(W39:W42)+W44","v":9732},{"$f":"SUM(X39:X42)+X44","v":20341},null,{"$f":"SUM(Z39:Z42)+Z44","v":48411},{"$f":"SUM(AA39:AA42)+AA44","v":49197},{"$f":"SUM(AB39:AB42)+AB44","v":97608},null,{"$f":"SUM(AD39:AD42)+AD44","v":20091},{"$f":"SUM(AE39:AE42)+AE44","v":13414},{"$f":"SUM(AF39:AF42)+AF44","v":33505},null,2169.5122431719874,2412.5741245337763,2278.6543399111501,null,321.12100829854768,616.55164296946066,452.81010571759742,null,183.3068936453837,227.56676961836203,199.07928186184012,null,816.41780360327039,762.60089271887227,793.5813294183821]
[null,1046,1081,2127,null,143,254,397,null,310,305,615,null,72,86,158,null,21,40,61,null,202,174,376,null,612,716,1328,null,211,151,362]